From mboxrd@z Thu Jan  1 00:00:00 1970
Return-Path: <test-report-bounces@dpdk.org>
Received: from mails.dpdk.org (mails.dpdk.org [217.70.189.124])
	by inbox.dpdk.org (Postfix) with ESMTP id 318E8465FC
	for <public@inbox.dpdk.org>; Tue, 22 Apr 2025 15:17:43 +0200 (CEST)
Received: from mails.dpdk.org (localhost [127.0.0.1])
	by mails.dpdk.org (Postfix) with ESMTP id 14E4F402E7;
	Tue, 22 Apr 2025 15:17:43 +0200 (CEST)
Received: from mail-il1-f227.google.com (mail-il1-f227.google.com
 [209.85.166.227])
 by mails.dpdk.org (Postfix) with ESMTP id 62B1B402E6
 for <test-report@dpdk.org>; Tue, 22 Apr 2025 15:17:41 +0200 (CEST)
Received: by mail-il1-f227.google.com with SMTP id
 e9e14a558f8ab-3d812103686so14783695ab.0
 for <test-report@dpdk.org>; Tue, 22 Apr 2025 06:17:41 -0700 (PDT)
DKIM-Signature: v=1; a=rsa-sha256; c=relaxed/relaxed;
 d=iol.unh.edu; s=unh-iol; t=1745327860; x=1745932660; darn=dpdk.org;
 h=references:in-reply-to:cc:to:from:subject:message-id:date:from:to
 :cc:subject:date:message-id:reply-to;
 bh=XTEnfnTSx7HDE4k2bUieEP2EU0QyZHMOUOK1kuULHRs=;
 b=d9DibMZWt3ZdCcmCh5h4ssnyIWX4oJ6pYBux4vba4WoeG1tdmi18FE9olrs+ZbGdFI
 G3kaIR0bDRJBdHAtbYxAdrfmVdw9badKINVEUgaR/xiRo3llUSPpT0oVZuALXxiLHH4Z
 RwEvLK3HQ8PNxUKxeHdDa3Y0PK0HQa8Jdf2jo=
X-Google-DKIM-Signature: v=1; a=rsa-sha256; c=relaxed/relaxed;
 d=1e100.net; s=20230601; t=1745327860; x=1745932660;
 h=references:in-reply-to:cc:to:from:subject:message-id:date
 :x-gm-message-state:from:to:cc:subject:date:message-id:reply-to;
 bh=XTEnfnTSx7HDE4k2bUieEP2EU0QyZHMOUOK1kuULHRs=;
 b=fXRks4qs+RH7UtfBxEhQ93nSC8g9Oky5YJknH1M3e11WMyYChs1iyXvT1a8u7wJqwY
 oD09Np6YNW/xSdKWuUMSfDF5fWuXtP9QzV1JSel9kdHJqYxg+evU1VnOXPxrWUlXeB/9
 WozyMgE2UhgrKpXwRt9KOImaHARrYqj1wweA5wvKrG7syU/JVKj+i3L8NvS2CVypiuEO
 tCwgKvXUd4r9dpYWVGCosoe0a5IOSao0+KgpmH6r3q+RgNivZAYl1MVdADX/Ucrbn+/B
 lNL8eYmpcWs+wuDN0rW1RcUVya3x9k6Mw9VJGNeYmcHWj04lda4thFPHVuaxWLY0znh8
 bQvA==
X-Gm-Message-State: AOJu0YwwbQQlIxFvrjRjL3jRHU1Ip7ZgsdDMc9kmcARNA9sZArQBxVd7
 fijGgNx43x6LvR3eLPpdPrCz+FaLNy5uPNSvM0yBGUViPj7cDboV2pL3CEmHzQoVeq3lGvmjmcH
 8RQDR/7EH7lFzUrVpIIbt+rEiAQ3Cgd1spCp7N0fMwb1BoVVPVaxdGZ6e
X-Gm-Gg: ASbGncsiyZhZA1o95oTRm68d3o9IkSJMCI8UaqdG34S7bc5Y3Zo/fGk8p92YwcKuW1s
 GuLS34GzR3h1Hnkcl5IbmLdBIGn74mVVLerbyNbqaoLbZF7cDjRwMq0lrVaUlUaeovoJx1yZPr0
 /oJFKQx+rmav5YxNODukCCLwjWnowhVZz4CgBiOK2f8ol/SQCVbDaMG84s9/SBBrMuKKmkd4O9Q
 AUPy1sauUWaiiQe2FqNPnqVWYZ/6KMwqlQCbpirehKdGEDtnYK4wj45BANcvAIw+W2cbkiKYm1Q
 WrBm5s0R/hwRJ2EnxOX6jN4FlWWY2f1jwfl96n2OY3JcV2Ch
X-Google-Smtp-Source: AGHT+IGX0CVjcMmjwBpnedV7f9hWGvMdJTn+viCyXh6PxWmlOQXEFhS03fN6qSQUD9yHvbHYJQSXMpf1AfCy
X-Received: by 2002:a05:6e02:1607:b0:3d4:2acc:81fa with SMTP id
 e9e14a558f8ab-3d8b694994cmr155171635ab.2.1745327860404; 
 Tue, 22 Apr 2025 06:17:40 -0700 (PDT)
Received: from postal.iol.unh.edu (postal.iol.unh.edu.
 [2606:4100:3880:1234::84]) by smtp-relay.gmail.com with ESMTPS id
 e9e14a558f8ab-3d821d6eb1bsm5135185ab.41.2025.04.22.06.17.40
 (version=TLS1_2 cipher=ECDHE-ECDSA-AES128-GCM-SHA256 bits=128/128);
 Tue, 22 Apr 2025 06:17:40 -0700 (PDT)
X-Relaying-Domain: iol.unh.edu
Date: Tue, 22 Apr 2025 06:17:40 -0700 (PDT)
Message-ID: <680796f4.050a0220.2ad331.d20cSMTPIN_ADDED_MISSING@mx.google.com>
Received: from [172.21.0.5] (unknown [172.18.0.240])
 by postal.iol.unh.edu (Postfix) with ESMTP id D5FD16052471;
 Tue, 22 Apr 2025 09:17:39 -0400 (EDT)
Subject: |SUCCESS| pw153072 [PATCH] ethdev_trace.h: Update the trace point fu
From: dpdklab@iol.unh.edu
To: Test Report <test-report@dpdk.org>
Cc: dpdk-test-reports@iol.unh.edu
In-Reply-To: <20250422113523.867473-1-changqing.li@windriver.com>
References: <20250422113523.867473-1-changqing.li@windriver.com>
Content-Type: text/plain
X-BeenThere: test-report@dpdk.org
X-Mailman-Version: 2.1.29
Precedence: list
List-Id: automatic DPDK test reports <test-report.dpdk.org>
List-Unsubscribe: <https://mails.dpdk.org/options/test-report>,
 <mailto:test-report-request@dpdk.org?subject=unsubscribe>
List-Archive: <http://mails.dpdk.org/archives/test-report/>
List-Post: <mailto:test-report@dpdk.org>
List-Help: <mailto:test-report-request@dpdk.org?subject=help>
List-Subscribe: <https://mails.dpdk.org/listinfo/test-report>,
 <mailto:test-report-request@dpdk.org?subject=subscribe>
Errors-To: test-report-bounces@dpdk.org

Test-Label: iol-sample-apps-testing
Test-Status: SUCCESS
http://dpdk.org/patch/153072

_Testing PASS_

Submitter:  <changqing.li@windriver.com>
Date: Tuesday, April 22 2025 11:35:23 
DPDK git baseline: Repo:dpdk
  Branch: master
  CommitID:e1079be7f8cd78c0952a2b52404814c926dde2a8

153072 --> testing pass

Upstream job id: ACVP-FIPS-testing#9606

Test environment and result as below:

+--------------------+----------------------+----------------------+
|    Environment     | compressdev_zlib_pmd | dpdk_fips_validation |
+====================+======================+======================+
| Ubuntu 22.04 (ARM) | PASS                 | SKIPPED              |
+--------------------+----------------------+----------------------+
| Ubuntu 22.04       | PASS                 | SKIPPED              |
+--------------------+----------------------+----------------------+
| Ubuntu 20.04       | SKIPPED              | PASS                 |
+--------------------+----------------------+----------------------+


Ubuntu 22.04 (ARM)
	Kernel: 5.15.0-97-generic
	Compiler: gcc gcc (Ubuntu 11.4.0-1ubuntu1~22.04) 11.4.0

Ubuntu 22.04
	Kernel: 5.15.0-100-generic
	Compiler: gcc gcc (Ubuntu 11.4.0-1ubuntu1~22.04) 11.4.0

Ubuntu 20.04
	Kernel: Depends on container host
	Compiler: gcc (Ubuntu 9.4.0-1ubuntu1~20.04.2) 9.4.0

To view detailed results, visit:
https://lab.dpdk.org/results/dashboard/patchsets/33049/

UNH-IOL DPDK Community Lab

To manage your email subscriptions, visit: 
https://lab.dpdk.org/results/dashboard/preferences/subscriptions/