From mboxrd@z Thu Jan 1 00:00:00 1970 Return-Path: Received: from mails.dpdk.org (mails.dpdk.org [217.70.189.124]) by inbox.dpdk.org (Postfix) with ESMTP id B41BC465FC for ; Tue, 22 Apr 2025 15:34:18 +0200 (CEST) Received: from mails.dpdk.org (localhost [127.0.0.1]) by mails.dpdk.org (Postfix) with ESMTP id 87370402E7; Tue, 22 Apr 2025 15:34:18 +0200 (CEST) Received: from mail-il1-f226.google.com (mail-il1-f226.google.com [209.85.166.226]) by mails.dpdk.org (Postfix) with ESMTP id 79FFC402E6 for ; Tue, 22 Apr 2025 15:34:17 +0200 (CEST) Received: by mail-il1-f226.google.com with SMTP id e9e14a558f8ab-3d812103686so14839045ab.0 for ; Tue, 22 Apr 2025 06:34:17 -0700 (PDT) DKIM-Signature: v=1; a=rsa-sha256; c=relaxed/relaxed; d=iol.unh.edu; s=unh-iol; t=1745328856; x=1745933656; darn=dpdk.org; h=references:in-reply-to:cc:to:from:subject:message-id:date:from:to :cc:subject:date:message-id:reply-to; bh=Ni8GSm7ORntXGeCUFOEVYMT/OMbiXtrYhu1QCoIuZb0=; b=HjR9elCU00dSlEs9gQ5COXGvdREouM3K3CM/VMw/iLz6zQuplmNX7rxAklygQzcliu LB0pgWC+AHDAFCSVuLeTrPNbotufhFZmM2CGPmY/GyLdT2jQwx9pnlbTrbHUgYfcaPaA qhpIGOE5JJ7BPu8xlG2KaIYtumxKpA4ZuZVTg= X-Google-DKIM-Signature: v=1; a=rsa-sha256; c=relaxed/relaxed; d=1e100.net; s=20230601; t=1745328856; x=1745933656; h=references:in-reply-to:cc:to:from:subject:message-id:date :x-gm-message-state:from:to:cc:subject:date:message-id:reply-to; bh=Ni8GSm7ORntXGeCUFOEVYMT/OMbiXtrYhu1QCoIuZb0=; b=AawY181g3L8JzLS3TYkuMCYeqCv8Ks6P98bVZdBOeM9HXl/xHKYts8PvnuIZEhFw1J 0SN/DKzmmDSJpW3cm510zGk4B5zOsmpYUQTbSsW6zunv0U+OcTTPpSiTmSzrsKLqfXnD CGkRjG759KEHlDtpDaM49harmlnaqbT8H3DhJrmXUe+ezkzem4PuKKg5TLUaQ+yg7B++ R2BXNzGLlRAAgspGNFetWxd5gXVJ2z4iBz5Av+JM50cn14MjSP0L7Xps1xbAbleZ5PbV 6O2SwDnYCEd7p2XEdJQRgLhmO8gzVSorBqWqHCtfxDW8rWe0sFCTjuwZC0MDDU47J98q fF7g== X-Gm-Message-State: AOJu0YwgqvPzPECv3k6i60RzAnOW4zVzUSAvlGC7Mb8/5ECitZHxkz6g +6kmRlkIHvaBp8rm0hkImfGWaARhXc0v3+Zfi6eXgmoBbcJpOb43OZzxfODh6j4fgtDc69cbA43 ULckd01WVCy2j3K/fYkjD7tHMBlntSRztdKMNWVNo X-Gm-Gg: ASbGncvGa267JlqvVj5Nnv7+Ufv0doK4Usn6jfpbO9XTZ0qrn3K7jjaa2Bsx0JgqIUH l2O85uIfo9FEhmLT1wIxN87xq8VPjcHjH+ZfdYA63B9T+skAa9uL7df01L2vc1V4SqG3SvUU8eH 9q438fV+o6FgkU7MqTOu1n1o09NmMJSED0EYLPjsQCaDfPJzsaZ9+EtTAUJUeTv5el747Wu7g// lmSCkB4zkCMxPCGigGcNKoV1KClwKW7LUs/Db0+uKc8IRictSfoq0GsKuS8nxsOfiEKHkZAtVAj uetd/FukrlBVodjuYeP/dqZuNdlaj4nkRtAN X-Google-Smtp-Source: AGHT+IGW3rxj09L3CC5MLtTXr7xKdvVcGdK4G7goJcoLXavXN8Fz1OxN2oLO33QyLq4Dnnlw7DQs0fe6RuSr X-Received: by 2002:a05:6e02:3787:b0:3d8:122f:9f07 with SMTP id e9e14a558f8ab-3d821ecf5e3mr170825745ab.10.1745328856571; Tue, 22 Apr 2025 06:34:16 -0700 (PDT) Received: from postal.iol.unh.edu (postal.iol.unh.edu. [132.177.123.84]) by smtp-relay.gmail.com with ESMTPS id 8926c6da1cb9f-4f6a395fe16sm374806173.67.2025.04.22.06.34.16 (version=TLS1_2 cipher=ECDHE-ECDSA-AES128-GCM-SHA256 bits=128/128); Tue, 22 Apr 2025 06:34:16 -0700 (PDT) X-Relaying-Domain: iol.unh.edu Date: Tue, 22 Apr 2025 06:34:16 -0700 (PDT) Message-ID: <68079ad8.050a0220.105ae7.4a40SMTPIN_ADDED_MISSING@mx.google.com> Received: from [172.17.0.5] (unknown [172.18.0.217]) by postal.iol.unh.edu (Postfix) with ESMTP id 13FB76052471; Tue, 22 Apr 2025 09:34:16 -0400 (EDT) Subject: |SUCCESS| pw153072 [PATCH] ethdev_trace.h: Update the trace point fu From: dpdklab@iol.unh.edu To: Test Report Cc: dpdk-test-reports@iol.unh.edu In-Reply-To: <20250422113523.867473-1-changqing.li@windriver.com> References: <20250422113523.867473-1-changqing.li@windriver.com> Content-Type: text/plain X-BeenThere: test-report@dpdk.org X-Mailman-Version: 2.1.29 Precedence: list List-Id: automatic DPDK test reports List-Unsubscribe: , List-Archive: List-Post: List-Help: List-Subscribe: , Errors-To: test-report-bounces@dpdk.org Test-Label: iol-unit-amd64-testing Test-Status: SUCCESS http://dpdk.org/patch/153072 _Testing PASS_ Submitter: Date: Tuesday, April 22 2025 11:35:23 DPDK git baseline: Repo:dpdk Branch: master CommitID:e1079be7f8cd78c0952a2b52404814c926dde2a8 153072 --> testing pass Upstream job id: Generic-VM-Unit-Test-DPDK#28112 Test environment and result as below: +---------------------+----------------+ | Environment | dpdk_unit_test | +=====================+================+ | Fedora 40 | PASS | +---------------------+----------------+ | CentOS Stream 10 | PASS | +---------------------+----------------+ | Debian 12 | PASS | +---------------------+----------------+ | CentOS Stream 9 | PASS | +---------------------+----------------+ | Fedora 41 (Clang) | PASS | +---------------------+----------------+ | RHEL8 | PASS | +---------------------+----------------+ | Ubuntu 20.04 | PASS | +---------------------+----------------+ | Ubuntu 22.04 | PASS | +---------------------+----------------+ | Fedora 41 | PASS | +---------------------+----------------+ | Fedora 40 (Clang) | PASS | +---------------------+----------------+ | RHEL9 | PASS | +---------------------+----------------+ | Ubuntu 24.04 | PASS | +---------------------+----------------+ | Windows Server 2022 | PASS | +---------------------+----------------+ Fedora 40 Kernel: Depends on container host Compiler: gcc 14.2.1 20240912 (Red Hat 14.2.1-3) CentOS Stream 10 Kernel: Depends on container host Compiler: gcc 14.2.1 20241104 (Red Hat 14.2.1-6) Debian 12 Kernel: Depends on container host Compiler: gcc (Debian 12.2.0-14) 12.2.0 CentOS Stream 9 Kernel: Depends on container host Compiler: gcc 11.5.0 20240719 (Red Hat 11.5.0-2) Fedora 41 (Clang) Kernel: Depends on container host Compiler: clang 19.1.5 (Fedora 19.1.5-1.fc41) RHEL8 Kernel: Depends on container host Compiler: gcc 8.5.0 20210514 (Red Hat 8.5.0-22) Ubuntu 20.04 Kernel: Depends on container host Compiler: gcc (Ubuntu 9.4.0-1ubuntu1~20.04.2) 9.4.0 Ubuntu 22.04 Kernel: Depends on container host Compiler: gcc (Ubuntu 11.4.0-1ubuntu1~22.04) 11.4.0 Fedora 41 Kernel: Depends on container host Compiler: gcc 14.2.1 20240912 (Red Hat 14.2.1-3) Fedora 40 (Clang) Kernel: Depends on container host Compiler: clang 18.1.8 (Fedora 18.1.8-1.fc40) RHEL9 Kernel: Depends on container host Compiler: gcc 11.5.0 20240719 (Red Hat 11.5.0-2) Ubuntu 24.04 Kernel: Depends on container host Compiler: gcc (Ubuntu 13.3.0-6ubuntu2~24.04) 13.3.0 Windows Server 2022 Kernel: 10.0.20348.2031 Compiler: clang 15.0.7, gcc 14.1.0 (MinGW), and MSVC VS 19.39.33521 To view detailed results, visit: https://lab.dpdk.org/results/dashboard/patchsets/33049/ UNH-IOL DPDK Community Lab To manage your email subscriptions, visit: https://lab.dpdk.org/results/dashboard/preferences/subscriptions/