From mboxrd@z Thu Jan  1 00:00:00 1970
Return-Path: <test-report-bounces@dpdk.org>
Received: from mails.dpdk.org (mails.dpdk.org [217.70.189.124])
	by inbox.dpdk.org (Postfix) with ESMTP id 72C57465FD
	for <public@inbox.dpdk.org>; Tue, 22 Apr 2025 16:50:52 +0200 (CEST)
Received: from mails.dpdk.org (localhost [127.0.0.1])
	by mails.dpdk.org (Postfix) with ESMTP id 6DB09402AF;
	Tue, 22 Apr 2025 16:50:52 +0200 (CEST)
Received: from mail-pf1-f225.google.com (mail-pf1-f225.google.com
 [209.85.210.225])
 by mails.dpdk.org (Postfix) with ESMTP id E9F8940292
 for <test-report@dpdk.org>; Tue, 22 Apr 2025 16:50:50 +0200 (CEST)
Received: by mail-pf1-f225.google.com with SMTP id
 d2e1a72fcca58-73712952e1cso5022757b3a.1
 for <test-report@dpdk.org>; Tue, 22 Apr 2025 07:50:50 -0700 (PDT)
DKIM-Signature: v=1; a=rsa-sha256; c=relaxed/relaxed;
 d=iol.unh.edu; s=unh-iol; t=1745333450; x=1745938250; darn=dpdk.org;
 h=references:in-reply-to:cc:to:from:subject:message-id:date:from:to
 :cc:subject:date:message-id:reply-to;
 bh=suVBc8oqQzCPbQ8Nx/cvJXCzbUNDE0Qr3yMLtvEfZd4=;
 b=Hjl+xJyMCzEZ0872IJLCMrFi9XdBOPlvm2++4nT81C9LUHUjLDGk1PalYp6ds0XDRx
 l3sx7uoCoXYaqW6MDQlSVHkzjctHBW6l5nPuegN8rKem4Zo1bxiE/pPTQMHzQDRsmRdU
 2ridp86PoC1vJ1yekVTWz2Q5oVCP/NDXXOSrI=
X-Google-DKIM-Signature: v=1; a=rsa-sha256; c=relaxed/relaxed;
 d=1e100.net; s=20230601; t=1745333450; x=1745938250;
 h=references:in-reply-to:cc:to:from:subject:message-id:date
 :x-gm-message-state:from:to:cc:subject:date:message-id:reply-to;
 bh=suVBc8oqQzCPbQ8Nx/cvJXCzbUNDE0Qr3yMLtvEfZd4=;
 b=iAqpLmj3hXBPLPzVkg/sUj2u8rbCJ7GfH5gBja16PsmVZrE1ViYiKWTXV//T/yyE4z
 ocL3R2Svqa6IoEG4wVfsvR6BOO9kYLGQhWK2aEwyQKhe5rYOcjCq7Y2KwbFI9l41A1+X
 t2qCWYEpOLExpaDZE7tk3vNiqME2czc8kbEUNj0lOlKtP14RP6shH7ixQJi6fSuaM8BV
 4YfMTHLcUku/XacL9itCX7IeZ6EwL34ahQs8cPdWfpt5xcSDsQ3scESK5EXS7o86glr3
 ifmGgkXVDrgVZrOMYa+sdDxd152cv+nWX1qVYfC7Wn8vufwT+riauPE1NlPJUpBYFotG
 aCJA==
X-Gm-Message-State: AOJu0Yz8MbJ+8N+x5UZTnQ9WngTGqh7dvkjc+SEJl40wkK6fsBuZRHdF
 A/VtyeNGTTeU88Xayce7jlcV+abD97pk3y3f4qrB9g+cIxvhcVzGjYK1vZZnvKG9obdJBQnqnBW
 25Cr0lNkH3QzpsDoOTzJo4OQkF0r32h7pEBvwYQD5
X-Gm-Gg: ASbGncv0774QKCzc+/m4OBoMerwdtrMdxpm+CQW2QsQTgEfoFO9ke4zqJ6IULbEc7dt
 fmQWCxlnISjntlTdgGEkrT9Nbq6wTKd52L10JDx2A+fQGv3/iDL4FYi79pXvzhK2lRJtxvzBdjR
 I4xiGGYZrIyS5A3GZucq7Cp+lkQHqMXYk16uzNpTwHFVCsl+0IgK2ehTPNDkd2P979cWZ71A8mg
 h6FcPNAangmaWSxeZQfgIoVr4lSuByb1GZ7zOPtZcneNjsGy3KdR0uGvrcLcL6dA6j4BEqaaTzH
 a7CiokfApHTtzynvA3dZ4n2vDNuHw4IHY7II
X-Google-Smtp-Source: AGHT+IEk9XMhYTGspGE7vlccP1f9GqowDzbdVVM6+tBDeVTWG1+XnlgtCfyHABGAI3rrufzrqjkavZwrTGHU
X-Received: by 2002:a05:6a20:d818:b0:1f5:7eb5:72dc with SMTP id
 adf61e73a8af0-203cbc22facmr23161089637.3.1745333450139; 
 Tue, 22 Apr 2025 07:50:50 -0700 (PDT)
Received: from postal.iol.unh.edu (postal.iol.unh.edu. [132.177.123.84])
 by smtp-relay.gmail.com with ESMTPS id
 41be03b00d2f7-b0db1462b2dsm294983a12.30.2025.04.22.07.50.50
 (version=TLS1_2 cipher=ECDHE-ECDSA-AES128-GCM-SHA256 bits=128/128);
 Tue, 22 Apr 2025 07:50:50 -0700 (PDT)
X-Relaying-Domain: iol.unh.edu
Date: Tue, 22 Apr 2025 07:50:50 -0700 (PDT)
Message-ID: <6807acca.630a0220.b8dcd.ff94SMTPIN_ADDED_MISSING@mx.google.com>
Received: from [172.21.0.7] (unknown [172.18.0.240])
 by postal.iol.unh.edu (Postfix) with ESMTP id 4FE486052472;
 Tue, 22 Apr 2025 10:50:49 -0400 (EDT)
Subject: |SUCCESS| pw153071 [PATCH] net/mlx5: fix out-of-bounds write in Rx s
From: dpdklab@iol.unh.edu
To: Test Report <test-report@dpdk.org>
Cc: dpdk-test-reports@iol.unh.edu
In-Reply-To: <20250422063754.3429965-1-patrykochal@gmail.com>
References: <20250422063754.3429965-1-patrykochal@gmail.com>
Content-Type: text/plain
X-BeenThere: test-report@dpdk.org
X-Mailman-Version: 2.1.29
Precedence: list
List-Id: automatic DPDK test reports <test-report.dpdk.org>
List-Unsubscribe: <https://mails.dpdk.org/options/test-report>,
 <mailto:test-report-request@dpdk.org?subject=unsubscribe>
List-Archive: <http://mails.dpdk.org/archives/test-report/>
List-Post: <mailto:test-report@dpdk.org>
List-Help: <mailto:test-report-request@dpdk.org?subject=help>
List-Subscribe: <https://mails.dpdk.org/listinfo/test-report>,
 <mailto:test-report-request@dpdk.org?subject=subscribe>
Errors-To: test-report-bounces@dpdk.org

Test-Label: iol-abi-testing
Test-Status: SUCCESS
http://dpdk.org/patch/153071

_Testing PASS_

Submitter: patryk ochal <patrykochal@gmail.com>
Date: Tuesday, April 22 2025 06:37:54 
DPDK git baseline: Repo:dpdk
  Branch: master
  CommitID:edd3f4b1265e6da707c46ca9b6c39d332647baea

153071 --> testing pass

Upstream job id: Generic-DPDK-Compile-ABI#124066

Test environment and result as below:

+-------------------+----------+
|    Environment    | abi_test |
+===================+==========+
| CentOS Stream 9   | PASS     |
+-------------------+----------+
| CentOS Stream 10  | PASS     |
+-------------------+----------+
| Debian 12         | PASS     |
+-------------------+----------+
| Fedora 40 (Clang) | PASS     |
+-------------------+----------+
| Fedora 40         | PASS     |
+-------------------+----------+
| Fedora 41 (Clang) | PASS     |
+-------------------+----------+
| Fedora 41         | PASS     |
+-------------------+----------+
| openSUSE Leap 15  | PASS     |
+-------------------+----------+
| RHEL8             | PASS     |
+-------------------+----------+
| RHEL9             | PASS     |
+-------------------+----------+
| Ubuntu 22.04      | PASS     |
+-------------------+----------+
| Ubuntu 24.04      | PASS     |
+-------------------+----------+


CentOS Stream 9
	Kernel: Depends on container host
	Compiler: gcc 11.5.0 20240719 (Red Hat 11.5.0-2)

CentOS Stream 10
	Kernel: Depends on container host
	Compiler: gcc 14.2.1 20241104 (Red Hat 14.2.1-6)

Debian 12
	Kernel: Depends on container host
	Compiler: gcc (Debian 12.2.0-14) 12.2.0

Fedora 40 (Clang)
	Kernel: Depends on container host
	Compiler: clang 18.1.8 (Fedora 18.1.8-1.fc40)

Fedora 40
	Kernel: Depends on container host
	Compiler: gcc 14.2.1 20240912 (Red Hat 14.2.1-3)

Fedora 41 (Clang)
	Kernel: Depends on container host
	Compiler: clang 19.1.5 (Fedora 19.1.5-1.fc41)

Fedora 41
	Kernel: Depends on container host
	Compiler: gcc 14.2.1 20240912 (Red Hat 14.2.1-3)

openSUSE Leap 15
	Kernel: Depends on container host
	Compiler: gcc (SUSE Linux) 7.5.0

RHEL8
	Kernel: Depends on container host
	Compiler: gcc 8.5.0 20210514 (Red Hat 8.5.0-22)

RHEL9
	Kernel: Depends on container host
	Compiler: gcc 11.5.0 20240719 (Red Hat 11.5.0-2)

Ubuntu 22.04
	Kernel: Depends on container host
	Compiler: gcc (Ubuntu 11.4.0-1ubuntu1~22.04) 11.4.0

Ubuntu 24.04
	Kernel: Depends on container host
	Compiler: gcc (Ubuntu 13.3.0-6ubuntu2~24.04) 13.3.0

To view detailed results, visit:
https://lab.dpdk.org/results/dashboard/patchsets/33048/

UNH-IOL DPDK Community Lab

To manage your email subscriptions, visit: 
https://lab.dpdk.org/results/dashboard/preferences/subscriptions/