From mboxrd@z Thu Jan  1 00:00:00 1970
Return-Path: <test-report-bounces@dpdk.org>
Received: from mails.dpdk.org (mails.dpdk.org [217.70.189.124])
	by inbox.dpdk.org (Postfix) with ESMTP id C2B5D465FD
	for <public@inbox.dpdk.org>; Tue, 22 Apr 2025 17:48:51 +0200 (CEST)
Received: from mails.dpdk.org (localhost [127.0.0.1])
	by mails.dpdk.org (Postfix) with ESMTP id BF10240156;
	Tue, 22 Apr 2025 17:48:51 +0200 (CEST)
Received: from mail-il1-f227.google.com (mail-il1-f227.google.com
 [209.85.166.227])
 by mails.dpdk.org (Postfix) with ESMTP id 336B740151
 for <test-report@dpdk.org>; Tue, 22 Apr 2025 17:48:50 +0200 (CEST)
Received: by mail-il1-f227.google.com with SMTP id
 e9e14a558f8ab-3d81ca1d436so43310455ab.2
 for <test-report@dpdk.org>; Tue, 22 Apr 2025 08:48:50 -0700 (PDT)
DKIM-Signature: v=1; a=rsa-sha256; c=relaxed/relaxed;
 d=iol.unh.edu; s=unh-iol; t=1745336929; x=1745941729; darn=dpdk.org;
 h=references:in-reply-to:cc:to:from:subject:message-id:date:from:to
 :cc:subject:date:message-id:reply-to;
 bh=1vTLYZsdT1mYPDlAi0HyZd2OAmVkvDIAQAW9cc2XJYQ=;
 b=e4g5bmQ6smJolwbGcDf2Hb2r4/eJdMgxNdknqqa7aPtYsKxQvJs59fxvLD+/ZSdYSg
 m492TYiYBK0zRZB/uzpJ99KhXufZzEd0Xrh9RMdzW5Y6DVojmDgrnVsuitYc4JcK7Czm
 AVZgcluEBm9rNrUtpOE8CUn+L3qL4h2ALNEu4=
X-Google-DKIM-Signature: v=1; a=rsa-sha256; c=relaxed/relaxed;
 d=1e100.net; s=20230601; t=1745336929; x=1745941729;
 h=references:in-reply-to:cc:to:from:subject:message-id:date
 :x-gm-message-state:from:to:cc:subject:date:message-id:reply-to;
 bh=1vTLYZsdT1mYPDlAi0HyZd2OAmVkvDIAQAW9cc2XJYQ=;
 b=vNRtYT9Wzb4+m43MLF4CGdmUfmf2d7sG5ucwTnZIfCNcghClgumwGfavjLcwIhF6Dh
 XBsav8TOgQpM4pXCalpaKtlDN333V8pfazFp7KFTa8StKtfa00xulw5w0EiBlH2X6b0V
 c2jtPSRne4NH/mZkdekvPosAxSfb3Cf4TEx+78NDF28OHkYndU1gESwH8sbvFPRmik/7
 z+h34aZJUR9QtC1/fcwFY3zPqwuIvET6OEUQsDLZPpGykpthHifqgAp5bIy5NcbZIYK+
 rjDrZzv4ryKuhr8jqMtlQymLapTW5et/5CtKHPZacBKb24HqCWDqZQqI5uI9jdH6GAAz
 RLyQ==
X-Gm-Message-State: AOJu0Yw4xBB8TUv5SqY9sILw9glERY1Ndy1VeviOUsstxROFRA2YBn/E
 eyJjKE3WBm5GW1rYQrAOEcF4XpHBVxXRgLkDhvpQGpD2yk5TOiGh3rxhaptqNsvVF+FEZiKakwc
 doYTwzeiXjedlmqA/7ADcMZ3yQ5EOwGl8Wb2vSVnQ
X-Gm-Gg: ASbGnctuHSn8weN7iiV/eKbwb2PxuHGS98TdTpqHFaarbCqoVN9VQfO0sZ3j865Y3rd
 LMEaS05UqHh4KBLSsHGTiniDRTIKaE4N7Bv+bM5LZblSg4u8nrG3eZb53ntiw1hSh28i24cbID1
 aW+NAJFsWq/3Ej7rbFtNBitf2YGd+XfSeBWVcz6CWaE0sGfQY15EJFdivSEuic1/IFFxDCWoy6e
 3+6eOFYkZYPqRX3N5n5APa80lkqfYXW3nXrbyUJEfPaIDZf0tQqdIL881VXypqLE1Xud3Bky98y
 RCbLsC9WfGj4j05gBJ9WJafQubS+S0iv6hpG
X-Google-Smtp-Source: AGHT+IHyCgFoFiTc9E1E5cJwyq3GGezZ9bpjcvXpfGTOiJoNUap4x6B9d0GkH7deTr2VD/mvk4vd5nL3Q8NV
X-Received: by 2002:a92:cd88:0:b0:3d3:d28e:eae9 with SMTP id
 e9e14a558f8ab-3d88eddadbfmr183548335ab.7.1745336929617; 
 Tue, 22 Apr 2025 08:48:49 -0700 (PDT)
Received: from postal.iol.unh.edu (postal.iol.unh.edu. [132.177.123.84])
 by smtp-relay.gmail.com with ESMTPS id
 e9e14a558f8ab-3d821d6db3fsm4767155ab.37.2025.04.22.08.48.49
 (version=TLS1_2 cipher=ECDHE-ECDSA-AES128-GCM-SHA256 bits=128/128);
 Tue, 22 Apr 2025 08:48:49 -0700 (PDT)
X-Relaying-Domain: iol.unh.edu
Date: Tue, 22 Apr 2025 08:48:49 -0700 (PDT)
Message-ID: <6807ba61.050a0220.2ad87.a8c5SMTPIN_ADDED_MISSING@mx.google.com>
Received: from [172.17.0.5] (unknown [172.18.0.217])
 by postal.iol.unh.edu (Postfix) with ESMTP id 31AEF6052471;
 Tue, 22 Apr 2025 11:48:49 -0400 (EDT)
Subject: |SUCCESS| pw153072 [PATCH] ethdev_trace.h: Update the trace point fu
From: dpdklab@iol.unh.edu
To: Test Report <test-report@dpdk.org>
Cc: dpdk-test-reports@iol.unh.edu
In-Reply-To: <20250422113523.867473-1-changqing.li@windriver.com>
References: <20250422113523.867473-1-changqing.li@windriver.com>
Content-Type: text/plain
X-BeenThere: test-report@dpdk.org
X-Mailman-Version: 2.1.29
Precedence: list
List-Id: automatic DPDK test reports <test-report.dpdk.org>
List-Unsubscribe: <https://mails.dpdk.org/options/test-report>,
 <mailto:test-report-request@dpdk.org?subject=unsubscribe>
List-Archive: <http://mails.dpdk.org/archives/test-report/>
List-Post: <mailto:test-report@dpdk.org>
List-Help: <mailto:test-report-request@dpdk.org?subject=help>
List-Subscribe: <https://mails.dpdk.org/listinfo/test-report>,
 <mailto:test-report-request@dpdk.org?subject=subscribe>
Errors-To: test-report-bounces@dpdk.org

Test-Label: iol-compile-arm64-testing
Test-Status: SUCCESS
http://dpdk.org/patch/153072

_Testing PASS_

Submitter:  <changqing.li@windriver.com>
Date: Tuesday, April 22 2025 11:35:23 
DPDK git baseline: Repo:dpdk
  Branch: master
  CommitID:e1079be7f8cd78c0952a2b52404814c926dde2a8

153072 --> testing pass

Upstream job id: Generic-DPDK-Compile-Meson#381942

Test environment and result as below:

+----------------------------------------+--------------------+
|              Environment               | dpdk_meson_compile |
+========================================+====================+
| Ubuntu 20.04 ARM GCC Cross Compile     | PASS               |
+----------------------------------------+--------------------+
| RHEL9 (ARM)                            | PASS               |
+----------------------------------------+--------------------+
| Debian 12 with MUSDK                   | PASS               |
+----------------------------------------+--------------------+
| Fedora 40 (ARM)                        | PASS               |
+----------------------------------------+--------------------+
| Fedora 40 (ARM Clang)                  | PASS               |
+----------------------------------------+--------------------+
| Ubuntu 20.04 ARM SVE                   | PASS               |
+----------------------------------------+--------------------+
| Ubuntu 24.04 (ARM)                     | PASS               |
+----------------------------------------+--------------------+
| Ubuntu 22.04 (ARM)                     | PASS               |
+----------------------------------------+--------------------+
| Fedora 41 (ARM Clang)                  | PASS               |
+----------------------------------------+--------------------+
| Fedora 41 (ARM)                        | PASS               |
+----------------------------------------+--------------------+
| Ubuntu 20.04 (ARM)                     | PASS               |
+----------------------------------------+--------------------+
| CentOS Stream 9 (ARM)                  | PASS               |
+----------------------------------------+--------------------+
| CentOS Stream 10 (ARM)                 | PASS               |
+----------------------------------------+--------------------+
| Debian 12 (arm)                        | PASS               |
+----------------------------------------+--------------------+
| Ubuntu 20.04 aarch32 GCC Cross Compile | PASS               |
+----------------------------------------+--------------------+
| Ubuntu 20.04 ARM Clang Cross Compile   | PASS               |
+----------------------------------------+--------------------+


Ubuntu 20.04 ARM GCC Cross Compile
	Kernel: Depends on container host
	Compiler: aarch64-linux-gnu-gcc (Ubuntu 9.4.0-1ubuntu1~20.04.2) 9.4.0

RHEL9 (ARM)
	Kernel: Depends on container host
	Compiler: gcc 11.5.0 20240719 (Red Hat 11.5.0-2)

Debian 12 with MUSDK
	Kernel: Depends on container host
	Compiler: gcc (Debian 12.2.0-14) 12.2.0

Fedora 40 (ARM)
	Kernel: Depends on container host
	Compiler: gcc 14.2.1 20240912 (Red Hat 14.2.1-3)

Fedora 40 (ARM Clang)
	Kernel: Depends on container host
	Compiler: clang 18.1.8 (Fedora 18.1.8-1.fc40)

Ubuntu 20.04 ARM SVE
	Kernel: Depends on container host
	Compiler: gcc (Ubuntu 10.5.0-1ubuntu1~20.04) 10.5.0

Ubuntu 24.04 (ARM)
	Kernel: Depends on container host
	Compiler: gcc (Ubuntu 13.3.0-6ubuntu2~24.04) 13.3.0

Ubuntu 22.04 (ARM)
	Kernel: Depends on container host
	Compiler: gcc (Ubuntu 11.4.0-1ubuntu1~22.04) 11.4.0

Fedora 41 (ARM Clang)
	Kernel: Depends on container host
	Compiler: clang 19.1.5 (Fedora 19.1.5-1.fc41)

Fedora 41 (ARM)
	Kernel: Depends on container host
	Compiler: gcc 14.2.1 20240912 (Red Hat 14.2.1-3)

Ubuntu 20.04 (ARM)
	Kernel: Depends on container host
	Compiler: gcc (Ubuntu 9.4.0-1ubuntu1~20.04.2) 9.4.0

CentOS Stream 9 (ARM)
	Kernel: Depends on container host
	Compiler: gcc 11.5.0 20240719 (Red Hat 11.5.0-2)

CentOS Stream 10 (ARM)
	Kernel: Depends on container host
	Compiler: gcc 14.2.1 20241104 (Red Hat 14.2.1-6)

Debian 12 (arm)
	Kernel: Depends on container host
	Compiler: gcc (Debian 12.2.0-14) 12.2.0

Ubuntu 20.04 aarch32 GCC Cross Compile
	Kernel: Depends on container host
	Compiler: gcc 9.4.0

Ubuntu 20.04 ARM Clang Cross Compile
	Kernel: Depends on container host
	Compiler: clang 10.0.0-4ubuntu1

To view detailed results, visit:
https://lab.dpdk.org/results/dashboard/patchsets/33049/

UNH-IOL DPDK Community Lab

To manage your email subscriptions, visit: 
https://lab.dpdk.org/results/dashboard/preferences/subscriptions/