From mboxrd@z Thu Jan  1 00:00:00 1970
Return-Path: <test-report-bounces@dpdk.org>
Received: from mails.dpdk.org (mails.dpdk.org [217.70.189.124])
	by inbox.dpdk.org (Postfix) with ESMTP id DC80646601
	for <public@inbox.dpdk.org>; Tue, 22 Apr 2025 20:53:20 +0200 (CEST)
Received: from mails.dpdk.org (localhost [127.0.0.1])
	by mails.dpdk.org (Postfix) with ESMTP id B196D40156;
	Tue, 22 Apr 2025 20:53:20 +0200 (CEST)
Received: from mail-yb1-f227.google.com (mail-yb1-f227.google.com
 [209.85.219.227])
 by mails.dpdk.org (Postfix) with ESMTP id ECF3E40151
 for <test-report@dpdk.org>; Tue, 22 Apr 2025 20:53:18 +0200 (CEST)
Received: by mail-yb1-f227.google.com with SMTP id
 3f1490d57ef6-e6405e4ab4dso197661276.0
 for <test-report@dpdk.org>; Tue, 22 Apr 2025 11:53:18 -0700 (PDT)
DKIM-Signature: v=1; a=rsa-sha256; c=relaxed/relaxed;
 d=iol.unh.edu; s=unh-iol; t=1745347998; x=1745952798; darn=dpdk.org;
 h=references:in-reply-to:cc:to:from:subject:message-id:date:from:to
 :cc:subject:date:message-id:reply-to;
 bh=9YgS7aoSebjcvMDm2A0jAY0CFwn0u+8Qac54pUw/AtA=;
 b=EKrui/fQfVqERxfISKXESOkTs7bL95/76h6ADe7wR4i/O51AUx18GNTxHzb7rFTx1W
 wW4n1hBDT1tIakcxJs7Yoabt1NohGo9WwFsKouCYNsAcNoZ4vZhDin1IfQlN9lyCBzF9
 UtanWaMw353KiavgvECU3ZkwoZE6crXLJVNk8=
X-Google-DKIM-Signature: v=1; a=rsa-sha256; c=relaxed/relaxed;
 d=1e100.net; s=20230601; t=1745347998; x=1745952798;
 h=references:in-reply-to:cc:to:from:subject:message-id:date
 :x-gm-message-state:from:to:cc:subject:date:message-id:reply-to;
 bh=9YgS7aoSebjcvMDm2A0jAY0CFwn0u+8Qac54pUw/AtA=;
 b=JT4sFJsqhJVsUvFTXzVul4XJBs9IC/xNG8G4lShlFWOWodCwCzM43Mwk3Qc9tefjx8
 QJ+IP7l5j5khCQwxDvtTRzmvyys0CJI5EF0gKPLeZctx/WNTiUy2KqFRnszdDmmfQQ34
 V1UefWY90kO1s1OY2CtFwgSlMz5ivCq/3c2Ekd352m1K2ygZ8le1pNI6rItAcNiA7W7B
 /D45g84KYdaUhmcKe8vU7YV8pGKYzUIlgySFDdKTbQEk/hamyuACUOQxTlwUqhIfTsWm
 FJ7k2Yt3hRikhI6mqBln/7SWuEVhY6h4h56hiBAGo3VlWxxD5n2IfKPw0mYBoNzx6m7J
 AJwA==
X-Gm-Message-State: AOJu0YxayZhhtN3pHUGmCZxmk6YlpFFm9oUTtJ7MHcY/D+QoCU3/HjiX
 uMvJN1XBwb5zdprZ+37yBrPhOeYCfQ047LPmmjosh2s+TJ0AF4u0OPNAmyS62l/Vl0X34soNuS7
 KumTrxpx4hMR0lJjwvZRT4r5D0+bAK4U6gigjMnZVUM221T2LWzQz2e5d
X-Gm-Gg: ASbGnctIKopVvaCxVYE6Gfc19MSHPJxCdXT3M+s3yIA+s47RlGH1v2Sl9J8XXnXKFY3
 oiv6KF1ZPr6pM6JORZlY2UiPeDvjpvZtvfD57QEOadPKIRLZW6idztf9kYCrNgW98FqM32ijoyj
 nauhyDehP2t9SFsFz4t9pGuh/iXoZ16BYiFBAvxeM3P77DzK2xLLpg9YqAO21NlRCdvVkhQ2tEA
 I6eQAY4XyQ7pMHzXK4YC4YhhszRw/9SyFM2JwxGcBi5C+v9jKSPd+wPCGm2YO7jBMfS3XBN2o3s
 MFC4/iW/gAUNiPE6BkcLmkGywUpOeZrXY3z2f7MC6re97D0m
X-Google-Smtp-Source: AGHT+IG0Tfm8Ya545+/BCpTBW9l3uMoV4gXkZx0xWgO5QblubQkrm09kzoovHcrG3ysHknUtjQluli5t8Yp+
X-Received: by 2002:a05:6902:461b:b0:e63:3e25:d71a with SMTP id
 3f1490d57ef6-e72ecf12276mr159517276.15.1745347998124; 
 Tue, 22 Apr 2025 11:53:18 -0700 (PDT)
Received: from postal.iol.unh.edu (postal.iol.unh.edu.
 [2606:4100:3880:1234::84]) by smtp-relay.gmail.com with ESMTPS id
 3f1490d57ef6-e7295b3259bsm237913276.23.2025.04.22.11.53.18
 (version=TLS1_2 cipher=ECDHE-ECDSA-AES128-GCM-SHA256 bits=128/128);
 Tue, 22 Apr 2025 11:53:18 -0700 (PDT)
X-Relaying-Domain: iol.unh.edu
Date: Tue, 22 Apr 2025 11:53:18 -0700 (PDT)
Message-ID: <6807e59e.050a0220.3b3495.ca36SMTPIN_ADDED_MISSING@mx.google.com>
Received: from [172.17.0.4] (unknown [172.18.0.217])
 by postal.iol.unh.edu (Postfix) with ESMTP id A824D6052471;
 Tue, 22 Apr 2025 14:53:17 -0400 (EDT)
Subject: |SUCCESS| pw153070 [PATCH] [v2] ethdev: add support for flow action 
From: dpdklab@iol.unh.edu
To: Test Report <test-report@dpdk.org>
Cc: dpdk-test-reports@iol.unh.edu
In-Reply-To: <20250422055331.1270825-1-kirankumark@marvell.com>
References: <20250422055331.1270825-1-kirankumark@marvell.com>
Content-Type: text/plain
X-BeenThere: test-report@dpdk.org
X-Mailman-Version: 2.1.29
Precedence: list
List-Id: automatic DPDK test reports <test-report.dpdk.org>
List-Unsubscribe: <https://mails.dpdk.org/options/test-report>,
 <mailto:test-report-request@dpdk.org?subject=unsubscribe>
List-Archive: <http://mails.dpdk.org/archives/test-report/>
List-Post: <mailto:test-report@dpdk.org>
List-Help: <mailto:test-report-request@dpdk.org?subject=help>
List-Subscribe: <https://mails.dpdk.org/listinfo/test-report>,
 <mailto:test-report-request@dpdk.org?subject=subscribe>
Errors-To: test-report-bounces@dpdk.org

Test-Label: iol-compile-arm64-testing
Test-Status: SUCCESS
http://dpdk.org/patch/153070

_Testing PASS_

Submitter: Kiran Kumar Kokkilagadda <kirankumark@marvell.com>
Date: Tuesday, April 22 2025 05:53:30 
DPDK git baseline: Repo:dpdk
  Branch: master
  CommitID:3829b7150b2bacd8df97134f85ec61bfbdc3f4b1

153070 --> testing pass

Upstream job id: Generic-DPDK-Compile-Meson#382028

Test environment and result as below:

+----------------------------------------+--------------------+
|              Environment               | dpdk_meson_compile |
+========================================+====================+
| RHEL9 (ARM)                            | PASS               |
+----------------------------------------+--------------------+
| Ubuntu 20.04 ARM GCC Cross Compile     | PASS               |
+----------------------------------------+--------------------+
| Ubuntu 20.04 ARM SVE                   | PASS               |
+----------------------------------------+--------------------+
| Debian 12 with MUSDK                   | PASS               |
+----------------------------------------+--------------------+
| Fedora 41 (ARM)                        | PASS               |
+----------------------------------------+--------------------+
| Fedora 40 (ARM Clang)                  | PASS               |
+----------------------------------------+--------------------+
| Fedora 41 (ARM Clang)                  | PASS               |
+----------------------------------------+--------------------+
| Fedora 40 (ARM)                        | PASS               |
+----------------------------------------+--------------------+
| Ubuntu 20.04 (ARM)                     | PASS               |
+----------------------------------------+--------------------+
| Ubuntu 22.04 (ARM)                     | PASS               |
+----------------------------------------+--------------------+
| Ubuntu 24.04 (ARM)                     | PASS               |
+----------------------------------------+--------------------+
| CentOS Stream 9 (ARM)                  | PASS               |
+----------------------------------------+--------------------+
| CentOS Stream 10 (ARM)                 | PASS               |
+----------------------------------------+--------------------+
| Debian 12 (arm)                        | PASS               |
+----------------------------------------+--------------------+
| Ubuntu 20.04 ARM Clang Cross Compile   | PASS               |
+----------------------------------------+--------------------+
| Ubuntu 20.04 aarch32 GCC Cross Compile | PASS               |
+----------------------------------------+--------------------+


RHEL9 (ARM)
	Kernel: Depends on container host
	Compiler: gcc 11.5.0 20240719 (Red Hat 11.5.0-2)

Ubuntu 20.04 ARM GCC Cross Compile
	Kernel: Depends on container host
	Compiler: aarch64-linux-gnu-gcc (Ubuntu 9.4.0-1ubuntu1~20.04.2) 9.4.0

Ubuntu 20.04 ARM SVE
	Kernel: Depends on container host
	Compiler: gcc (Ubuntu 10.5.0-1ubuntu1~20.04) 10.5.0

Debian 12 with MUSDK
	Kernel: Depends on container host
	Compiler: gcc (Debian 12.2.0-14) 12.2.0

Fedora 41 (ARM)
	Kernel: Depends on container host
	Compiler: gcc 14.2.1 20240912 (Red Hat 14.2.1-3)

Fedora 40 (ARM Clang)
	Kernel: Depends on container host
	Compiler: clang 18.1.8 (Fedora 18.1.8-1.fc40)

Fedora 41 (ARM Clang)
	Kernel: Depends on container host
	Compiler: clang 19.1.5 (Fedora 19.1.5-1.fc41)

Fedora 40 (ARM)
	Kernel: Depends on container host
	Compiler: gcc 14.2.1 20240912 (Red Hat 14.2.1-3)

Ubuntu 20.04 (ARM)
	Kernel: Depends on container host
	Compiler: gcc (Ubuntu 9.4.0-1ubuntu1~20.04.2) 9.4.0

Ubuntu 22.04 (ARM)
	Kernel: Depends on container host
	Compiler: gcc (Ubuntu 11.4.0-1ubuntu1~22.04) 11.4.0

Ubuntu 24.04 (ARM)
	Kernel: Depends on container host
	Compiler: gcc (Ubuntu 13.3.0-6ubuntu2~24.04) 13.3.0

CentOS Stream 9 (ARM)
	Kernel: Depends on container host
	Compiler: gcc 11.5.0 20240719 (Red Hat 11.5.0-2)

CentOS Stream 10 (ARM)
	Kernel: Depends on container host
	Compiler: gcc 14.2.1 20241104 (Red Hat 14.2.1-6)

Debian 12 (arm)
	Kernel: Depends on container host
	Compiler: gcc (Debian 12.2.0-14) 12.2.0

Ubuntu 20.04 ARM Clang Cross Compile
	Kernel: Depends on container host
	Compiler: clang 10.0.0-4ubuntu1

Ubuntu 20.04 aarch32 GCC Cross Compile
	Kernel: Depends on container host
	Compiler: gcc 9.4.0

To view detailed results, visit:
https://lab.dpdk.org/results/dashboard/patchsets/33047/

UNH-IOL DPDK Community Lab

To manage your email subscriptions, visit: 
https://lab.dpdk.org/results/dashboard/preferences/subscriptions/