From mboxrd@z Thu Jan 1 00:00:00 1970 Return-Path: Received: from mails.dpdk.org (mails.dpdk.org [217.70.189.124]) by inbox.dpdk.org (Postfix) with ESMTP id 8C98846601 for ; Tue, 22 Apr 2025 21:23:10 +0200 (CEST) Received: from mails.dpdk.org (localhost [127.0.0.1]) by mails.dpdk.org (Postfix) with ESMTP id 87E8740156; Tue, 22 Apr 2025 21:23:10 +0200 (CEST) Received: from mail-pl1-f226.google.com (mail-pl1-f226.google.com [209.85.214.226]) by mails.dpdk.org (Postfix) with ESMTP id 3E1CA40151 for ; Tue, 22 Apr 2025 21:23:09 +0200 (CEST) Received: by mail-pl1-f226.google.com with SMTP id d9443c01a7336-22c33ac23edso56226495ad.0 for ; Tue, 22 Apr 2025 12:23:09 -0700 (PDT) DKIM-Signature: v=1; a=rsa-sha256; c=relaxed/relaxed; d=iol.unh.edu; s=unh-iol; t=1745349788; x=1745954588; darn=dpdk.org; h=references:in-reply-to:cc:to:from:subject:message-id:date:from:to :cc:subject:date:message-id:reply-to; bh=UKkU3EzlqD8dPEI0/SZB/IwYfqehRx6T7C96977ZreI=; b=GLvAOwEX0VrLqqdQO9Gv6D7R9VASI5QByQgtEv43mzhXmHQ0/nYnw4YcyLcVbCuutn 0vED7aJpoalYbiIHCy0oWEE0RWAvh5AiOffVrtA47DQ2v4YEZ4iPgk693kByt7RChx63 L2UvQlkxbNvOb8GywxIp5Ifsgez4PVVH+7MWc= X-Google-DKIM-Signature: v=1; a=rsa-sha256; c=relaxed/relaxed; d=1e100.net; s=20230601; t=1745349788; x=1745954588; h=references:in-reply-to:cc:to:from:subject:message-id:date :x-gm-message-state:from:to:cc:subject:date:message-id:reply-to; bh=UKkU3EzlqD8dPEI0/SZB/IwYfqehRx6T7C96977ZreI=; b=e9BVOfvjOKlfIu0m0o7s6ASWcoVVZLchOpHYOld2Ifs47TfKc+MDsrAdQO+FBW0QYV zKZ4kb7ff1TLmdkxWH+Ejumy1eo3c1DLFaOxy/wevUZ56mAni9RHOFQ/Ux2h70uL4fls C50Gj+jKQirCnS9KeGA17x66qlFXRJ7bwkXYjDcAXkjmr5Y7XJFP/H+YyPMx+16+2o6c hT4tpQEYKSVSczkvjwjXHSE+RJ2YKgbvBTuWsQafGbyskWDKwzdC1wlnWt/9YVXGGUKl 2j0EoXKIE9JgTG74gGMWzOCzvGOHuiscwbByCMH4vt13+R7Djj+BpmAdYcf2LjRHsxjQ /VsQ== X-Gm-Message-State: AOJu0YwzQApm6ZsbCIdfY1TVISpet4hnyUhxX5vHgCRFJ4NpElSBva+t x4xGb54rWoe3jhlAdBpYGe382Md5V5P57YIcQtr0m9QIiRvXUNtdkuyNYo7Z2q/St3YEoIotXNu jI1GYBCTBo4IyGI4afDmSUP+eATSRtW1k3ioDrfvT X-Gm-Gg: ASbGnctLDATDlIwQvoKsqjyntXvN0IHyAWS4sgppjgNo8LbhFL4132KsE5auw9uwxcn rMdVDBB99WKa+NPnR3o5VZNKqQiJ65rHbmybYxEnfnGDCQdXSLY0xlGW+iYT5EXGtaewbH3LjUl hCwAmz3Blq/wJJEml8KP2NctOxleHT/1rShK3DjdHkbV+Up6VFJvOSHP1ehy1OQOlEY5o6Z+Pqp 3xJgZCR9F4MWDngbWIHwH33sqbXBupeZmUy7UQDXhxtU+KnAJ4JBJWk83YRoezYFjL3foX+lwlf F7P80Sp7Qos6pZmk2Xmz5BWQovR9AXzFqLP9 X-Google-Smtp-Source: AGHT+IFivqmF4vJ3iI1PN6vOr3iPxApGOtn4Qu00Fb4buABA0j70YIccYGdS9gV1B1dPzw9ZAuwOa1GCd3nA X-Received: by 2002:a17:902:dac5:b0:224:826:279e with SMTP id d9443c01a7336-22c53630377mr225596505ad.50.1745349788040; Tue, 22 Apr 2025 12:23:08 -0700 (PDT) Received: from postal.iol.unh.edu (postal.iol.unh.edu. [132.177.123.84]) by smtp-relay.gmail.com with ESMTPS id d9443c01a7336-22c50d82569sm5255225ad.97.2025.04.22.12.23.07 (version=TLS1_2 cipher=ECDHE-ECDSA-AES128-GCM-SHA256 bits=128/128); Tue, 22 Apr 2025 12:23:08 -0700 (PDT) X-Relaying-Domain: iol.unh.edu Date: Tue, 22 Apr 2025 12:23:08 -0700 (PDT) Message-ID: <6807ec9c.170a0220.1f49ec.d252SMTPIN_ADDED_MISSING@mx.google.com> Received: from [172.17.0.5] (unknown [172.18.0.217]) by postal.iol.unh.edu (Postfix) with ESMTP id 6FD2F6052471; Tue, 22 Apr 2025 15:23:07 -0400 (EDT) Subject: |SUCCESS| pw153074-153077 [PATCH] [5/5] net/qede: fix rx_buf_size ca From: dpdklab@iol.unh.edu To: Test Report Cc: dpdk-test-reports@iol.unh.edu In-Reply-To: <20250422155143.3893525-5-edwin.brossette@6wind.com> References: <20250422155143.3893525-5-edwin.brossette@6wind.com> Content-Type: text/plain X-BeenThere: test-report@dpdk.org X-Mailman-Version: 2.1.29 Precedence: list List-Id: automatic DPDK test reports List-Unsubscribe: , List-Archive: List-Post: List-Help: List-Subscribe: , Errors-To: test-report-bounces@dpdk.org Test-Label: iol-unit-amd64-testing Test-Status: SUCCESS http://dpdk.org/patch/153077 _Testing PASS_ Submitter: Edwin Brossette Date: Tuesday, April 22 2025 15:51:43 DPDK git baseline: Repo:dpdk Branch: master CommitID:f64bb46d36a3784c22c1f2712aa24a42009264a3 153074-153077 --> testing pass Upstream job id: Generic-Unit-Test-DPDK#332789 Test environment and result as below: +-------------------+----------------+ | Environment | dpdk_unit_test | +===================+================+ | CentOS Stream 9 | PASS | +-------------------+----------------+ | Debian 12 | PASS | +-------------------+----------------+ | CentOS Stream 10 | PASS | +-------------------+----------------+ | Fedora 40 (Clang) | PASS | +-------------------+----------------+ | Fedora 41 (Clang) | PASS | +-------------------+----------------+ | Fedora 41 | PASS | +-------------------+----------------+ | Fedora 40 | PASS | +-------------------+----------------+ | RHEL8 | PASS | +-------------------+----------------+ | RHEL9 | PASS | +-------------------+----------------+ | Ubuntu 20.04 | PASS | +-------------------+----------------+ | Ubuntu 22.04 | PASS | +-------------------+----------------+ | Ubuntu 24.04 | PASS | +-------------------+----------------+ CentOS Stream 9 Kernel: Depends on container host Compiler: gcc 11.5.0 20240719 (Red Hat 11.5.0-2) Debian 12 Kernel: Depends on container host Compiler: gcc (Debian 12.2.0-14) 12.2.0 CentOS Stream 10 Kernel: Depends on container host Compiler: gcc 14.2.1 20241104 (Red Hat 14.2.1-6) Fedora 40 (Clang) Kernel: Depends on container host Compiler: clang 18.1.8 (Fedora 18.1.8-1.fc40) Fedora 41 (Clang) Kernel: Depends on container host Compiler: clang 19.1.5 (Fedora 19.1.5-1.fc41) Fedora 41 Kernel: Depends on container host Compiler: gcc 14.2.1 20240912 (Red Hat 14.2.1-3) Fedora 40 Kernel: Depends on container host Compiler: gcc 14.2.1 20240912 (Red Hat 14.2.1-3) RHEL8 Kernel: Depends on container host Compiler: gcc 8.5.0 20210514 (Red Hat 8.5.0-22) RHEL9 Kernel: Depends on container host Compiler: gcc 11.5.0 20240719 (Red Hat 11.5.0-2) Ubuntu 20.04 Kernel: Depends on container host Compiler: gcc (Ubuntu 9.4.0-1ubuntu1~20.04.2) 9.4.0 Ubuntu 22.04 Kernel: Depends on container host Compiler: gcc (Ubuntu 11.4.0-1ubuntu1~22.04) 11.4.0 Ubuntu 24.04 Kernel: Depends on container host Compiler: gcc (Ubuntu 13.3.0-6ubuntu2~24.04) 13.3.0 To view detailed results, visit: https://lab.dpdk.org/results/dashboard/patchsets/33051/ UNH-IOL DPDK Community Lab To manage your email subscriptions, visit: https://lab.dpdk.org/results/dashboard/preferences/subscriptions/