From mboxrd@z Thu Jan 1 00:00:00 1970 Return-Path: Received: from mails.dpdk.org (mails.dpdk.org [217.70.189.124]) by inbox.dpdk.org (Postfix) with ESMTP id 774C146601 for ; Tue, 22 Apr 2025 21:33:00 +0200 (CEST) Received: from mails.dpdk.org (localhost [127.0.0.1]) by mails.dpdk.org (Postfix) with ESMTP id 73D9D40156; Tue, 22 Apr 2025 21:33:00 +0200 (CEST) Received: from mail-ot1-f99.google.com (mail-ot1-f99.google.com [209.85.210.99]) by mails.dpdk.org (Postfix) with ESMTP id A945940151 for ; Tue, 22 Apr 2025 21:32:59 +0200 (CEST) Received: by mail-ot1-f99.google.com with SMTP id 46e09a7af769-72c7332128eso2826755a34.0 for ; Tue, 22 Apr 2025 12:32:59 -0700 (PDT) DKIM-Signature: v=1; a=rsa-sha256; c=relaxed/relaxed; d=iol.unh.edu; s=unh-iol; t=1745350379; x=1745955179; darn=dpdk.org; h=references:in-reply-to:cc:to:from:subject:message-id:date:from:to :cc:subject:date:message-id:reply-to; bh=QKIRCRvMuaPmxWY6FnSQZrR1Gq5uU8BQEiVFOAk5zas=; b=cs1qDUS0NQ5X2GJOLxsk9g6M9Ed7RpGQEAjsxfMvRMwiK8UIbnOs+W0ysJzSJGmuuo fOBL5atgMrHZj/C1AE1FwnH9VyszEM/RM/SE2PgeFXoAnhLcii2DsnFIR7zbpk4VZ2xt O/g2WnbKbZjhBmMaTWg5YAEqaPpO3GwCPCvIw= X-Google-DKIM-Signature: v=1; a=rsa-sha256; c=relaxed/relaxed; d=1e100.net; s=20230601; t=1745350379; x=1745955179; h=references:in-reply-to:cc:to:from:subject:message-id:date :x-gm-message-state:from:to:cc:subject:date:message-id:reply-to; bh=QKIRCRvMuaPmxWY6FnSQZrR1Gq5uU8BQEiVFOAk5zas=; b=uMe+NnZl+WmaHKaeFLsEjSICH6SEFEwvWgG5kqq9+HWwR1PakMax/uldnlM0CjckPe 3T/VzCyJ7A5u62mn6DLr+CD03wfgZgFCA/XzVHLIOfWze5d3c+Z4Dj5j1DAcGqEEBwIK lAevRhm2iObzqWUUCFBbHuVWyaYkvOCPWesCGACpzDL5hIcXR1vqdBvi4KyP2Rt5q9WA pGX/qfTdIw8hEN+y4lPCdEHcusJF1CVtQ7j8BV3gapy1EJvrAkyX1QK+iNlnhEebeqnK 8N0D7/JFQwt4JvHSeB6V3Tm9UpaCiO4sWVzFAQD2WkSLWb3n5zpmgC6FfzHf57Zaucnf XrKA== X-Gm-Message-State: AOJu0Yz+gS+dvtpVNplRlzNqhKV3lluiAPfjYyQGJynxyU8tgitdX9H8 CjoHtKKFyOj4XyaB6f+Xls5ExTHlL4alFkyBxI3jo2Q5QlkC0rs1CnNqG9O7+b/LcWIMJdQ8F5w EwZho9GCzzNKSjciYkuJkGBsZYy3Yi8a85aRd46MF X-Gm-Gg: ASbGnctfUnCj1/Iw7JECfrZ0MrHRtROdpmAk8UsHbLbeBrLaI04tNJWDkfvMn0lXFlm f8TwWukBwdeKb2nQW6+6CipdRN6RauXq9GFHDq6LyTpv7E0KNcPFkw9qpRZn3Qfc5XQz7mh4ckO 4rb9oGPk8rrrb1UMMkCCBnp4bX5JLldWHW2fF8HN2Vie9WDWzEEBQM0eBMcB4eKobrlmD6E4CNB tNJxuhoTo1sCJ85alIAzFRaCijM5jTbQOTprOWij2iaYtnwzYgnOpr+tC+O42MLiDratVAbAAQ+ KHEDRXOj4Wcek3f1QUkI7pG4dITpgzEUuElb X-Google-Smtp-Source: AGHT+IFp77oQ2Uap7qRkgE9vhiimlsNqv1RcKduChKGDun85t8PWYGb6EjN7wuByyOwEC8mDgqJMXYFgdhMA X-Received: by 2002:a05:6870:718d:b0:2c2:d2b8:e179 with SMTP id 586e51a60fabf-2d526985d80mr10065099fac.4.1745350378924; Tue, 22 Apr 2025 12:32:58 -0700 (PDT) Received: from postal.iol.unh.edu (postal.iol.unh.edu. [132.177.123.84]) by smtp-relay.gmail.com with ESMTPS id 586e51a60fabf-2d5212b5319sm325971fac.2.2025.04.22.12.32.58 (version=TLS1_2 cipher=ECDHE-ECDSA-AES128-GCM-SHA256 bits=128/128); Tue, 22 Apr 2025 12:32:58 -0700 (PDT) X-Relaying-Domain: iol.unh.edu Date: Tue, 22 Apr 2025 12:32:58 -0700 (PDT) Message-ID: <6807eeea.050a0220.1600d3.1934SMTPIN_ADDED_MISSING@mx.google.com> Received: from [172.17.0.5] (unknown [172.18.0.217]) by postal.iol.unh.edu (Postfix) with ESMTP id 5636D6052471; Tue, 22 Apr 2025 15:32:58 -0400 (EDT) Subject: |SUCCESS| pw153074-153077 [PATCH] [5/5] net/qede: fix rx_buf_size ca From: dpdklab@iol.unh.edu To: Test Report Cc: dpdk-test-reports@iol.unh.edu In-Reply-To: <20250422155143.3893525-5-edwin.brossette@6wind.com> References: <20250422155143.3893525-5-edwin.brossette@6wind.com> Content-Type: text/plain X-BeenThere: test-report@dpdk.org X-Mailman-Version: 2.1.29 Precedence: list List-Id: automatic DPDK test reports List-Unsubscribe: , List-Archive: List-Post: List-Help: List-Subscribe: , Errors-To: test-report-bounces@dpdk.org Test-Label: iol-sample-apps-testing Test-Status: SUCCESS http://dpdk.org/patch/153077 _Testing PASS_ Submitter: Edwin Brossette Date: Tuesday, April 22 2025 15:51:43 DPDK git baseline: Repo:dpdk Branch: master CommitID:f64bb46d36a3784c22c1f2712aa24a42009264a3 153074-153077 --> testing pass Upstream job id: ACVP-FIPS-testing#9610 Test environment and result as below: +--------------------+----------------------+----------------------+ | Environment | compressdev_zlib_pmd | dpdk_fips_validation | +====================+======================+======================+ | Ubuntu 22.04 (ARM) | PASS | SKIPPED | +--------------------+----------------------+----------------------+ | Ubuntu 22.04 | PASS | SKIPPED | +--------------------+----------------------+----------------------+ | Ubuntu 20.04 | SKIPPED | PASS | +--------------------+----------------------+----------------------+ Ubuntu 22.04 (ARM) Kernel: 5.15.0-97-generic Compiler: gcc gcc (Ubuntu 11.4.0-1ubuntu1~22.04) 11.4.0 Ubuntu 22.04 Kernel: 5.15.0-100-generic Compiler: gcc gcc (Ubuntu 11.4.0-1ubuntu1~22.04) 11.4.0 Ubuntu 20.04 Kernel: Depends on container host Compiler: gcc (Ubuntu 9.4.0-1ubuntu1~20.04.2) 9.4.0 To view detailed results, visit: https://lab.dpdk.org/results/dashboard/patchsets/33051/ UNH-IOL DPDK Community Lab To manage your email subscriptions, visit: https://lab.dpdk.org/results/dashboard/preferences/subscriptions/