From mboxrd@z Thu Jan 1 00:00:00 1970 Return-Path: Received: from mails.dpdk.org (mails.dpdk.org [217.70.189.124]) by inbox.dpdk.org (Postfix) with ESMTP id 9AF8246601 for ; Tue, 22 Apr 2025 21:44:09 +0200 (CEST) Received: from mails.dpdk.org (localhost [127.0.0.1]) by mails.dpdk.org (Postfix) with ESMTP id 8031940156; Tue, 22 Apr 2025 21:44:09 +0200 (CEST) Received: from mail-pl1-f226.google.com (mail-pl1-f226.google.com [209.85.214.226]) by mails.dpdk.org (Postfix) with ESMTP id BB62440151 for ; Tue, 22 Apr 2025 21:44:07 +0200 (CEST) Received: by mail-pl1-f226.google.com with SMTP id d9443c01a7336-225df540edcso2980645ad.0 for ; Tue, 22 Apr 2025 12:44:07 -0700 (PDT) DKIM-Signature: v=1; a=rsa-sha256; c=relaxed/relaxed; d=iol.unh.edu; s=unh-iol; t=1745351047; x=1745955847; darn=dpdk.org; h=references:in-reply-to:cc:to:from:subject:message-id:date:from:to :cc:subject:date:message-id:reply-to; bh=nWPwj2/CNEIKJe732dYxPCN6A0fyEiC11tmv0s08Zpo=; b=ZOnjApP3CjiZLb+mmTNbtNGcNI3Um3Tja+fJmGSH6S8el4JmAXBhtZxltkflqcne5b QoUvzsk3kmPiKRwdnO0Fs+EMFnZfRjGk3d1IzEMVr+grjYzflQEVLF/A4WkLb5+jDRKp N+4ARqVPfmQDGUhKQSbxUwftGSRoNgHlFWhFU= X-Google-DKIM-Signature: v=1; a=rsa-sha256; c=relaxed/relaxed; d=1e100.net; s=20230601; t=1745351047; x=1745955847; h=references:in-reply-to:cc:to:from:subject:message-id:date :x-gm-message-state:from:to:cc:subject:date:message-id:reply-to; bh=nWPwj2/CNEIKJe732dYxPCN6A0fyEiC11tmv0s08Zpo=; b=IldDcg8aXD7v+FpxSx9gxrKisHA1UDAO61GATeYeQCl5I8Fvs8Zo2/z0hnqSu/1QFr dnpS1Q4sCH7RVhTl2PavkOtORK+kOo0K+9IecIvYoG2DnWCKTXvxPosBSvpGsx8/cAtA 46DLbfb1AuuVs4caTBFrDQtGWXk0lzheSKcLVbbFk8W+nrvAjZ2BVi/HFORIaylrVag9 RpHZtjYsFTyaIQdOc540fu1cQBt2eYEKHU3ZHRr2QXF4WyZkGqXccA0z7qykhrubQIiB 0D/AfriM+5glboBN7Bz+SItLW3SV2KQznnvazlGbNvMptUb9QCelGr/Au4iv34TWTZiH HEVw== X-Gm-Message-State: AOJu0YzRsaxQ8nkFLajccAqnhoY3/0y8PT59cfvKzCeQq1MEMCsMd0t6 QC8LSQxiX7Zx+Kw3JgRcXm/cLUgNWS4Y4tOkUaolkTxZ4wsCMocP/BI842ACmkWr4zYgHvUj72k F6lW/pJWwHy6F8qpYpvOwWotb5zyetspn3WEiINnVt8RCLGNrPE2Peo47 X-Gm-Gg: ASbGncve6tf0gZBCaQULY0JglQ+k18qh66RA6FugHSo71o86a30v60wBwVD0JeeJaG7 6KWb2fr92gHZjb/jzN221r8QYDT+nqrqWfY2kYF0uPFcRbfRtSgXF8UTRuezdlHzqDd+bcHBSJ6 FqkpO+hhR6IvmHhhnLKySzaLTUeH4oWRL5iWTiiNDV628PK7GT2om5e8WhD2bbka5i6DHvJF27u 0N5gaKIr+kGxu2kxxuzXWg/9HBv7j/mLyUeRcekoaexiti4C+jpoIgDmjJftbrNC/V9GZoU/dCj FI5iwncJ5qGPJyhydsHYihYOvvVddCW2Bmy5bTalnp2/jijL X-Google-Smtp-Source: AGHT+IHttFh/Ya7pPchQ7uYhXEs693N1X4jIIpinTrhbsfOmR18ixgVJ5l7EHDU1QKX2ZWsWUO/vtz0mXW4n X-Received: by 2002:a17:903:1b6f:b0:215:9eac:1857 with SMTP id d9443c01a7336-22da317abf2mr3773175ad.5.1745351046667; Tue, 22 Apr 2025 12:44:06 -0700 (PDT) Received: from postal.iol.unh.edu (postal.iol.unh.edu. [2606:4100:3880:1234::84]) by smtp-relay.gmail.com with ESMTPS id d9443c01a7336-22c50d5fcfcsm5171635ad.82.2025.04.22.12.44.06 (version=TLS1_2 cipher=ECDHE-ECDSA-AES128-GCM-SHA256 bits=128/128); Tue, 22 Apr 2025 12:44:06 -0700 (PDT) X-Relaying-Domain: iol.unh.edu Date: Tue, 22 Apr 2025 12:44:06 -0700 (PDT) Message-ID: <6807f186.170a0220.111209.ce3fSMTPIN_ADDED_MISSING@mx.google.com> Received: from [172.17.0.6] (unknown [172.18.0.217]) by postal.iol.unh.edu (Postfix) with ESMTP id 11D5A6052471; Tue, 22 Apr 2025 15:44:06 -0400 (EDT) Subject: |SUCCESS| pw153070 [PATCH] [v2] ethdev: add support for flow action From: dpdklab@iol.unh.edu To: Test Report Cc: dpdk-test-reports@iol.unh.edu In-Reply-To: <20250422055331.1270825-1-kirankumark@marvell.com> References: <20250422055331.1270825-1-kirankumark@marvell.com> Content-Type: text/plain X-BeenThere: test-report@dpdk.org X-Mailman-Version: 2.1.29 Precedence: list List-Id: automatic DPDK test reports List-Unsubscribe: , List-Archive: List-Post: List-Help: List-Subscribe: , Errors-To: test-report-bounces@dpdk.org Test-Label: iol-unit-amd64-testing Test-Status: SUCCESS http://dpdk.org/patch/153070 _Testing PASS_ Submitter: Kiran Kumar Kokkilagadda Date: Tuesday, April 22 2025 05:53:30 DPDK git baseline: Repo:dpdk Branch: master CommitID:3829b7150b2bacd8df97134f85ec61bfbdc3f4b1 153070 --> testing pass Upstream job id: Generic-VM-Unit-Test-DPDK#28118 Test environment and result as below: +---------------------+----------------+ | Environment | dpdk_unit_test | +=====================+================+ | Fedora 40 (Clang) | PASS | +---------------------+----------------+ | Debian 12 | PASS | +---------------------+----------------+ | CentOS Stream 9 | PASS | +---------------------+----------------+ | CentOS Stream 10 | PASS | +---------------------+----------------+ | Fedora 40 | PASS | +---------------------+----------------+ | Fedora 41 | PASS | +---------------------+----------------+ | Fedora 41 (Clang) | PASS | +---------------------+----------------+ | RHEL8 | PASS | +---------------------+----------------+ | Ubuntu 22.04 | PASS | +---------------------+----------------+ | RHEL9 | PASS | +---------------------+----------------+ | Ubuntu 20.04 | PASS | +---------------------+----------------+ | Ubuntu 24.04 | PASS | +---------------------+----------------+ | Windows Server 2022 | PASS | +---------------------+----------------+ Fedora 40 (Clang) Kernel: Depends on container host Compiler: clang 18.1.8 (Fedora 18.1.8-1.fc40) Debian 12 Kernel: Depends on container host Compiler: gcc (Debian 12.2.0-14) 12.2.0 CentOS Stream 9 Kernel: Depends on container host Compiler: gcc 11.5.0 20240719 (Red Hat 11.5.0-2) CentOS Stream 10 Kernel: Depends on container host Compiler: gcc 14.2.1 20241104 (Red Hat 14.2.1-6) Fedora 40 Kernel: Depends on container host Compiler: gcc 14.2.1 20240912 (Red Hat 14.2.1-3) Fedora 41 Kernel: Depends on container host Compiler: gcc 14.2.1 20240912 (Red Hat 14.2.1-3) Fedora 41 (Clang) Kernel: Depends on container host Compiler: clang 19.1.5 (Fedora 19.1.5-1.fc41) RHEL8 Kernel: Depends on container host Compiler: gcc 8.5.0 20210514 (Red Hat 8.5.0-22) Ubuntu 22.04 Kernel: Depends on container host Compiler: gcc (Ubuntu 11.4.0-1ubuntu1~22.04) 11.4.0 RHEL9 Kernel: Depends on container host Compiler: gcc 11.5.0 20240719 (Red Hat 11.5.0-2) Ubuntu 20.04 Kernel: Depends on container host Compiler: gcc (Ubuntu 9.4.0-1ubuntu1~20.04.2) 9.4.0 Ubuntu 24.04 Kernel: Depends on container host Compiler: gcc (Ubuntu 13.3.0-6ubuntu2~24.04) 13.3.0 Windows Server 2022 Kernel: 10.0.20348.2031 Compiler: clang 15.0.7, gcc 14.1.0 (MinGW), and MSVC VS 19.39.33521 To view detailed results, visit: https://lab.dpdk.org/results/dashboard/patchsets/33047/ UNH-IOL DPDK Community Lab To manage your email subscriptions, visit: https://lab.dpdk.org/results/dashboard/preferences/subscriptions/