From mboxrd@z Thu Jan 1 00:00:00 1970 Return-Path: Received: from mails.dpdk.org (mails.dpdk.org [217.70.189.124]) by inbox.dpdk.org (Postfix) with ESMTP id 6DC9F46602 for ; Tue, 22 Apr 2025 22:37:04 +0200 (CEST) Received: from mails.dpdk.org (localhost [127.0.0.1]) by mails.dpdk.org (Postfix) with ESMTP id 4BDC340156; Tue, 22 Apr 2025 22:37:04 +0200 (CEST) Received: from mail-io1-f97.google.com (mail-io1-f97.google.com [209.85.166.97]) by mails.dpdk.org (Postfix) with ESMTP id AFC0C40151 for ; Tue, 22 Apr 2025 22:37:03 +0200 (CEST) Received: by mail-io1-f97.google.com with SMTP id ca18e2360f4ac-85ea482e3adso9132839f.0 for ; Tue, 22 Apr 2025 13:37:03 -0700 (PDT) DKIM-Signature: v=1; a=rsa-sha256; c=relaxed/relaxed; d=iol.unh.edu; s=unh-iol; t=1745354223; x=1745959023; darn=dpdk.org; h=references:in-reply-to:cc:to:from:subject:message-id:date:from:to :cc:subject:date:message-id:reply-to; bh=fPBgDbJeSv28HnP8oywimNmG5LGuIdmqGDXoNLhQgIk=; b=Zf4A82ohzRawZHDlj07Oj0GD/FM0X9S7bcYvPfiUu3SsW3t9bnbewLqaVyQEhKrImV TQz2MuuDEIcW8iCWDes47cO0NGa3+BRcHbv1i4jO/drGL8B7a+uS2ueRqTXG0br32enN 0gIAuumvRXHeyTReGGTv7NII/7H0Sf6WK/q/0= X-Google-DKIM-Signature: v=1; a=rsa-sha256; c=relaxed/relaxed; d=1e100.net; s=20230601; t=1745354223; x=1745959023; h=references:in-reply-to:cc:to:from:subject:message-id:date :x-gm-message-state:from:to:cc:subject:date:message-id:reply-to; bh=fPBgDbJeSv28HnP8oywimNmG5LGuIdmqGDXoNLhQgIk=; b=Iq26eV5c+KfabSjDlyNMMEyu+cCXKVnwBGqeUGeaKX0E4nHKdh72xZXCEttTQpT7Jq dWTvxB0Dl9owOcG6nauALSKsDu5Fd2I2NszMVsm4MuQVmH9sxD+8UTcu25RN0R/D+Xy9 S46rRzaBN3B6UemdYoNBshGTIRSTfe+TFdRm7nrwdyhmjaDUub3fS/GwTN6l3xBB5+Ax +4MZOHm2LQYbyZpkiMbts1mC57nkqCX9ONfYI2PSt8rzQdL5aeLDb6rs2KYEUqooa5xL oeAjlL6g/b2lQTRCMG8W4W1MqGmr7JLR6KAf+nKcF6hfA60Nw2EhbIhX8G/bhxMjX8qw z76Q== X-Gm-Message-State: AOJu0YxPXMMWni1Hs9vqeOo68WJA9ZwqXBPS2ZuyA1ySnZRxzmPjjquh vC5ADP2TttfPVSB3kDVCudyG9VyOp8V0Iimo9XpW3tP7S/t5MwnIy907qk6sbJ5esDBwiM0uZiC 8qU8O4IEK6xSDqZaURaCPpjrAgQSotloNlnfxqTvVi1Px7Q+lXTfVUY0L X-Gm-Gg: ASbGncvYKtc+lhBMoBCSv1oyqyTseit8aD3Ot9/ZGv47+Z7Y/7Ke+3W6Qwuu5tM/vbg OcNyh1ZPdVwVx+uKdzM6qn0Yo+QfHZ0NJlVcgIWIYj01yzhcuJVTicHSwt9L0Hg2kbl6XtQlNd6 zJ8nF6ed3pcAPGMQ2X1ztOily95d3ihFlfTZToxxcszVu/wo05ZUL9HENrSApPOOX/qaboUIWFI m02XSBG0Km9ngD6mMLZjnf9CvEj+IViRPUCzwtLR3KMTj5OsBUbOV4Oh5YleqfcC0G4H6x4tvvZ /ml12TnKGYJTsaCCMYbnCcADsOphXPg+24t+XLA20GeqHPdl X-Google-Smtp-Source: AGHT+IGkyEK2M8BSwVessGhVO4kG0/coVERWT03Szql/khsc00riNa1TCIL+CkuHIQLpws1mV71ukhDu+9sy X-Received: by 2002:a92:c266:0:b0:3d0:26a5:b2c with SMTP id e9e14a558f8ab-3d92736f838mr4189785ab.8.1745354222819; Tue, 22 Apr 2025 13:37:02 -0700 (PDT) Received: from postal.iol.unh.edu (postal.iol.unh.edu. [2606:4100:3880:1234::84]) by smtp-relay.gmail.com with ESMTPS id e9e14a558f8ab-3d92769c1e2sm75335ab.49.2025.04.22.13.37.02 (version=TLS1_2 cipher=ECDHE-ECDSA-AES128-GCM-SHA256 bits=128/128); Tue, 22 Apr 2025 13:37:02 -0700 (PDT) X-Relaying-Domain: iol.unh.edu Date: Tue, 22 Apr 2025 13:37:02 -0700 (PDT) Message-ID: <6807fdee.050a0220.31990c.069aSMTPIN_ADDED_MISSING@mx.google.com> Received: from [172.17.0.4] (unknown [172.18.0.217]) by postal.iol.unh.edu (Postfix) with ESMTP id 6ABD36052471; Tue, 22 Apr 2025 16:37:02 -0400 (EDT) Subject: |SUCCESS| pw153073 [PATCH] [V2] ethdev_trace.h: Update the trace poi From: dpdklab@iol.unh.edu To: Test Report Cc: dpdk-test-reports@iol.unh.edu In-Reply-To: <20250422122956.1217418-1-changqing.li@windriver.com> References: <20250422122956.1217418-1-changqing.li@windriver.com> Content-Type: text/plain X-BeenThere: test-report@dpdk.org X-Mailman-Version: 2.1.29 Precedence: list List-Id: automatic DPDK test reports List-Unsubscribe: , List-Archive: List-Post: List-Help: List-Subscribe: , Errors-To: test-report-bounces@dpdk.org Test-Label: iol-sample-apps-testing Test-Status: SUCCESS http://dpdk.org/patch/153073 _Testing PASS_ Submitter: Date: Tuesday, April 22 2025 12:29:56 DPDK git baseline: Repo:dpdk Branch: master CommitID:3829b7150b2bacd8df97134f85ec61bfbdc3f4b1 153073 --> testing pass Upstream job id: ACVP-FIPS-testing#9611 Test environment and result as below: +--------------------+----------------------+----------------------+ | Environment | compressdev_zlib_pmd | dpdk_fips_validation | +====================+======================+======================+ | Ubuntu 22.04 (ARM) | PASS | SKIPPED | +--------------------+----------------------+----------------------+ | Ubuntu 22.04 | PASS | SKIPPED | +--------------------+----------------------+----------------------+ | Ubuntu 20.04 | SKIPPED | PASS | +--------------------+----------------------+----------------------+ Ubuntu 22.04 (ARM) Kernel: 5.15.0-97-generic Compiler: gcc gcc (Ubuntu 11.4.0-1ubuntu1~22.04) 11.4.0 Ubuntu 22.04 Kernel: 5.15.0-100-generic Compiler: gcc gcc (Ubuntu 11.4.0-1ubuntu1~22.04) 11.4.0 Ubuntu 20.04 Kernel: Depends on container host Compiler: gcc (Ubuntu 9.4.0-1ubuntu1~20.04.2) 9.4.0 To view detailed results, visit: https://lab.dpdk.org/results/dashboard/patchsets/33050/ UNH-IOL DPDK Community Lab To manage your email subscriptions, visit: https://lab.dpdk.org/results/dashboard/preferences/subscriptions/