From mboxrd@z Thu Jan  1 00:00:00 1970
Return-Path: <test-report-bounces@dpdk.org>
Received: from mails.dpdk.org (mails.dpdk.org [217.70.189.124])
	by inbox.dpdk.org (Postfix) with ESMTP id 995EF46602
	for <public@inbox.dpdk.org>; Tue, 22 Apr 2025 23:00:53 +0200 (CEST)
Received: from mails.dpdk.org (localhost [127.0.0.1])
	by mails.dpdk.org (Postfix) with ESMTP id 774E640156;
	Tue, 22 Apr 2025 23:00:53 +0200 (CEST)
Received: from mail-il1-f226.google.com (mail-il1-f226.google.com
 [209.85.166.226])
 by mails.dpdk.org (Postfix) with ESMTP id BA0C840151
 for <test-report@dpdk.org>; Tue, 22 Apr 2025 23:00:52 +0200 (CEST)
Received: by mail-il1-f226.google.com with SMTP id
 e9e14a558f8ab-3d8dcc7cd17so909825ab.1
 for <test-report@dpdk.org>; Tue, 22 Apr 2025 14:00:52 -0700 (PDT)
DKIM-Signature: v=1; a=rsa-sha256; c=relaxed/relaxed;
 d=iol.unh.edu; s=unh-iol; t=1745355652; x=1745960452; darn=dpdk.org;
 h=references:in-reply-to:cc:to:from:subject:message-id:date:from:to
 :cc:subject:date:message-id:reply-to;
 bh=hVSxxHPGKjhehxKy/mUipn9MuZKjGWniYfEW3q7VvZ8=;
 b=ccvg+Cq0Bbug6jaLuwZBTg0pQo9xu9oxlKxOF6l8g7bmuIHU6FgFl6OPiPDgSQ9LIQ
 dwnIwrjdXHs0aMTdEg0Ng1IOONMedOxWMrpOJlD5x0Ht0fmsZLBWjOpFisSB/biI/YgB
 illJDq6WhiWUNSeDqZz583ncfGzQTwUhSbVOs=
X-Google-DKIM-Signature: v=1; a=rsa-sha256; c=relaxed/relaxed;
 d=1e100.net; s=20230601; t=1745355652; x=1745960452;
 h=references:in-reply-to:cc:to:from:subject:message-id:date
 :x-gm-message-state:from:to:cc:subject:date:message-id:reply-to;
 bh=hVSxxHPGKjhehxKy/mUipn9MuZKjGWniYfEW3q7VvZ8=;
 b=A7RsTuqstKFV7Quci0+RtsMmq8coHrQ2bx0yYGOUKXACPJbr+zvGBMr9j4U1Z4LZ5z
 GmQYM2a07PAQ/KLZG0cY35CXh8UQEUtSHkOyAn9Yk94euuaaSLlz7e17LGDLeHTATNje
 UulfxVjphByFmEuSs9PlhJVK3qfxZmn2u/4lFJpVPZnnE7/b/tzqSWSa8aHmn3YvtVaQ
 8ZuXFY4WThhh1Cmb9Nzb1Zm1/11nJNHpWCU+aZdcC2TFug09L1yzL9qqSOOqDRn6pBzI
 uuUyQOAm/CEOaY4nUs6pQ/hruQUOGyhSgSO/2/BlbUvR5nXgPYWVkn3gtvHFFv/A2Wvc
 LkiQ==
X-Gm-Message-State: AOJu0YxoM8UDbRCb5x7WWt2lilwCAz/zsFi6bqJotuFaOwVF0Dd2aIJ/
 qQh2DZUk2rU9jtSZX520A63SzLSmpAGzO3NxcCO1dvkf0rmbBAWhyfMspRPWXFx2aSo/fq6wk5j
 HiXi0o5s5uYHE49xrYd124gj6G5IcUlefW4tsBYIzInjMIUEWOgCxB1JG
X-Gm-Gg: ASbGncuwZ2JDjxROcX4fT+qAVe7EcNOk/ctGAK8KRjLaL0tlaiSlKtyJ3+I70fhC7+M
 +j9RnRIe21Hmg0QaFgKLQ5XUj2F04xhyoC2PB9x3uQ1ZEkf9egQ9eLXZmEHHQX9gSnUAF8batFB
 ZiyJXnsxL3RjzB4T9pCVrrzmQDzSBbKZ9c1QLbBF2t8ub4l+ec7SIK3kGrOsYGP6iIHfVJy1QP0
 xgrmomDh7atfX7Svz/KVLMVhjL+m9xpH4UtV4SkpxNndUxIVid3LwH3iObWeN3PKl57QFQPhPpN
 3aIuAjfj4l/8FnKrX+NhPrmU1iMkbXzf72HzQXlIKEclILoG
X-Google-Smtp-Source: AGHT+IGVTiuAzhs1x7RmG77mSQNorRVtb80ETCXNFwZF05g1dWGfrb7sDios8/aMJLHckBftcGgpWA1rALBq
X-Received: by 2002:a92:d2c4:0:b0:3d1:84ad:165e with SMTP id
 e9e14a558f8ab-3d9273a2a51mr4854005ab.7.1745355651937; 
 Tue, 22 Apr 2025 14:00:51 -0700 (PDT)
Received: from postal.iol.unh.edu (postal.iol.unh.edu.
 [2606:4100:3880:1234::84]) by smtp-relay.gmail.com with ESMTPS id
 e9e14a558f8ab-3d9275bd1e9sm104045ab.39.2025.04.22.14.00.51
 (version=TLS1_2 cipher=ECDHE-ECDSA-AES128-GCM-SHA256 bits=128/128);
 Tue, 22 Apr 2025 14:00:51 -0700 (PDT)
X-Relaying-Domain: iol.unh.edu
Date: Tue, 22 Apr 2025 14:00:51 -0700 (PDT)
Message-ID: <68080383.920a0220.32947.09b4SMTPIN_ADDED_MISSING@mx.google.com>
Received: from [172.17.0.4] (unknown [172.18.0.217])
 by postal.iol.unh.edu (Postfix) with ESMTP id 6193F6052471;
 Tue, 22 Apr 2025 17:00:51 -0400 (EDT)
Subject: |SUCCESS| pw153073 [PATCH] [V2] ethdev_trace.h: Update the trace poi
From: dpdklab@iol.unh.edu
To: Test Report <test-report@dpdk.org>
Cc: dpdk-test-reports@iol.unh.edu
In-Reply-To: <20250422122956.1217418-1-changqing.li@windriver.com>
References: <20250422122956.1217418-1-changqing.li@windriver.com>
Content-Type: text/plain
X-BeenThere: test-report@dpdk.org
X-Mailman-Version: 2.1.29
Precedence: list
List-Id: automatic DPDK test reports <test-report.dpdk.org>
List-Unsubscribe: <https://mails.dpdk.org/options/test-report>,
 <mailto:test-report-request@dpdk.org?subject=unsubscribe>
List-Archive: <http://mails.dpdk.org/archives/test-report/>
List-Post: <mailto:test-report@dpdk.org>
List-Help: <mailto:test-report-request@dpdk.org?subject=help>
List-Subscribe: <https://mails.dpdk.org/listinfo/test-report>,
 <mailto:test-report-request@dpdk.org?subject=subscribe>
Errors-To: test-report-bounces@dpdk.org

Test-Label: iol-compile-amd64-testing
Test-Status: SUCCESS
http://dpdk.org/patch/153073

_Testing PASS_

Submitter:  <changqing.li@windriver.com>
Date: Tuesday, April 22 2025 12:29:56 
DPDK git baseline: Repo:dpdk
  Branch: master
  CommitID:3829b7150b2bacd8df97134f85ec61bfbdc3f4b1

153073 --> testing pass

Upstream job id: Generic-DPDK-Compile-Meson#382073

Test environment and result as below:

+-----------------------------------+--------------------+-------------------+------------------+-------------------------+-------------------+----------------------+
|            Environment            | dpdk_meson_compile | dpdk_compile_spdk | dpdk_compile_ovs | dpdk_llvm_clang_compile | dpdk_msvc_compile | dpdk_mingw64_compile |
+===================================+====================+===================+==================+=========================+===================+======================+
| CentOS Stream 9                   | PASS               | PASS              | SKIPPED          | SKIPPED                 | SKIPPED           | SKIPPED              |
+-----------------------------------+--------------------+-------------------+------------------+-------------------------+-------------------+----------------------+
| Debian 12                         | PASS               | PASS              | SKIPPED          | SKIPPED                 | SKIPPED           | SKIPPED              |
+-----------------------------------+--------------------+-------------------+------------------+-------------------------+-------------------+----------------------+
| CentOS Stream 10                  | PASS               | SKIPPED           | SKIPPED          | SKIPPED                 | SKIPPED           | SKIPPED              |
+-----------------------------------+--------------------+-------------------+------------------+-------------------------+-------------------+----------------------+
| Fedora 40 (Clang)                 | PASS               | PASS              | SKIPPED          | SKIPPED                 | SKIPPED           | SKIPPED              |
+-----------------------------------+--------------------+-------------------+------------------+-------------------------+-------------------+----------------------+
| Fedora 40                         | PASS               | PASS              | SKIPPED          | SKIPPED                 | SKIPPED           | SKIPPED              |
+-----------------------------------+--------------------+-------------------+------------------+-------------------------+-------------------+----------------------+
| Fedora 41 (Clang)                 | PASS               | PASS              | PASS             | SKIPPED                 | SKIPPED           | SKIPPED              |
+-----------------------------------+--------------------+-------------------+------------------+-------------------------+-------------------+----------------------+
| RHEL8                             | PASS               | SKIPPED           | SKIPPED          | SKIPPED                 | SKIPPED           | SKIPPED              |
+-----------------------------------+--------------------+-------------------+------------------+-------------------------+-------------------+----------------------+
| RHEL9                             | PASS               | SKIPPED           | SKIPPED          | SKIPPED                 | SKIPPED           | SKIPPED              |
+-----------------------------------+--------------------+-------------------+------------------+-------------------------+-------------------+----------------------+
| openSUSE Leap 15                  | PASS               | SKIPPED           | SKIPPED          | SKIPPED                 | SKIPPED           | SKIPPED              |
+-----------------------------------+--------------------+-------------------+------------------+-------------------------+-------------------+----------------------+
| Ubuntu 20.04                      | PASS               | SKIPPED           | SKIPPED          | SKIPPED                 | SKIPPED           | SKIPPED              |
+-----------------------------------+--------------------+-------------------+------------------+-------------------------+-------------------+----------------------+
| Fedora 41                         | PASS               | PASS              | PASS             | SKIPPED                 | SKIPPED           | SKIPPED              |
+-----------------------------------+--------------------+-------------------+------------------+-------------------------+-------------------+----------------------+
| Ubuntu 22.04                      | PASS               | PASS              | SKIPPED          | SKIPPED                 | SKIPPED           | SKIPPED              |
+-----------------------------------+--------------------+-------------------+------------------+-------------------------+-------------------+----------------------+
| Alpine                            | PASS               | SKIPPED           | SKIPPED          | SKIPPED                 | SKIPPED           | SKIPPED              |
+-----------------------------------+--------------------+-------------------+------------------+-------------------------+-------------------+----------------------+
| Ubuntu 24.04                      | PASS               | PASS              | PASS             | SKIPPED                 | SKIPPED           | SKIPPED              |
+-----------------------------------+--------------------+-------------------+------------------+-------------------------+-------------------+----------------------+
| Ubuntu 24.04 32 Bit Cross Compile | PASS               | SKIPPED           | SKIPPED          | SKIPPED                 | SKIPPED           | SKIPPED              |
+-----------------------------------+--------------------+-------------------+------------------+-------------------------+-------------------+----------------------+
| FreeBSD 14.2                      | PASS               | SKIPPED           | SKIPPED          | SKIPPED                 | SKIPPED           | SKIPPED              |
+-----------------------------------+--------------------+-------------------+------------------+-------------------------+-------------------+----------------------+
| Windows Server 2022               | SKIPPED            | SKIPPED           | SKIPPED          | PASS                    | PASS              | PASS                 |
+-----------------------------------+--------------------+-------------------+------------------+-------------------------+-------------------+----------------------+


CentOS Stream 9
	Kernel: Depends on container host
	Compiler: gcc 11.5.0 20240719 (Red Hat 11.5.0-2)

Debian 12
	Kernel: Depends on container host
	Compiler: gcc (Debian 12.2.0-14) 12.2.0

CentOS Stream 10
	Kernel: Depends on container host
	Compiler: gcc 14.2.1 20241104 (Red Hat 14.2.1-6)

Fedora 40 (Clang)
	Kernel: Depends on container host
	Compiler: clang 18.1.8 (Fedora 18.1.8-1.fc40)

Fedora 40
	Kernel: Depends on container host
	Compiler: gcc 14.2.1 20240912 (Red Hat 14.2.1-3)

Fedora 41 (Clang)
	Kernel: Depends on container host
	Compiler: clang 19.1.5 (Fedora 19.1.5-1.fc41)

RHEL8
	Kernel: Depends on container host
	Compiler: gcc 8.5.0 20210514 (Red Hat 8.5.0-22)

RHEL9
	Kernel: Depends on container host
	Compiler: gcc 11.5.0 20240719 (Red Hat 11.5.0-2)

openSUSE Leap 15
	Kernel: Depends on container host
	Compiler: gcc (SUSE Linux) 7.5.0

Ubuntu 20.04
	Kernel: Depends on container host
	Compiler: gcc (Ubuntu 9.4.0-1ubuntu1~20.04.2) 9.4.0

Fedora 41
	Kernel: Depends on container host
	Compiler: gcc 14.2.1 20240912 (Red Hat 14.2.1-3)

Ubuntu 22.04
	Kernel: Depends on container host
	Compiler: gcc (Ubuntu 11.4.0-1ubuntu1~22.04) 11.4.0

Alpine
	Kernel: Depends on container host
	Compiler: gcc (Alpine 14.2.0) 14.2.0

Ubuntu 24.04
	Kernel: Depends on container host
	Compiler: gcc (Ubuntu 13.3.0-6ubuntu2~24.04) 13.3.0

Ubuntu 24.04 32 Bit Cross Compile
	Kernel: Depends on container host
	Compiler: gcc (Ubuntu 13.3.0-6ubuntu2~24.04) 13.3.0

FreeBSD 14.2
	Kernel: 14.2-RELEASE
	Compiler: clang 18.1.6

Windows Server 2022
	Kernel: 10.0.20348.2031
	Compiler: clang 15.0.7, gcc 14.1.0 (MinGW), and MSVC VS 19.39.33521

To view detailed results, visit:
https://lab.dpdk.org/results/dashboard/patchsets/33050/

UNH-IOL DPDK Community Lab

To manage your email subscriptions, visit: 
https://lab.dpdk.org/results/dashboard/preferences/subscriptions/