From mboxrd@z Thu Jan 1 00:00:00 1970 Return-Path: Received: from mails.dpdk.org (mails.dpdk.org [217.70.189.124]) by inbox.dpdk.org (Postfix) with ESMTP id A34D946602 for ; Tue, 22 Apr 2025 23:46:57 +0200 (CEST) Received: from mails.dpdk.org (localhost [127.0.0.1]) by mails.dpdk.org (Postfix) with ESMTP id 9DEB640156; Tue, 22 Apr 2025 23:46:57 +0200 (CEST) Received: from mail-il1-f225.google.com (mail-il1-f225.google.com [209.85.166.225]) by mails.dpdk.org (Postfix) with ESMTP id 9687940151 for ; Tue, 22 Apr 2025 23:46:56 +0200 (CEST) Received: by mail-il1-f225.google.com with SMTP id e9e14a558f8ab-3d9030c2b73so8014055ab.0 for ; Tue, 22 Apr 2025 14:46:56 -0700 (PDT) DKIM-Signature: v=1; a=rsa-sha256; c=relaxed/relaxed; d=iol.unh.edu; s=unh-iol; t=1745358416; x=1745963216; darn=dpdk.org; h=references:in-reply-to:cc:to:from:subject:message-id:date:from:to :cc:subject:date:message-id:reply-to; bh=adS0ADwY1WLMYNltDsCFHqgt7apu0tU3kQxpWn66wV4=; b=cgWblaoljpiYlIC77wXPZwAbaupFR607NoQ3dz17UHpemrm++Zzy2/1m2JMHyD5k95 K8pmBQHosVK1i6Ex9bJUmsW+kqN4AOlm6F4itPqLpJ+0N4r8getjxzhNHyzuQEc4mUGN g0mAh2S/IDfKDcLGrtgPMh2JKXO0bCqnetyNQ= X-Google-DKIM-Signature: v=1; a=rsa-sha256; c=relaxed/relaxed; d=1e100.net; s=20230601; t=1745358416; x=1745963216; h=references:in-reply-to:cc:to:from:subject:message-id:date :x-gm-message-state:from:to:cc:subject:date:message-id:reply-to; bh=adS0ADwY1WLMYNltDsCFHqgt7apu0tU3kQxpWn66wV4=; b=QL8I6fOTA7CeXZxZEeNeCSAi+bk12FDEtWdthDd2GAZKO+FE3epqVRX4rlotfJCjcf pEJwSDJ2mS0PZRpOOVPAY4b85nSquGz5WHCjzhDkt/Qb3DxzaU1JKi1j1wTlzd+0DWvt FToZZbgpQdKA+E2d9GiJzSQBA7u5n2BPS8B1f0JTKH6eqyDaWaJMhDNUzwNnblJOEpMt kzFMqzku1tb3lDudhUOShzQzwCNDDArm+sGJ0KmHqYSMlpv/vSYvrRe5ZppgT3JjS6WH tiKGtW/GJlUNhJgl1FTGGVjkuzghQIZMUiHPQA4QI5vg/EQ87IgZJjRkgP8Qu+g2lqm8 Bulw== X-Gm-Message-State: AOJu0YwP9tAScSQUummUO45WQG2WRsD528NwgLnh+ak5BGLg1ouApVxp YC4dKbqZksYz2oL2dyXtCZxt/iZT1qBeOkFwI4LJEktRM5UjVVQNtdqPsqLQehXTKX/nif5EC7X 29l0GUDWAJhkaLOx4abbyKWyTAIPoVPPjtDzNZYRDtPV2pgDNLy2FFtVj X-Gm-Gg: ASbGncv0lfC42wMGmKnuG2yuE+h0oR67BaTB+E1iBEgTBntOADVtHAovqHXd7PcWt8S /Pg4dEGZFUgs4pgStWua06KJu3piHIEhxh5yQgoz6lMO5qQiD4FyCaJTp0eKipKLJGLA7llQsyw NhUWW0lgrpu37mb2HwsQb5fJAEQSpeWrlM84d+mQiIrxmY47VA1QwubYKH4a7k4GVKPeLysXGqM UQLA6ZHRZ0CLR39L4rMlTzo8hfyZN/r9nX3ka0eYbxx2c9+jg4AQRLoW0UC5MKDCb2Pbx1MJTxv 2WqjNQ2g0gkbRoP1uXkRQDPqUcu2dgXuam4JP6npeRuIHUbz X-Google-Smtp-Source: AGHT+IEgKNJSyXVPAxIfUYjbYtL2VtMXzhcoqkMkEHrdBKuZN3wXTvrA6yqdrnvgSQJRu/xbMiJTuk4O5Sh4 X-Received: by 2002:a05:6e02:1447:b0:3d8:1f87:9433 with SMTP id e9e14a558f8ab-3d88edd940cmr142522075ab.11.1745358415854; Tue, 22 Apr 2025 14:46:55 -0700 (PDT) Received: from postal.iol.unh.edu (postal.iol.unh.edu. [2606:4100:3880:1234::84]) by smtp-relay.gmail.com with ESMTPS id e9e14a558f8ab-3d9276b65c7sm127055ab.58.2025.04.22.14.46.55 (version=TLS1_2 cipher=ECDHE-ECDSA-AES128-GCM-SHA256 bits=128/128); Tue, 22 Apr 2025 14:46:55 -0700 (PDT) X-Relaying-Domain: iol.unh.edu Date: Tue, 22 Apr 2025 14:46:55 -0700 (PDT) Message-ID: <68080e4f.050a0220.2bb43c.0b5dSMTPIN_ADDED_MISSING@mx.google.com> Received: from [172.17.0.4] (unknown [172.18.0.217]) by postal.iol.unh.edu (Postfix) with ESMTP id 503116052471; Tue, 22 Apr 2025 17:46:55 -0400 (EDT) Subject: |SUCCESS| pw153073 [PATCH] [V2] ethdev_trace.h: Update the trace poi From: dpdklab@iol.unh.edu To: Test Report Cc: dpdk-test-reports@iol.unh.edu In-Reply-To: <20250422122956.1217418-1-changqing.li@windriver.com> References: <20250422122956.1217418-1-changqing.li@windriver.com> Content-Type: text/plain X-BeenThere: test-report@dpdk.org X-Mailman-Version: 2.1.29 Precedence: list List-Id: automatic DPDK test reports List-Unsubscribe: , List-Archive: List-Post: List-Help: List-Subscribe: , Errors-To: test-report-bounces@dpdk.org Test-Label: iol-unit-amd64-testing Test-Status: SUCCESS http://dpdk.org/patch/153073 _Testing PASS_ Submitter: Date: Tuesday, April 22 2025 12:29:56 DPDK git baseline: Repo:dpdk Branch: master CommitID:3829b7150b2bacd8df97134f85ec61bfbdc3f4b1 153073 --> testing pass Upstream job id: Generic-VM-Unit-Test-DPDK#28121 Test environment and result as below: +---------------------+----------------+ | Environment | dpdk_unit_test | +=====================+================+ | CentOS Stream 9 | PASS | +---------------------+----------------+ | Fedora 40 (Clang) | PASS | +---------------------+----------------+ | Fedora 41 (Clang) | PASS | +---------------------+----------------+ | Ubuntu 22.04 | PASS | +---------------------+----------------+ | CentOS Stream 10 | PASS | +---------------------+----------------+ | Fedora 40 | PASS | +---------------------+----------------+ | Ubuntu 24.04 | PASS | +---------------------+----------------+ | Fedora 41 | PASS | +---------------------+----------------+ | Ubuntu 20.04 | PASS | +---------------------+----------------+ | RHEL8 | PASS | +---------------------+----------------+ | Debian 12 | PASS | +---------------------+----------------+ | RHEL9 | PASS | +---------------------+----------------+ | Windows Server 2022 | PASS | +---------------------+----------------+ CentOS Stream 9 Kernel: Depends on container host Compiler: gcc 11.5.0 20240719 (Red Hat 11.5.0-2) Fedora 40 (Clang) Kernel: Depends on container host Compiler: clang 18.1.8 (Fedora 18.1.8-1.fc40) Fedora 41 (Clang) Kernel: Depends on container host Compiler: clang 19.1.5 (Fedora 19.1.5-1.fc41) Ubuntu 22.04 Kernel: Depends on container host Compiler: gcc (Ubuntu 11.4.0-1ubuntu1~22.04) 11.4.0 CentOS Stream 10 Kernel: Depends on container host Compiler: gcc 14.2.1 20241104 (Red Hat 14.2.1-6) Fedora 40 Kernel: Depends on container host Compiler: gcc 14.2.1 20240912 (Red Hat 14.2.1-3) Ubuntu 24.04 Kernel: Depends on container host Compiler: gcc (Ubuntu 13.3.0-6ubuntu2~24.04) 13.3.0 Fedora 41 Kernel: Depends on container host Compiler: gcc 14.2.1 20240912 (Red Hat 14.2.1-3) Ubuntu 20.04 Kernel: Depends on container host Compiler: gcc (Ubuntu 9.4.0-1ubuntu1~20.04.2) 9.4.0 RHEL8 Kernel: Depends on container host Compiler: gcc 8.5.0 20210514 (Red Hat 8.5.0-22) Debian 12 Kernel: Depends on container host Compiler: gcc (Debian 12.2.0-14) 12.2.0 RHEL9 Kernel: Depends on container host Compiler: gcc 11.5.0 20240719 (Red Hat 11.5.0-2) Windows Server 2022 Kernel: 10.0.20348.2031 Compiler: clang 15.0.7, gcc 14.1.0 (MinGW), and MSVC VS 19.39.33521 To view detailed results, visit: https://lab.dpdk.org/results/dashboard/patchsets/33050/ UNH-IOL DPDK Community Lab To manage your email subscriptions, visit: https://lab.dpdk.org/results/dashboard/preferences/subscriptions/