From mboxrd@z Thu Jan 1 00:00:00 1970 Return-Path: Received: from mails.dpdk.org (mails.dpdk.org [217.70.189.124]) by inbox.dpdk.org (Postfix) with ESMTP id 5A69746602 for ; Tue, 22 Apr 2025 23:52:48 +0200 (CEST) Received: from mails.dpdk.org (localhost [127.0.0.1]) by mails.dpdk.org (Postfix) with ESMTP id 2A19940156; Tue, 22 Apr 2025 23:52:48 +0200 (CEST) Received: from mail-qk1-f228.google.com (mail-qk1-f228.google.com [209.85.222.228]) by mails.dpdk.org (Postfix) with ESMTP id 9EB7C40151 for ; Tue, 22 Apr 2025 23:52:46 +0200 (CEST) Received: by mail-qk1-f228.google.com with SMTP id af79cd13be357-7c5e2fe5f17so524394285a.3 for ; Tue, 22 Apr 2025 14:52:46 -0700 (PDT) DKIM-Signature: v=1; a=rsa-sha256; c=relaxed/relaxed; d=iol.unh.edu; s=unh-iol; t=1745358766; x=1745963566; darn=dpdk.org; h=references:in-reply-to:cc:to:from:subject:message-id:date:from:to :cc:subject:date:message-id:reply-to; bh=KOkMtVvVjU6LYJvNVRXNQw8Dc+KCOwD83IttqJ/Rm7k=; b=bnsayj0LUuaWjgZECq8aHZAAWzvCFGAmi+a01/nU9G/jbh0LGuh0kmvQYCsSI2fWeo 1am09JvZJB4pws9xKyxVew5CS3EaxyIQVgFTrqBuICtJrRA2RD4MkWxsCbPDCCi3o8wJ 8ihASdJRJK4rwZ9w+LR+Daa3+5dAgWnIGKhuo= X-Google-DKIM-Signature: v=1; a=rsa-sha256; c=relaxed/relaxed; d=1e100.net; s=20230601; t=1745358766; x=1745963566; h=references:in-reply-to:cc:to:from:subject:message-id:date :x-gm-message-state:from:to:cc:subject:date:message-id:reply-to; bh=KOkMtVvVjU6LYJvNVRXNQw8Dc+KCOwD83IttqJ/Rm7k=; b=n5qXfO4Q6YxKOjxtDAwDDSLXIKcY/61cQ26GfD6HLWadRmBJWOYeDQDA9KumfFscEe loFIdyh58Yed6OEjW+zheTaCH3IIW1BTgqkp+Di3iJKd6GPTQzI9neBgOpzIsAtNoC2C X+r2zPuL8d1DwAGT+Qf5dxRZWid3WK5JDBnKqfc4FHM7/1av8ZhPBTaZB4uCtGWZ/upG E1ghrRIoGH9AC3QBO9ioyacTmT8wV9ZY1BW+iTt4gUwAeG9eoESw9aq2tRGDyqEP1gDq TGbrSLWH7AHnPL0Szay43Ko0JoQUZHKTHnVtFBTgMlwFcZIXAJ++0ah8VxTirR5lQEh+ zakg== X-Gm-Message-State: AOJu0YzSgWgxydyJsZY7zfKMgC57Adbt7qQbW/hOW1NGjbDp0IIfJ/WS Uoka4+dzs5NBpJXZMjUdIxq/pCuq2KW/mwagFwLb+fceStT54+5z+5YFObvzETbiAhSWhUwyneO 7xRGtKa8vz7Wwa6hWLoKlMQgWc2hb93WuWakLGNm2smoYdkerV+pS2gfy X-Gm-Gg: ASbGncuvaXA5bZpS1OXZjZUwVT1XJzAAYCCgAws1KQ/VdOi1SemLlrDW55gpsvjm02K AtylQzY8ahj4slbVx3XjXmllsuqqCw2+CeMa/kiogvYUzrTBCCm7mu1pcKnNjHf3C+6UPEQxuol iy7FiSXSfdi8U4JA1ox9n3nURvCkZeMHPYWZ1sIoR1n7r020+z0Uu6FUgqy3yComwlHFvZIM1KP bc0A67dnQcmmRdwR48rk4SEFEylvbCIF+fNkmbRbpdb8POi9LuDggPC9uuhvrbl7Q136s7JOaz+ mFCsFwsmgh9He2nzb8poQ8NFSeNZFZ21o0Qfo6eBRA06ZrKC X-Google-Smtp-Source: AGHT+IElWjMsmEQYp+vAnhBYEicGIwfsgZsOYA0k4qur7BNpukQDMdh9ulFfd9bm3hAr/I3Ozg7CA/8DYKqa X-Received: by 2002:a05:620a:3941:b0:7c5:f6be:bdae with SMTP id af79cd13be357-7c927f87db8mr2493743285a.20.1745358765862; Tue, 22 Apr 2025 14:52:45 -0700 (PDT) Received: from postal.iol.unh.edu (postal.iol.unh.edu. [2606:4100:3880:1234::84]) by smtp-relay.gmail.com with ESMTPS id af79cd13be357-7c925b8cd25sm21336085a.7.2025.04.22.14.52.45 (version=TLS1_2 cipher=ECDHE-ECDSA-AES128-GCM-SHA256 bits=128/128); Tue, 22 Apr 2025 14:52:45 -0700 (PDT) X-Relaying-Domain: iol.unh.edu Date: Tue, 22 Apr 2025 14:52:45 -0700 (PDT) Message-ID: <68080fad.050a0220.16cda4.b3faSMTPIN_ADDED_MISSING@mx.google.com> Received: from [172.17.0.5] (unknown [172.18.0.217]) by postal.iol.unh.edu (Postfix) with ESMTP id 829B86052471; Tue, 22 Apr 2025 17:52:45 -0400 (EDT) Subject: |SUCCESS| pw153073 [PATCH] [V2] ethdev_trace.h: Update the trace poi From: dpdklab@iol.unh.edu To: Test Report Cc: dpdk-test-reports@iol.unh.edu In-Reply-To: <20250422122956.1217418-1-changqing.li@windriver.com> References: <20250422122956.1217418-1-changqing.li@windriver.com> Content-Type: text/plain X-BeenThere: test-report@dpdk.org X-Mailman-Version: 2.1.29 Precedence: list List-Id: automatic DPDK test reports List-Unsubscribe: , List-Archive: List-Post: List-Help: List-Subscribe: , Errors-To: test-report-bounces@dpdk.org Test-Label: iol-sample-apps-testing Test-Status: SUCCESS http://dpdk.org/patch/153073 _Testing PASS_ Submitter: Date: Tuesday, April 22 2025 12:29:56 DPDK git baseline: Repo:dpdk Branch: master CommitID:3829b7150b2bacd8df97134f85ec61bfbdc3f4b1 153073 --> testing pass Upstream job id: ACVP-FIPS-testing#9612 Test environment and result as below: +--------------------+----------------------+----------------------+ | Environment | compressdev_zlib_pmd | dpdk_fips_validation | +====================+======================+======================+ | Ubuntu 22.04 (ARM) | PASS | SKIPPED | +--------------------+----------------------+----------------------+ | Ubuntu 22.04 | PASS | SKIPPED | +--------------------+----------------------+----------------------+ | Ubuntu 20.04 | SKIPPED | PASS | +--------------------+----------------------+----------------------+ Ubuntu 22.04 (ARM) Kernel: 5.15.0-97-generic Compiler: gcc gcc (Ubuntu 11.4.0-1ubuntu1~22.04) 11.4.0 Ubuntu 22.04 Kernel: 5.15.0-100-generic Compiler: gcc gcc (Ubuntu 11.4.0-1ubuntu1~22.04) 11.4.0 Ubuntu 20.04 Kernel: Depends on container host Compiler: gcc (Ubuntu 9.4.0-1ubuntu1~20.04.2) 9.4.0 To view detailed results, visit: https://lab.dpdk.org/results/dashboard/patchsets/33050/ UNH-IOL DPDK Community Lab To manage your email subscriptions, visit: https://lab.dpdk.org/results/dashboard/preferences/subscriptions/