From mboxrd@z Thu Jan 1 00:00:00 1970 Return-Path: Received: from mails.dpdk.org (mails.dpdk.org [217.70.189.124]) by inbox.dpdk.org (Postfix) with ESMTP id 3F1DD46602 for ; Tue, 22 Apr 2025 23:52:51 +0200 (CEST) Received: from mails.dpdk.org (localhost [127.0.0.1]) by mails.dpdk.org (Postfix) with ESMTP id 394C240156; Tue, 22 Apr 2025 23:52:51 +0200 (CEST) Received: from mail-io1-f97.google.com (mail-io1-f97.google.com [209.85.166.97]) by mails.dpdk.org (Postfix) with ESMTP id 94F6A40151 for ; Tue, 22 Apr 2025 23:52:47 +0200 (CEST) Received: by mail-io1-f97.google.com with SMTP id ca18e2360f4ac-85d9a87660fso501912839f.1 for ; Tue, 22 Apr 2025 14:52:47 -0700 (PDT) DKIM-Signature: v=1; a=rsa-sha256; c=relaxed/relaxed; d=iol.unh.edu; s=unh-iol; t=1745358766; x=1745963566; darn=dpdk.org; h=references:in-reply-to:cc:to:from:subject:message-id:date:from:to :cc:subject:date:message-id:reply-to; bh=/EfP8dtNG+iR9T4yCUQXaljO+g8RkwYA7THttGGmJH8=; b=XjrQ77OyRvTWG3JyC9WyusVeMv+R1Ue/FLOva6/YpHuc6ELULx6uS6sKRloJ4D/SDn eMqv9zZh3m7FpGBpTQlC50TuyIlsgVj671leKa6BHuAIGKtG/6Rz4AbdrGBZ3x2Z25Yo gmjm3rYCIqSDebfBnt/gXMaZ8kbZSH2uLpt4c= X-Google-DKIM-Signature: v=1; a=rsa-sha256; c=relaxed/relaxed; d=1e100.net; s=20230601; t=1745358766; x=1745963566; h=references:in-reply-to:cc:to:from:subject:message-id:date :x-gm-message-state:from:to:cc:subject:date:message-id:reply-to; bh=/EfP8dtNG+iR9T4yCUQXaljO+g8RkwYA7THttGGmJH8=; b=gzRH1xOLT6oHH4MCiTJ0vXZCif7QKLU1F24rXAkhHPF8OL2y4oCP7WnSrWJTGV9yed EtgYJf7mVtZRK7WI4BgXuWvD2AIvYMmt/Qimt2rBUWEdzyeatPjr7LjcSKP7q++SXM1o EGc/Adv0HMItYT9mnneViBS4BzVeLvxnDllSBq61uzkOBZra4qNZsQVkPuJ5/1DHuQ4c 5vUVz96Fs3BjP8sjdUHogKVnXtuYZKH4aN0b2bRePYF/lC5fQaxFeTQNBXERlb1yLgoX CTa7ThJ1pJ/5S+V9ErQXv79ef4ltn/A+fEgmDqNVnehbHDlj9xTwOo66ju1tpBDYqgqw l4yg== X-Gm-Message-State: AOJu0YyYPBBI91+Egfz83vUWtsUrDdqOAVz0KkWteeDYDynihq8fnNSK tBl+gPgD+BPLziHxF9+hqwgI/h/n4JlrpYr3L8bB1bKr/agWxoRjakrUsV/HqHDGLRppzVzWU91 cp13RDKPOc2iRWB0gVjCBA21rlEYlpLSEkO12tfE7A3oJ38CbPFCdGRwm X-Gm-Gg: ASbGncsrf97Ev0NX3H24u5PHjmbOhpJn3csiV5MkenSteypMhp3525gBz1pc4EcrEcq BbiqQdYxTZerDTEaXncq5UEQPi3rm/0pCIYB4To4RByi1LYp/blqcBTdgE8UdeGHS8f59rNm5/u r5cHURdv2uW4mWtDCZQDo3njPFbR6dKBvdX82Ran+YkgolH9V1/KtgVfdeZV0C95TErjHT8mmUC Q024KeO67VcLb9pQEgZo8UUl1GqRQ7yxZRrB2fOLsxaz4ZLlgWe2/FYXJQKIgnlfVR/wZw72HNh aXZiv6Xz0n5v4jSVHgea+bPBzj529SQOupZwATQLkh8o4Obs X-Google-Smtp-Source: AGHT+IGeZH07naMVIN6VdN4LQeYeHW6b1x/sv/4bfPTEPR7zt+Dccj/b1kKwSXfNuZBWfEu3nM+1IqtxIHj+ X-Received: by 2002:a05:6602:398c:b0:85b:35b1:53b4 with SMTP id ca18e2360f4ac-861dbeda347mr2058029839f.12.1745358766717; Tue, 22 Apr 2025 14:52:46 -0700 (PDT) Received: from postal.iol.unh.edu (postal.iol.unh.edu. [2606:4100:3880:1234::84]) by smtp-relay.gmail.com with ESMTPS id ca18e2360f4ac-8644473ee2bsm1153139f.8.2025.04.22.14.52.46 (version=TLS1_2 cipher=ECDHE-ECDSA-AES128-GCM-SHA256 bits=128/128); Tue, 22 Apr 2025 14:52:46 -0700 (PDT) X-Relaying-Domain: iol.unh.edu Date: Tue, 22 Apr 2025 14:52:46 -0700 (PDT) Message-ID: <68080fae.050a0220.2a3653.0b37SMTPIN_ADDED_MISSING@mx.google.com> Received: from [172.17.0.4] (unknown [172.18.0.217]) by postal.iol.unh.edu (Postfix) with ESMTP id 3673D6052471; Tue, 22 Apr 2025 17:52:46 -0400 (EDT) Subject: |SUCCESS| pw153073 [PATCH] [V2] ethdev_trace.h: Update the trace poi From: dpdklab@iol.unh.edu To: Test Report Cc: dpdk-test-reports@iol.unh.edu In-Reply-To: <20250422122956.1217418-1-changqing.li@windriver.com> References: <20250422122956.1217418-1-changqing.li@windriver.com> Content-Type: text/plain X-BeenThere: test-report@dpdk.org X-Mailman-Version: 2.1.29 Precedence: list List-Id: automatic DPDK test reports List-Unsubscribe: , List-Archive: List-Post: List-Help: List-Subscribe: , Errors-To: test-report-bounces@dpdk.org Test-Label: iol-unit-amd64-testing Test-Status: SUCCESS http://dpdk.org/patch/153073 _Testing PASS_ Submitter: Date: Tuesday, April 22 2025 12:29:56 DPDK git baseline: Repo:dpdk Branch: master CommitID:3829b7150b2bacd8df97134f85ec61bfbdc3f4b1 153073 --> testing pass Upstream job id: Generic-VM-Unit-Test-DPDK#28122 Test environment and result as below: +---------------------+----------------+ | Environment | dpdk_unit_test | +=====================+================+ | CentOS Stream 9 | PASS | +---------------------+----------------+ | Fedora 40 (Clang) | PASS | +---------------------+----------------+ | Fedora 41 (Clang) | PASS | +---------------------+----------------+ | Ubuntu 22.04 | PASS | +---------------------+----------------+ | CentOS Stream 10 | PASS | +---------------------+----------------+ | Fedora 40 | PASS | +---------------------+----------------+ | Ubuntu 24.04 | PASS | +---------------------+----------------+ | Fedora 41 | PASS | +---------------------+----------------+ | Ubuntu 20.04 | PASS | +---------------------+----------------+ | RHEL8 | PASS | +---------------------+----------------+ | Debian 12 | PASS | +---------------------+----------------+ | RHEL9 | PASS | +---------------------+----------------+ | Windows Server 2022 | PASS | +---------------------+----------------+ CentOS Stream 9 Kernel: Depends on container host Compiler: gcc 11.5.0 20240719 (Red Hat 11.5.0-2) Fedora 40 (Clang) Kernel: Depends on container host Compiler: clang 18.1.8 (Fedora 18.1.8-1.fc40) Fedora 41 (Clang) Kernel: Depends on container host Compiler: clang 19.1.5 (Fedora 19.1.5-1.fc41) Ubuntu 22.04 Kernel: Depends on container host Compiler: gcc (Ubuntu 11.4.0-1ubuntu1~22.04) 11.4.0 CentOS Stream 10 Kernel: Depends on container host Compiler: gcc 14.2.1 20241104 (Red Hat 14.2.1-6) Fedora 40 Kernel: Depends on container host Compiler: gcc 14.2.1 20240912 (Red Hat 14.2.1-3) Ubuntu 24.04 Kernel: Depends on container host Compiler: gcc (Ubuntu 13.3.0-6ubuntu2~24.04) 13.3.0 Fedora 41 Kernel: Depends on container host Compiler: gcc 14.2.1 20240912 (Red Hat 14.2.1-3) Ubuntu 20.04 Kernel: Depends on container host Compiler: gcc (Ubuntu 9.4.0-1ubuntu1~20.04.2) 9.4.0 RHEL8 Kernel: Depends on container host Compiler: gcc 8.5.0 20210514 (Red Hat 8.5.0-22) Debian 12 Kernel: Depends on container host Compiler: gcc (Debian 12.2.0-14) 12.2.0 RHEL9 Kernel: Depends on container host Compiler: gcc 11.5.0 20240719 (Red Hat 11.5.0-2) Windows Server 2022 Kernel: 10.0.20348.2031 Compiler: clang 15.0.7, gcc 14.1.0 (MinGW), and MSVC VS 19.39.33521 To view detailed results, visit: https://lab.dpdk.org/results/dashboard/patchsets/33050/ UNH-IOL DPDK Community Lab To manage your email subscriptions, visit: https://lab.dpdk.org/results/dashboard/preferences/subscriptions/