From mboxrd@z Thu Jan 1 00:00:00 1970 Return-Path: Received: from mails.dpdk.org (mails.dpdk.org [217.70.189.124]) by inbox.dpdk.org (Postfix) with ESMTP id B51C846602 for ; Tue, 22 Apr 2025 23:57:16 +0200 (CEST) Received: from mails.dpdk.org (localhost [127.0.0.1]) by mails.dpdk.org (Postfix) with ESMTP id 9B03240156; Tue, 22 Apr 2025 23:57:16 +0200 (CEST) Received: from mail-qk1-f225.google.com (mail-qk1-f225.google.com [209.85.222.225]) by mails.dpdk.org (Postfix) with ESMTP id E5ED740151 for ; Tue, 22 Apr 2025 23:57:14 +0200 (CEST) Received: by mail-qk1-f225.google.com with SMTP id af79cd13be357-7c5c815f8efso519897985a.2 for ; Tue, 22 Apr 2025 14:57:14 -0700 (PDT) DKIM-Signature: v=1; a=rsa-sha256; c=relaxed/relaxed; d=iol.unh.edu; s=unh-iol; t=1745359034; x=1745963834; darn=dpdk.org; h=references:in-reply-to:cc:to:from:subject:message-id:date:from:to :cc:subject:date:message-id:reply-to; bh=iaI84XoN3Pty3qrp7RFP58pNwHZg3i9+sHc18ppZwno=; b=KELJ0Q+4KdtiMxJuDNZrrxXK9u5KdUi6DaNMFhHdHBO2dSIAWLW3jTrcag1Q6vB44P 8zy8kdciGyio7sKOnB8yb6x4W+7NndnBwXA7/VCsrwqMbW2OOkvQpbyLxb6wcSq5f8y7 FvDd7mwlRYd3UxVK4rdG89AnxBZpuSia9VoQo= X-Google-DKIM-Signature: v=1; a=rsa-sha256; c=relaxed/relaxed; d=1e100.net; s=20230601; t=1745359034; x=1745963834; h=references:in-reply-to:cc:to:from:subject:message-id:date :x-gm-message-state:from:to:cc:subject:date:message-id:reply-to; bh=iaI84XoN3Pty3qrp7RFP58pNwHZg3i9+sHc18ppZwno=; b=AO+cGowD13r+9NujopHM3AVhLDBrdf7KWuozfzK/BF16VB9Vv/rzjzS1qgsww40L5x sO0E99EBvJElaVoX9u2ekDfRGLF1KCl7tlBQx5Ib7+qi/cn/GEvYBABaTUXTmvcWF5QI QPNoio1DwhWpCrZhN6Q3VnF9I9mCxz1ofaoWClt+H7WXpiwXB6ZQGnCIb/XLiY5tQ3gi Ypi51v7k6j2IomvhrDWSAib9Zimgxb9d5trAS0Wmi1WejvyDW9MaC209PCFrMpByPxzE kAV+mUb2r+yxDaUatYc7winDbhkXW338CApNl9XwEsUoofg4rvfO/x41T4bT1XNAdWQ9 Cc+Q== X-Gm-Message-State: AOJu0Yw2z99nCCCJNixrg1NKND33612vq55jUxGhKODzHBhTkCO/qLf5 YUF2jnkq4R1QB9fA4Snnf1vl+vE/cCe+8HKVVLCj2Km3MnL14PmmJo9OsK7C4kwK244YTLM7ZxS P8vTL2ibpJowJrPvOdQBZz4FFvSZy1u8qM6u1yxMS X-Gm-Gg: ASbGnct9oV5ek8zRnmZXU8j73ZZXome3Mi4y8uGKyi37DSxRv/Yk9Ce3IqGpR261O8C j4fJxuI7FlBiDaX82lYbFnrub2rwGpZV7CoYkhhl8WKEmyybRq4P3j/nqstOT/vXegJHZHofLG+ Eu2TpNvOwMcwWwbCpc6VBTpDOcrP9kAZ/4dvjQSLlYML2l14Bvl06fQkgQv8EkioSzfoSvtDpDU j/xMiAB9S0ZfRSepzWJy+oY9cDPPFC7SujAT3gR0WserWd1JL5pmhc8RKuB7C4HCsa4ofJ71Bs+ 41pLC+YgcBzCUdo7Krp+Z0CYPIUTT7NozSlt X-Google-Smtp-Source: AGHT+IGj5anmMKDy5Qk/X0LCIjPOXVAGlXCXsSc/nuMlZ/eF98SRWY42owub+6I/mlVcWKTNBnzq8n/iOJYv X-Received: by 2002:a05:620a:c50:b0:7c5:ad3c:8478 with SMTP id af79cd13be357-7c927f7e0a6mr2347322485a.16.1745359034192; Tue, 22 Apr 2025 14:57:14 -0700 (PDT) Received: from postal.iol.unh.edu (postal.iol.unh.edu. [132.177.123.84]) by smtp-relay.gmail.com with ESMTPS id 6a1803df08f44-6f2c2bda059sm4339786d6.44.2025.04.22.14.57.14 (version=TLS1_2 cipher=ECDHE-ECDSA-AES128-GCM-SHA256 bits=128/128); Tue, 22 Apr 2025 14:57:14 -0700 (PDT) X-Relaying-Domain: iol.unh.edu Date: Tue, 22 Apr 2025 14:57:14 -0700 (PDT) Message-ID: <680810ba.050a0220.3a8fb3.8020SMTPIN_ADDED_MISSING@mx.google.com> Received: from [172.17.0.4] (unknown [172.18.0.217]) by postal.iol.unh.edu (Postfix) with ESMTP id DE28E6052471; Tue, 22 Apr 2025 17:57:13 -0400 (EDT) Subject: |SUCCESS| pw153073 [PATCH] [V2] ethdev_trace.h: Update the trace poi From: dpdklab@iol.unh.edu To: Test Report Cc: dpdk-test-reports@iol.unh.edu In-Reply-To: <20250422122956.1217418-1-changqing.li@windriver.com> References: <20250422122956.1217418-1-changqing.li@windriver.com> Content-Type: text/plain X-BeenThere: test-report@dpdk.org X-Mailman-Version: 2.1.29 Precedence: list List-Id: automatic DPDK test reports List-Unsubscribe: , List-Archive: List-Post: List-Help: List-Subscribe: , Errors-To: test-report-bounces@dpdk.org Test-Label: iol-compile-amd64-testing Test-Status: SUCCESS http://dpdk.org/patch/153073 _Testing PASS_ Submitter: Date: Tuesday, April 22 2025 12:29:56 DPDK git baseline: Repo:dpdk Branch: master CommitID:3829b7150b2bacd8df97134f85ec61bfbdc3f4b1 153073 --> testing pass Upstream job id: Generic-DPDK-Compile-Meson#382107 Test environment and result as below: +-----------------------------------+--------------------+-------------------+------------------+-------------------+-------------------------+----------------------+ | Environment | dpdk_meson_compile | dpdk_compile_spdk | dpdk_compile_ovs | dpdk_msvc_compile | dpdk_llvm_clang_compile | dpdk_mingw64_compile | +===================================+====================+===================+==================+===================+=========================+======================+ | CentOS Stream 9 | PASS | PASS | SKIPPED | SKIPPED | SKIPPED | SKIPPED | +-----------------------------------+--------------------+-------------------+------------------+-------------------+-------------------------+----------------------+ | CentOS Stream 10 | PASS | SKIPPED | SKIPPED | SKIPPED | SKIPPED | SKIPPED | +-----------------------------------+--------------------+-------------------+------------------+-------------------+-------------------------+----------------------+ | Debian 12 | PASS | PASS | SKIPPED | SKIPPED | SKIPPED | SKIPPED | +-----------------------------------+--------------------+-------------------+------------------+-------------------+-------------------------+----------------------+ | Fedora 41 | PASS | PASS | PASS | SKIPPED | SKIPPED | SKIPPED | +-----------------------------------+--------------------+-------------------+------------------+-------------------+-------------------------+----------------------+ | Fedora 40 | PASS | PASS | SKIPPED | SKIPPED | SKIPPED | SKIPPED | +-----------------------------------+--------------------+-------------------+------------------+-------------------+-------------------------+----------------------+ | Fedora 41 (Clang) | PASS | PASS | PASS | SKIPPED | SKIPPED | SKIPPED | +-----------------------------------+--------------------+-------------------+------------------+-------------------+-------------------------+----------------------+ | Fedora 40 (Clang) | PASS | PASS | SKIPPED | SKIPPED | SKIPPED | SKIPPED | +-----------------------------------+--------------------+-------------------+------------------+-------------------+-------------------------+----------------------+ | Ubuntu 20.04 | PASS | SKIPPED | SKIPPED | SKIPPED | SKIPPED | SKIPPED | +-----------------------------------+--------------------+-------------------+------------------+-------------------+-------------------------+----------------------+ | openSUSE Leap 15 | PASS | SKIPPED | SKIPPED | SKIPPED | SKIPPED | SKIPPED | +-----------------------------------+--------------------+-------------------+------------------+-------------------+-------------------------+----------------------+ | RHEL8 | PASS | SKIPPED | SKIPPED | SKIPPED | SKIPPED | SKIPPED | +-----------------------------------+--------------------+-------------------+------------------+-------------------+-------------------------+----------------------+ | Ubuntu 22.04 | PASS | PASS | SKIPPED | SKIPPED | SKIPPED | SKIPPED | +-----------------------------------+--------------------+-------------------+------------------+-------------------+-------------------------+----------------------+ | RHEL9 | PASS | SKIPPED | SKIPPED | SKIPPED | SKIPPED | SKIPPED | +-----------------------------------+--------------------+-------------------+------------------+-------------------+-------------------------+----------------------+ | Ubuntu 24.04 | PASS | PASS | PASS | SKIPPED | SKIPPED | SKIPPED | +-----------------------------------+--------------------+-------------------+------------------+-------------------+-------------------------+----------------------+ | Alpine | PASS | SKIPPED | SKIPPED | SKIPPED | SKIPPED | SKIPPED | +-----------------------------------+--------------------+-------------------+------------------+-------------------+-------------------------+----------------------+ | Ubuntu 24.04 32 Bit Cross Compile | PASS | SKIPPED | SKIPPED | SKIPPED | SKIPPED | SKIPPED | +-----------------------------------+--------------------+-------------------+------------------+-------------------+-------------------------+----------------------+ | FreeBSD 13.5 | PASS | SKIPPED | SKIPPED | SKIPPED | SKIPPED | SKIPPED | +-----------------------------------+--------------------+-------------------+------------------+-------------------+-------------------------+----------------------+ | FreeBSD 14.2 | PASS | SKIPPED | SKIPPED | SKIPPED | SKIPPED | SKIPPED | +-----------------------------------+--------------------+-------------------+------------------+-------------------+-------------------------+----------------------+ | Windows Server 2022 | SKIPPED | SKIPPED | SKIPPED | PASS | PASS | PASS | +-----------------------------------+--------------------+-------------------+------------------+-------------------+-------------------------+----------------------+ CentOS Stream 9 Kernel: Depends on container host Compiler: gcc 11.5.0 20240719 (Red Hat 11.5.0-2) CentOS Stream 10 Kernel: Depends on container host Compiler: gcc 14.2.1 20241104 (Red Hat 14.2.1-6) Debian 12 Kernel: Depends on container host Compiler: gcc (Debian 12.2.0-14) 12.2.0 Fedora 41 Kernel: Depends on container host Compiler: gcc 14.2.1 20240912 (Red Hat 14.2.1-3) Fedora 40 Kernel: Depends on container host Compiler: gcc 14.2.1 20240912 (Red Hat 14.2.1-3) Fedora 41 (Clang) Kernel: Depends on container host Compiler: clang 19.1.5 (Fedora 19.1.5-1.fc41) Fedora 40 (Clang) Kernel: Depends on container host Compiler: clang 18.1.8 (Fedora 18.1.8-1.fc40) Ubuntu 20.04 Kernel: Depends on container host Compiler: gcc (Ubuntu 9.4.0-1ubuntu1~20.04.2) 9.4.0 openSUSE Leap 15 Kernel: Depends on container host Compiler: gcc (SUSE Linux) 7.5.0 RHEL8 Kernel: Depends on container host Compiler: gcc 8.5.0 20210514 (Red Hat 8.5.0-22) Ubuntu 22.04 Kernel: Depends on container host Compiler: gcc (Ubuntu 11.4.0-1ubuntu1~22.04) 11.4.0 RHEL9 Kernel: Depends on container host Compiler: gcc 11.5.0 20240719 (Red Hat 11.5.0-2) Ubuntu 24.04 Kernel: Depends on container host Compiler: gcc (Ubuntu 13.3.0-6ubuntu2~24.04) 13.3.0 Alpine Kernel: Depends on container host Compiler: gcc (Alpine 14.2.0) 14.2.0 Ubuntu 24.04 32 Bit Cross Compile Kernel: Depends on container host Compiler: gcc (Ubuntu 13.3.0-6ubuntu2~24.04) 13.3.0 FreeBSD 13.5 Kernel: 13.5-RELEASE Compiler: clang 19.1.7 FreeBSD 14.2 Kernel: 14.2-RELEASE Compiler: clang 18.1.6 Windows Server 2022 Kernel: 10.0.20348.2031 Compiler: clang 15.0.7, gcc 14.1.0 (MinGW), and MSVC VS 19.39.33521 To view detailed results, visit: https://lab.dpdk.org/results/dashboard/patchsets/33050/ UNH-IOL DPDK Community Lab To manage your email subscriptions, visit: https://lab.dpdk.org/results/dashboard/preferences/subscriptions/