From mboxrd@z Thu Jan 1 00:00:00 1970 Return-Path: Received: from mails.dpdk.org (mails.dpdk.org [217.70.189.124]) by inbox.dpdk.org (Postfix) with ESMTP id F2C7246602 for ; Wed, 23 Apr 2025 00:11:25 +0200 (CEST) Received: from mails.dpdk.org (localhost [127.0.0.1]) by mails.dpdk.org (Postfix) with ESMTP id 0C19740156; Wed, 23 Apr 2025 00:11:25 +0200 (CEST) Received: from mail-qk1-f227.google.com (mail-qk1-f227.google.com [209.85.222.227]) by mails.dpdk.org (Postfix) with ESMTP id 91D4D40151 for ; Wed, 23 Apr 2025 00:11:24 +0200 (CEST) Received: by mail-qk1-f227.google.com with SMTP id af79cd13be357-7c53b9d66fdso767370885a.3 for ; Tue, 22 Apr 2025 15:11:24 -0700 (PDT) DKIM-Signature: v=1; a=rsa-sha256; c=relaxed/relaxed; d=iol.unh.edu; s=unh-iol; t=1745359884; x=1745964684; darn=dpdk.org; h=references:in-reply-to:cc:to:from:subject:message-id:date:from:to :cc:subject:date:message-id:reply-to; bh=eQJfIHWBT1V9akq10GP9OXpa+AM4nLqAq4dtkmH5eKo=; b=drHgPldJ57o/cbo71FX1MI7e8tFqHctlRyWpyKUrks5UrlXlPhEIVIK7N1mYzjHch9 ZphO7ytwnhnDtdG0UtUoBFsu+HZYg7kb2mE/WqwiYVhTT9I1YEL4aU1JOa6ZyebI2U6c Bhnz/Q/k4l4WCJzTsjZ/xsaV/PztIC3uI1FDo= X-Google-DKIM-Signature: v=1; a=rsa-sha256; c=relaxed/relaxed; d=1e100.net; s=20230601; t=1745359884; x=1745964684; h=references:in-reply-to:cc:to:from:subject:message-id:date :x-gm-message-state:from:to:cc:subject:date:message-id:reply-to; bh=eQJfIHWBT1V9akq10GP9OXpa+AM4nLqAq4dtkmH5eKo=; b=uffPhO28js7kv5jgP5bqdqeXhSs9NFBhQublNVVyUL5FA1gAq2JlSVMln/MLqqogwZ k5/rwEWNOdDwxfqVwTG6e10pmVgZ8HEGpQiPFmpLnsUmmIxCLE1NVOuvdmwfMMwK3jLX ceXPTRf0xSRAX0wEYDxyf5TgghzoLC+MPYiS1WH1D1/zYMEBbrmDefZS1k4bwgnZsYN5 2Hf3z6r7BC1NoxvrhnbOK0N3ovFPH1spj7opDEi1tIonQX1VjxYFA6Bizo28nu7EisXz FEPu5EM8PL4Wro00r4Ii5/3HAdDy1cwGx6ukujY4Irh3wKKLsaMFXeJn4dizM93zKRzO /19w== X-Gm-Message-State: AOJu0YypfPProvnw6IxVY1tWmqFBX1jvHT0+LOOB7eH4oPpgEXRj4TQl 3valdbiJb9zCl8cCmL36Xp0XeI6wqkP7A7HwiQKNWKEj8N6Ws2SDEvBx5gQEVZrl97dhFaBbCxl tm67RF5SZwKG2BHKAPAsaYEdHFf3T9fV2Z/rD0WOG X-Gm-Gg: ASbGncvZFF7Ed1EwfFJtsl2A4Euyk/pIvIGZEJpZkrkU0SVV3eEY/OiqbUcxRoUXWw7 Skd6fziR3b8RMiWpNGj50UUyxUMj/juIqlaCNlvsUlcjHzOEWBESLbiTVx4Ih0eFOuC25HrX/dj 4+d56yGk4GRCCm2QLH2BENFSWTUkgLrNR7cWNxWFpV+BECwH4vo4WCaMX7s08kI7WDAsUlC1v8S 4FeZk7dCJEFpzSD4x3OWzAId7f/DJBWXwPKesGVRrVWEwoj1m9+MT4flzaxMlcRd/O9yr4kyYi+ akPqpB3CCrXWZcYjwFhmByxfszyCZNrJWdMp X-Google-Smtp-Source: AGHT+IFK1pKo0M19BFX1cJDo9CSeNpzXp4o0bl1VOqCdS9FfPy/qcc3S/xVw7I8Y1/HsSami1SfRRovEFmEb X-Received: by 2002:a05:620a:1a07:b0:7c7:827b:46bf with SMTP id af79cd13be357-7c928015f8dmr2356221985a.39.1745359883685; Tue, 22 Apr 2025 15:11:23 -0700 (PDT) Received: from postal.iol.unh.edu (postal.iol.unh.edu. [132.177.123.84]) by smtp-relay.gmail.com with ESMTPS id af79cd13be357-7c925b8cd25sm21486785a.7.2025.04.22.15.11.23 (version=TLS1_2 cipher=ECDHE-ECDSA-AES128-GCM-SHA256 bits=128/128); Tue, 22 Apr 2025 15:11:23 -0700 (PDT) X-Relaying-Domain: iol.unh.edu Date: Tue, 22 Apr 2025 15:11:23 -0700 (PDT) Message-ID: <6808140b.050a0220.16cda4.b57bSMTPIN_ADDED_MISSING@mx.google.com> Received: from [172.17.0.4] (unknown [172.18.0.217]) by postal.iol.unh.edu (Postfix) with ESMTP id 5922A6052471; Tue, 22 Apr 2025 18:11:23 -0400 (EDT) Subject: |SUCCESS| pw153073 [PATCH] [V2] ethdev_trace.h: Update the trace poi From: dpdklab@iol.unh.edu To: Test Report Cc: dpdk-test-reports@iol.unh.edu In-Reply-To: <20250422122956.1217418-1-changqing.li@windriver.com> References: <20250422122956.1217418-1-changqing.li@windriver.com> Content-Type: text/plain X-BeenThere: test-report@dpdk.org X-Mailman-Version: 2.1.29 Precedence: list List-Id: automatic DPDK test reports List-Unsubscribe: , List-Archive: List-Post: List-Help: List-Subscribe: , Errors-To: test-report-bounces@dpdk.org Test-Label: iol-unit-amd64-testing Test-Status: SUCCESS http://dpdk.org/patch/153073 _Testing PASS_ Submitter: Date: Tuesday, April 22 2025 12:29:56 DPDK git baseline: Repo:dpdk Branch: master CommitID:3829b7150b2bacd8df97134f85ec61bfbdc3f4b1 153073 --> testing pass Upstream job id: Generic-VM-Unit-Test-DPDK#28124 Test environment and result as below: +---------------------+----------------+ | Environment | dpdk_unit_test | +=====================+================+ | CentOS Stream 9 | PASS | +---------------------+----------------+ | Fedora 40 | PASS | +---------------------+----------------+ | CentOS Stream 10 | PASS | +---------------------+----------------+ | Fedora 40 (Clang) | PASS | +---------------------+----------------+ | Debian 12 | PASS | +---------------------+----------------+ | Fedora 41 | PASS | +---------------------+----------------+ | Ubuntu 20.04 | PASS | +---------------------+----------------+ | Ubuntu 22.04 | PASS | +---------------------+----------------+ | Fedora 41 (Clang) | PASS | +---------------------+----------------+ | RHEL8 | PASS | +---------------------+----------------+ | RHEL9 | PASS | +---------------------+----------------+ | Ubuntu 24.04 | PASS | +---------------------+----------------+ | Windows Server 2022 | PASS | +---------------------+----------------+ CentOS Stream 9 Kernel: Depends on container host Compiler: gcc 11.5.0 20240719 (Red Hat 11.5.0-2) Fedora 40 Kernel: Depends on container host Compiler: gcc 14.2.1 20240912 (Red Hat 14.2.1-3) CentOS Stream 10 Kernel: Depends on container host Compiler: gcc 14.2.1 20241104 (Red Hat 14.2.1-6) Fedora 40 (Clang) Kernel: Depends on container host Compiler: clang 18.1.8 (Fedora 18.1.8-1.fc40) Debian 12 Kernel: Depends on container host Compiler: gcc (Debian 12.2.0-14) 12.2.0 Fedora 41 Kernel: Depends on container host Compiler: gcc 14.2.1 20240912 (Red Hat 14.2.1-3) Ubuntu 20.04 Kernel: Depends on container host Compiler: gcc (Ubuntu 9.4.0-1ubuntu1~20.04.2) 9.4.0 Ubuntu 22.04 Kernel: Depends on container host Compiler: gcc (Ubuntu 11.4.0-1ubuntu1~22.04) 11.4.0 Fedora 41 (Clang) Kernel: Depends on container host Compiler: clang 19.1.5 (Fedora 19.1.5-1.fc41) RHEL8 Kernel: Depends on container host Compiler: gcc 8.5.0 20210514 (Red Hat 8.5.0-22) RHEL9 Kernel: Depends on container host Compiler: gcc 11.5.0 20240719 (Red Hat 11.5.0-2) Ubuntu 24.04 Kernel: Depends on container host Compiler: gcc (Ubuntu 13.3.0-6ubuntu2~24.04) 13.3.0 Windows Server 2022 Kernel: 10.0.20348.2031 Compiler: clang 15.0.7, gcc 14.1.0 (MinGW), and MSVC VS 19.39.33521 To view detailed results, visit: https://lab.dpdk.org/results/dashboard/patchsets/33050/ UNH-IOL DPDK Community Lab To manage your email subscriptions, visit: https://lab.dpdk.org/results/dashboard/preferences/subscriptions/