From mboxrd@z Thu Jan 1 00:00:00 1970 Return-Path: Received: from mails.dpdk.org (mails.dpdk.org [217.70.189.124]) by inbox.dpdk.org (Postfix) with ESMTP id D3BAB46602 for ; Wed, 23 Apr 2025 00:42:43 +0200 (CEST) Received: from mails.dpdk.org (localhost [127.0.0.1]) by mails.dpdk.org (Postfix) with ESMTP id AA5C640156; Wed, 23 Apr 2025 00:42:43 +0200 (CEST) Received: from mail-il1-f226.google.com (mail-il1-f226.google.com [209.85.166.226]) by mails.dpdk.org (Postfix) with ESMTP id 9003240151 for ; Wed, 23 Apr 2025 00:42:42 +0200 (CEST) Received: by mail-il1-f226.google.com with SMTP id e9e14a558f8ab-3cf82bd380bso65481315ab.0 for ; Tue, 22 Apr 2025 15:42:42 -0700 (PDT) DKIM-Signature: v=1; a=rsa-sha256; c=relaxed/relaxed; d=iol.unh.edu; s=unh-iol; t=1745361761; x=1745966561; darn=dpdk.org; h=references:in-reply-to:cc:to:from:subject:message-id:date:from:to :cc:subject:date:message-id:reply-to; bh=RtQqElbzZNDNgDo5ZAlI9xSlF9RSfYcILAr5S9dADs4=; b=Jwhhm3m8KO0hRJMS7TEr1fkupnFOix1e0niPwmnSXZJoj2ynAGHSXyzQDjKXXLQx/b 5ahhcf6zXvE2I5Qw1+5zmr4hh0LQWAJwpqvODOHbYSb4TXvgbGOqoZ1wBUqoWaKCC8sx 64YffucC43ymnPnynwK6zYOSMNWnKQ3qT0UDo= X-Google-DKIM-Signature: v=1; a=rsa-sha256; c=relaxed/relaxed; d=1e100.net; s=20230601; t=1745361761; x=1745966561; h=references:in-reply-to:cc:to:from:subject:message-id:date :x-gm-message-state:from:to:cc:subject:date:message-id:reply-to; bh=RtQqElbzZNDNgDo5ZAlI9xSlF9RSfYcILAr5S9dADs4=; b=IsF10TfSuUJEj9MzDRePCM8f8O7S0il/JPIhbWVdEn7b9Qfrun4Hz0lGeEeskZpmVQ w4DYFS0EOK15W/rQuDFYBzl1R+o6m4NtKBwbnfRourvo7dYy9eOuBqx5DXc7Kcooct0U igvfjHIkfeCTQ/CCzCjcEzaF6AibxM3WFJbhPV9dCIGUeFXsZ3ebOe5Br05vgXLxdmUg oEA7u+fZBWdErGFDWxBX7gJqvJxPHpb8ZKJPjnbHgkQprttrUFaLtJcWQTqT62GDUhkt o+JHRY+YvLRDIbJfctnKE4qoAYPyvEAujPEq+q7YjVMha8brJx1RMVKeD4/Zj+EMM1FU WSiw== X-Gm-Message-State: AOJu0YySyCZQywhJZvjEQv9GibGbLh1/M+7VgRNVbeeWxqcAqwigmzHD vSB/LeJkbS415lxZaM5QI8D+hNAkfSTyPIqDBMe1Ph7w1QhtB5TaCpX1I409TmlJmlAntWArZ0l EcKl+4KM4oC8NQBqhBs20CiolxPY7BAP2XMX9ndnDEq+mzGHJ1SzxR7lV X-Gm-Gg: ASbGncvvWc3gGu6RuB9KVz1SI8jr5Vl5MJHmbqB+s2ACs+Y1UJoqDJpASRxtxDfz33X MdGUk5wRVP2Lg6kxtFLw4BiCX8Ol3T2kx8RAb6GzUJmLymflnXfIVtbtkg54m0jKg95t3Txb9V9 JRLC1shfAUAp1ua2fCf1Nu2OdXbKCk7m0NzcIuT465mOlvUPpWMWsloN+OM1CHrIrQi38Jy07JL /SEPE/oxrBVzem8D1T+vfRNqRmEryvlDDIC40BZgoBIcu6EWUYMGrZdMMhnpmYA4ANC18vQGxit 04m2sUbJvdc1AbTtc64jiddqvkOEMxmP/xfx7HWVQulXGq5Y X-Google-Smtp-Source: AGHT+IFsmkCSRhM+Vzbfdz2am0NL/UIPajZVv0dlckylejZHl2+ZvEE5POgQFA0f8IDPe0Iw+4bDXWmvAD9F X-Received: by 2002:a05:6e02:1305:b0:3d9:21c7:1748 with SMTP id e9e14a558f8ab-3d921d65b88mr36178165ab.4.1745361761694; Tue, 22 Apr 2025 15:42:41 -0700 (PDT) Received: from postal.iol.unh.edu (postal.iol.unh.edu. [2606:4100:3880:1234::84]) by smtp-relay.gmail.com with ESMTPS id e9e14a558f8ab-3d9275bcf19sm171375ab.32.2025.04.22.15.42.41 (version=TLS1_2 cipher=ECDHE-ECDSA-AES128-GCM-SHA256 bits=128/128); Tue, 22 Apr 2025 15:42:41 -0700 (PDT) X-Relaying-Domain: iol.unh.edu Date: Tue, 22 Apr 2025 15:42:41 -0700 (PDT) Message-ID: <68081b61.920a0220.16e9c2.11f8SMTPIN_ADDED_MISSING@mx.google.com> Received: from [172.17.0.3] (unknown [172.18.0.217]) by postal.iol.unh.edu (Postfix) with ESMTP id 1EE746052471; Tue, 22 Apr 2025 18:42:41 -0400 (EDT) Subject: |SUCCESS| pw153074-153077 [PATCH] [5/5] net/qede: fix rx_buf_size ca From: dpdklab@iol.unh.edu To: Test Report Cc: dpdk-test-reports@iol.unh.edu In-Reply-To: <20250422155143.3893525-5-edwin.brossette@6wind.com> References: <20250422155143.3893525-5-edwin.brossette@6wind.com> Content-Type: text/plain X-BeenThere: test-report@dpdk.org X-Mailman-Version: 2.1.29 Precedence: list List-Id: automatic DPDK test reports List-Unsubscribe: , List-Archive: List-Post: List-Help: List-Subscribe: , Errors-To: test-report-bounces@dpdk.org Test-Label: iol-compile-arm64-testing Test-Status: SUCCESS http://dpdk.org/patch/153077 _Testing PASS_ Submitter: Edwin Brossette Date: Tuesday, April 22 2025 15:51:43 DPDK git baseline: Repo:dpdk Branch: master CommitID:f64bb46d36a3784c22c1f2712aa24a42009264a3 153074-153077 --> testing pass Upstream job id: Generic-DPDK-Compile-Meson#382054 Test environment and result as below: +----------------------------------------+--------------------+ | Environment | dpdk_meson_compile | +========================================+====================+ | Ubuntu 20.04 ARM GCC Cross Compile | PASS | +----------------------------------------+--------------------+ | Fedora 40 (ARM) | PASS | +----------------------------------------+--------------------+ | Debian 12 with MUSDK | PASS | +----------------------------------------+--------------------+ | Ubuntu 20.04 ARM SVE | PASS | +----------------------------------------+--------------------+ | Fedora 40 (ARM Clang) | PASS | +----------------------------------------+--------------------+ | Fedora 41 (ARM) | PASS | +----------------------------------------+--------------------+ | Fedora 41 (ARM Clang) | PASS | +----------------------------------------+--------------------+ | Ubuntu 20.04 (ARM) | PASS | +----------------------------------------+--------------------+ | Ubuntu 22.04 (ARM) | PASS | +----------------------------------------+--------------------+ | CentOS Stream 9 (ARM) | PASS | +----------------------------------------+--------------------+ | CentOS Stream 10 (ARM) | PASS | +----------------------------------------+--------------------+ | Debian 12 (arm) | PASS | +----------------------------------------+--------------------+ | Ubuntu 20.04 ARM Clang Cross Compile | PASS | +----------------------------------------+--------------------+ | Ubuntu 20.04 aarch32 GCC Cross Compile | PASS | +----------------------------------------+--------------------+ | RHEL9 (ARM) | PASS | +----------------------------------------+--------------------+ Ubuntu 20.04 ARM GCC Cross Compile Kernel: Depends on container host Compiler: aarch64-linux-gnu-gcc (Ubuntu 9.4.0-1ubuntu1~20.04.2) 9.4.0 Fedora 40 (ARM) Kernel: Depends on container host Compiler: gcc 14.2.1 20240912 (Red Hat 14.2.1-3) Debian 12 with MUSDK Kernel: Depends on container host Compiler: gcc (Debian 12.2.0-14) 12.2.0 Ubuntu 20.04 ARM SVE Kernel: Depends on container host Compiler: gcc (Ubuntu 10.5.0-1ubuntu1~20.04) 10.5.0 Fedora 40 (ARM Clang) Kernel: Depends on container host Compiler: clang 18.1.8 (Fedora 18.1.8-1.fc40) Fedora 41 (ARM) Kernel: Depends on container host Compiler: gcc 14.2.1 20240912 (Red Hat 14.2.1-3) Fedora 41 (ARM Clang) Kernel: Depends on container host Compiler: clang 19.1.5 (Fedora 19.1.5-1.fc41) Ubuntu 20.04 (ARM) Kernel: Depends on container host Compiler: gcc (Ubuntu 9.4.0-1ubuntu1~20.04.2) 9.4.0 Ubuntu 22.04 (ARM) Kernel: Depends on container host Compiler: gcc (Ubuntu 11.4.0-1ubuntu1~22.04) 11.4.0 CentOS Stream 9 (ARM) Kernel: Depends on container host Compiler: gcc 11.5.0 20240719 (Red Hat 11.5.0-2) CentOS Stream 10 (ARM) Kernel: Depends on container host Compiler: gcc 14.2.1 20241104 (Red Hat 14.2.1-6) Debian 12 (arm) Kernel: Depends on container host Compiler: gcc (Debian 12.2.0-14) 12.2.0 Ubuntu 20.04 ARM Clang Cross Compile Kernel: Depends on container host Compiler: clang 10.0.0-4ubuntu1 Ubuntu 20.04 aarch32 GCC Cross Compile Kernel: Depends on container host Compiler: gcc 9.4.0 RHEL9 (ARM) Kernel: Depends on container host Compiler: gcc 11.5.0 20240719 (Red Hat 11.5.0-2) To view detailed results, visit: https://lab.dpdk.org/results/dashboard/patchsets/33051/ UNH-IOL DPDK Community Lab To manage your email subscriptions, visit: https://lab.dpdk.org/results/dashboard/preferences/subscriptions/