From mboxrd@z Thu Jan 1 00:00:00 1970 Return-Path: Received: from mails.dpdk.org (mails.dpdk.org [217.70.189.124]) by inbox.dpdk.org (Postfix) with ESMTP id A9E4646602 for ; Wed, 23 Apr 2025 01:14:25 +0200 (CEST) Received: from mails.dpdk.org (localhost [127.0.0.1]) by mails.dpdk.org (Postfix) with ESMTP id A99B540156; Wed, 23 Apr 2025 01:14:24 +0200 (CEST) Received: from mail-yb1-f226.google.com (mail-yb1-f226.google.com [209.85.219.226]) by mails.dpdk.org (Postfix) with ESMTP id 5E30640151 for ; Wed, 23 Apr 2025 01:14:23 +0200 (CEST) Received: by mail-yb1-f226.google.com with SMTP id 3f1490d57ef6-e637edaa652so4536355276.1 for ; Tue, 22 Apr 2025 16:14:23 -0700 (PDT) DKIM-Signature: v=1; a=rsa-sha256; c=relaxed/relaxed; d=iol.unh.edu; s=unh-iol; t=1745363662; x=1745968462; darn=dpdk.org; h=references:in-reply-to:cc:to:from:subject:message-id:date:from:to :cc:subject:date:message-id:reply-to; bh=pTc39XO+JSGmx3sjnxQU8UCiy8D0PldsiXzAjr68SLY=; b=BaS/MIxKMOIuv5nVDWGzzhFz5MdCKiYL9NiSjzHl551fMfanhNVZ/7f41KhnkBDgAm PvX+Qnq7Fi15fVI2HNv89lFM8nNI2X4ZEbtCiPAoXtuRgD7OWTmLIfCYeNhsfsMt1wXc SYFWOMZu1eubxQuD0e6ekW/FQ+WIOUwPq6IkU= X-Google-DKIM-Signature: v=1; a=rsa-sha256; c=relaxed/relaxed; d=1e100.net; s=20230601; t=1745363662; x=1745968462; h=references:in-reply-to:cc:to:from:subject:message-id:date :x-gm-message-state:from:to:cc:subject:date:message-id:reply-to; bh=pTc39XO+JSGmx3sjnxQU8UCiy8D0PldsiXzAjr68SLY=; b=OnPWciNrYrZcS8FtcJLeww4PfibhrUrLRQCd30lwMy2R+kvj8K9k6VUR+aiIlv195P dxEamzIFi1r01Dch6X0HI6wclB7Zaxu47fKfijYbhz6qfEE24Fgjvf2WQJ2vP5Ed+WTw RdBm/IL92IOYp6xPOF0A4oEAlYDbaHjY6gh5x88wKY00rCbfkQD/Cw9gStjn1gKvdeQv wAAx1sWQA7avg6OFW/a3IVHpuy68QXOul8ZpMmmMn57zzsCdAOdGx3bfT8dlNACn4bbM bvVefX72unY5FMiomcZIwABHRM7WAs8tkKQLtQEg1h3dkeGTlX2cuYLQJ2dc5jzYJCGV QnTQ== X-Gm-Message-State: AOJu0YwZeG9GH5fb7i3SpU9CsJkSIQVVbIZOY9bUBIA4m5p66/+gnSvS YspsgwgquDkQwjo5tkEYyg9DIo7LO0GtaqBEVquJ+R6F2CvTz+iL0CLv3TVzzscRzaqaR08B4eM 823GtTUH1FH768/FFeSZBmsR6+4oC+PSVAmtmPM8W4xQGrhi9K8qsrKLY X-Gm-Gg: ASbGncueE84/4gS15goZbXP4U+k019XfxrlNOTADdiL78NKA0GvjkW/xy9autvaHA6n 3PNv0IOzocF9qFea2rU+cQik3fXMLsgh+VpLcyAD+P6zxmyngy9mU4Fs9KAI/LV/q+3krChdB0N yIwBMp0yviUCSu/ZaSWiAOxcjdz5U0Ffy9r52Pbvt2RrldJCijHVta32YlMFi4mPLQC3BBx3U1G nIlp4fPeA2gjoNibaqhbR8CZI3fioopsvRV/T756NORiW3s+LVMiYsN8wNpTHEjgomjjaD3VACx qCQDF0508ZTVopVOeF5L5vplq6cvxbFPLOXpj/U7NOVrCXJ9 X-Google-Smtp-Source: AGHT+IGc6064OooLGOYH+boN2EiFM/2vXZedL2By47xsAtJSnoXsOLMr2QFaOXXO8Igfb7eY9sc3H9Fhc3We X-Received: by 2002:a05:6902:4401:b0:e72:9d03:3cce with SMTP id 3f1490d57ef6-e729d034030mr20168022276.41.1745363662681; Tue, 22 Apr 2025 16:14:22 -0700 (PDT) Received: from postal.iol.unh.edu (postal.iol.unh.edu. [2606:4100:3880:1234::84]) by smtp-relay.gmail.com with ESMTPS id 3f1490d57ef6-e72958a5ef1sm559055276.18.2025.04.22.16.14.22 (version=TLS1_2 cipher=ECDHE-ECDSA-AES128-GCM-SHA256 bits=128/128); Tue, 22 Apr 2025 16:14:22 -0700 (PDT) X-Relaying-Domain: iol.unh.edu Date: Tue, 22 Apr 2025 16:14:22 -0700 (PDT) Message-ID: <680822ce.250a0220.23351e.0795SMTPIN_ADDED_MISSING@mx.google.com> Received: from [172.17.0.3] (unknown [172.18.0.217]) by postal.iol.unh.edu (Postfix) with ESMTP id 46BB66052471; Tue, 22 Apr 2025 19:14:22 -0400 (EDT) Subject: |SUCCESS| pw153073 [PATCH] [V2] ethdev_trace.h: Update the trace poi From: dpdklab@iol.unh.edu To: Test Report Cc: dpdk-test-reports@iol.unh.edu In-Reply-To: <20250422122956.1217418-1-changqing.li@windriver.com> References: <20250422122956.1217418-1-changqing.li@windriver.com> Content-Type: text/plain X-BeenThere: test-report@dpdk.org X-Mailman-Version: 2.1.29 Precedence: list List-Id: automatic DPDK test reports List-Unsubscribe: , List-Archive: List-Post: List-Help: List-Subscribe: , Errors-To: test-report-bounces@dpdk.org Test-Label: iol-unit-arm64-testing Test-Status: SUCCESS http://dpdk.org/patch/153073 _Testing PASS_ Submitter: Date: Tuesday, April 22 2025 12:29:56 DPDK git baseline: Repo:dpdk Branch: master CommitID:3829b7150b2bacd8df97134f85ec61bfbdc3f4b1 153073 --> testing pass Upstream job id: Generic-Unit-Test-DPDK#332835 Test environment and result as below: +-----------------------------+----------------+--------------+------------------------------+---------------------------+ | Environment | dpdk_unit_test | lpm_autotest | cryptodev_sw_snow3g_autotest | cryptodev_sw_zuc_autotest | +=============================+================+==============+==============================+===========================+ | 32-bit Ubuntu 22.04.4 (ARM) | PASS | SKIPPED | SKIPPED | SKIPPED | +-----------------------------+----------------+--------------+------------------------------+---------------------------+ | CentOS Stream 9 (ARM) | PASS | SKIPPED | SKIPPED | SKIPPED | +-----------------------------+----------------+--------------+------------------------------+---------------------------+ | Fedora 41 (ARM) | PASS | SKIPPED | SKIPPED | SKIPPED | +-----------------------------+----------------+--------------+------------------------------+---------------------------+ | CentOS Stream 10 (ARM) | PASS | SKIPPED | SKIPPED | SKIPPED | +-----------------------------+----------------+--------------+------------------------------+---------------------------+ | Debian 12 (arm) | PASS | SKIPPED | PASS | PASS | +-----------------------------+----------------+--------------+------------------------------+---------------------------+ | Fedora 40 (ARM) | PASS | SKIPPED | SKIPPED | SKIPPED | +-----------------------------+----------------+--------------+------------------------------+---------------------------+ | RHEL9 (ARM) | PASS | SKIPPED | SKIPPED | SKIPPED | +-----------------------------+----------------+--------------+------------------------------+---------------------------+ | Fedora 40 (ARM Clang) | PASS | SKIPPED | SKIPPED | SKIPPED | +-----------------------------+----------------+--------------+------------------------------+---------------------------+ | Ubuntu 22.04 (ARM) | PASS | SKIPPED | SKIPPED | SKIPPED | +-----------------------------+----------------+--------------+------------------------------+---------------------------+ | Ubuntu 20.04 (ARM) | PASS | SKIPPED | SKIPPED | SKIPPED | +-----------------------------+----------------+--------------+------------------------------+---------------------------+ | Fedora 41 (ARM Clang) | PASS | SKIPPED | SKIPPED | SKIPPED | +-----------------------------+----------------+--------------+------------------------------+---------------------------+ | Ubuntu 24.04 (ARM) | PASS | SKIPPED | SKIPPED | SKIPPED | +-----------------------------+----------------+--------------+------------------------------+---------------------------+ | Ubuntu 20.04 ARM SVE | SKIPPED | PASS | SKIPPED | SKIPPED | +-----------------------------+----------------+--------------+------------------------------+---------------------------+ 32-bit Ubuntu 22.04.4 (ARM) Kernel: 5.15.83+ aarch64 Compiler: gcc (Ubuntu 11.4.0-1ubuntu1~22.04) 11.4.0 CentOS Stream 9 (ARM) Kernel: Depends on container host Compiler: gcc 11.5.0 20240719 (Red Hat 11.5.0-2) Fedora 41 (ARM) Kernel: Depends on container host Compiler: gcc 14.2.1 20240912 (Red Hat 14.2.1-3) CentOS Stream 10 (ARM) Kernel: Depends on container host Compiler: gcc 14.2.1 20241104 (Red Hat 14.2.1-6) Debian 12 (arm) Kernel: Depends on container host Compiler: gcc (Debian 12.2.0-14) 12.2.0 Fedora 40 (ARM) Kernel: Depends on container host Compiler: gcc 14.2.1 20240912 (Red Hat 14.2.1-3) RHEL9 (ARM) Kernel: Depends on container host Compiler: gcc 11.5.0 20240719 (Red Hat 11.5.0-2) Fedora 40 (ARM Clang) Kernel: Depends on container host Compiler: clang 18.1.8 (Fedora 18.1.8-1.fc40) Ubuntu 22.04 (ARM) Kernel: Depends on container host Compiler: gcc (Ubuntu 11.4.0-1ubuntu1~22.04) 11.4.0 Ubuntu 20.04 (ARM) Kernel: Depends on container host Compiler: gcc (Ubuntu 9.4.0-1ubuntu1~20.04.2) 9.4.0 Fedora 41 (ARM Clang) Kernel: Depends on container host Compiler: clang 19.1.5 (Fedora 19.1.5-1.fc41) Ubuntu 24.04 (ARM) Kernel: Depends on container host Compiler: gcc (Ubuntu 13.3.0-6ubuntu2~24.04) 13.3.0 Ubuntu 20.04 ARM SVE Kernel: Depends on container host Compiler: gcc (Ubuntu 10.5.0-1ubuntu1~20.04) 10.5.0 To view detailed results, visit: https://lab.dpdk.org/results/dashboard/patchsets/33050/ UNH-IOL DPDK Community Lab To manage your email subscriptions, visit: https://lab.dpdk.org/results/dashboard/preferences/subscriptions/