From mboxrd@z Thu Jan  1 00:00:00 1970
Return-Path: <test-report-bounces@dpdk.org>
Received: from mails.dpdk.org (mails.dpdk.org [217.70.189.124])
	by inbox.dpdk.org (Postfix) with ESMTP id 0587146604
	for <public@inbox.dpdk.org>; Wed, 23 Apr 2025 05:21:29 +0200 (CEST)
Received: from mails.dpdk.org (localhost [127.0.0.1])
	by mails.dpdk.org (Postfix) with ESMTP id C3AB2402A9;
	Wed, 23 Apr 2025 05:21:29 +0200 (CEST)
Received: from mail-io1-f100.google.com (mail-io1-f100.google.com
 [209.85.166.100])
 by mails.dpdk.org (Postfix) with ESMTP id EF35B4029D
 for <test-report@dpdk.org>; Wed, 23 Apr 2025 05:21:27 +0200 (CEST)
Received: by mail-io1-f100.google.com with SMTP id
 ca18e2360f4ac-86142446f3fso131585939f.2
 for <test-report@dpdk.org>; Tue, 22 Apr 2025 20:21:27 -0700 (PDT)
DKIM-Signature: v=1; a=rsa-sha256; c=relaxed/relaxed;
 d=iol.unh.edu; s=unh-iol; t=1745378487; x=1745983287; darn=dpdk.org;
 h=references:in-reply-to:cc:to:from:subject:message-id:date:from:to
 :cc:subject:date:message-id:reply-to;
 bh=nm0lR8AO+i6aNjfj1WTDGfTmCc5hzRvNZ4E7MELv57c=;
 b=FWCsTSAk4k1mYuVDln0YI0MYBOwSLPsoAOpZvsYjZXTHy8vKWwg3CUW+/WnrjiJ9+f
 oPl3haoyeLJUMfZvQCP+iFn6gbA7eD9aENTPoqp8mxpeNpgEotB7RzXuVFBGfWjmEAlZ
 bfKR6HU/6SkmBUePj9/8ej0Wt3hm3H0AM9ABs=
X-Google-DKIM-Signature: v=1; a=rsa-sha256; c=relaxed/relaxed;
 d=1e100.net; s=20230601; t=1745378487; x=1745983287;
 h=references:in-reply-to:cc:to:from:subject:message-id:date
 :x-gm-message-state:from:to:cc:subject:date:message-id:reply-to;
 bh=nm0lR8AO+i6aNjfj1WTDGfTmCc5hzRvNZ4E7MELv57c=;
 b=vxUVllAL5NZ7FE6n3fpltofJ58ZVGLTx8/fRbkiL/k3BSCl+rX6Y314igNHuOP8Etg
 OlytTNw7BmfTBYKIiGUlw554mMJkPul0bnb2VZZVzPX/Of15+rBK8bLXgCGNsK8BBVFK
 J1gIe0SUgfaPDV4JH5OGFxLE4BzSntVFSYvW3bau7RW0BcWlybABKiSgKXvP9NIDUXWX
 lxW/E0jyTBd5JIstuoO2J8mWRBkSrL5tAixymPFblhWeUnqjJL8Cw8i8LLx2egIaCAOL
 ofCGTKeqlp5uSRoUiEhnREHel28Xf/BdWuqPHW+rzCoNjdmRLYHUnYxEMcqARoK+FGdM
 d8EQ==
X-Gm-Message-State: AOJu0YxVW5vHs/dJx/d2Xg5fWsmBi+CyR7vfnNjZsiGQ88vCGlPafQ+/
 0ttXX8DFM/TQcs6JGTv0LfEaILRj3DYAMnMCYTl2z4IHTKMXzvzs5AnjDvGTNOUcOwBDSoGJ3r2
 Nt2Jgmk/AWHVKnjPzZS9JfoEPyqpSs47nR5vnaODR
X-Gm-Gg: ASbGnct+YNqistPTQbSY/YdF340QpJXagdbD+TmA/cPsyJDHJoOTLWbk9CGx5LltiWz
 Xn3s+na2du0GxWZBD5dmztJxTecYsQNtl4t6H6sXvE67VjardsJxyqQ7D/IWnnL3pVp1IpKyLTU
 eK9i2ngRRMyiIHTA2enNv7wR3q+tCyud7vysYBPhHWsLeBjeU3406bNCKWTdpR+sYkOB5Tpe+e8
 zdelisMHd0U4H5u5r6Scp0W6t5V7fv9qioNzWPT2zfZJFvso7vYHNugI6Il+BtL4O3gT7TPVzb6
 ZxCsnsCC7a3NhGqKbOu880djQTN79UBtuqpF
X-Google-Smtp-Source: AGHT+IHI+gtSApoNS/p++v7rRJNn2uQwMLSb4cE9fuZC6F/dv1HsdDyAZyk8Coz73xh+UEDJ4vxBuHemEabc
X-Received: by 2002:a05:6602:3790:b0:85e:1879:c708 with SMTP id
 ca18e2360f4ac-861dbdcffb9mr1770176539f.1.1745378487146; 
 Tue, 22 Apr 2025 20:21:27 -0700 (PDT)
Received: from postal.iol.unh.edu (postal.iol.unh.edu. [132.177.123.84])
 by smtp-relay.gmail.com with ESMTPS id
 8926c6da1cb9f-4f6a395fe16sm436488173.67.2025.04.22.20.21.27
 (version=TLS1_2 cipher=ECDHE-ECDSA-AES128-GCM-SHA256 bits=128/128);
 Tue, 22 Apr 2025 20:21:27 -0700 (PDT)
X-Relaying-Domain: iol.unh.edu
Date: Tue, 22 Apr 2025 20:21:27 -0700 (PDT)
Message-ID: <68085cb7.050a0220.105ae7.82ecSMTPIN_ADDED_MISSING@mx.google.com>
Received: from [172.17.0.3] (unknown [172.18.0.217])
 by postal.iol.unh.edu (Postfix) with ESMTP id 54C416052471;
 Tue, 22 Apr 2025 23:21:26 -0400 (EDT)
Subject: |SUCCESS| pw153070 [PATCH] [v2] ethdev: add support for flow action 
From: dpdklab@iol.unh.edu
To: Test Report <test-report@dpdk.org>
Cc: dpdk-test-reports@iol.unh.edu
In-Reply-To: <20250422055331.1270825-1-kirankumark@marvell.com>
References: <20250422055331.1270825-1-kirankumark@marvell.com>
Content-Type: text/plain
X-BeenThere: test-report@dpdk.org
X-Mailman-Version: 2.1.29
Precedence: list
List-Id: automatic DPDK test reports <test-report.dpdk.org>
List-Unsubscribe: <https://mails.dpdk.org/options/test-report>,
 <mailto:test-report-request@dpdk.org?subject=unsubscribe>
List-Archive: <http://mails.dpdk.org/archives/test-report/>
List-Post: <mailto:test-report@dpdk.org>
List-Help: <mailto:test-report-request@dpdk.org?subject=help>
List-Subscribe: <https://mails.dpdk.org/listinfo/test-report>,
 <mailto:test-report-request@dpdk.org?subject=subscribe>
Errors-To: test-report-bounces@dpdk.org

Test-Label: iol-unit-arm64-testing
Test-Status: SUCCESS
http://dpdk.org/patch/153070

_Testing PASS_

Submitter: Kiran Kumar Kokkilagadda <kirankumark@marvell.com>
Date: Tuesday, April 22 2025 05:53:30 
DPDK git baseline: Repo:dpdk
  Branch: master
  CommitID:e1079be7f8cd78c0952a2b52404814c926dde2a8

153070 --> testing pass

Upstream job id: Aarch32-Unit-Test#6020

Test environment and result as below:

+-----------------------------+----------------+---------------------------+--------------+------------------------------+
|         Environment         | dpdk_unit_test | cryptodev_sw_zuc_autotest | lpm_autotest | cryptodev_sw_snow3g_autotest |
+=============================+================+===========================+==============+==============================+
| 32-bit Ubuntu 22.04.4 (ARM) | PASS           | SKIPPED                   | SKIPPED      | SKIPPED                      |
+-----------------------------+----------------+---------------------------+--------------+------------------------------+
| CentOS Stream 9 (ARM)       | PASS           | SKIPPED                   | SKIPPED      | SKIPPED                      |
+-----------------------------+----------------+---------------------------+--------------+------------------------------+
| Fedora 40 (ARM)             | PASS           | SKIPPED                   | SKIPPED      | SKIPPED                      |
+-----------------------------+----------------+---------------------------+--------------+------------------------------+
| Fedora 41 (ARM)             | PASS           | SKIPPED                   | SKIPPED      | SKIPPED                      |
+-----------------------------+----------------+---------------------------+--------------+------------------------------+
| Debian 12 (arm)             | PASS           | PASS                      | SKIPPED      | PASS                         |
+-----------------------------+----------------+---------------------------+--------------+------------------------------+
| CentOS Stream 10 (ARM)      | PASS           | SKIPPED                   | SKIPPED      | SKIPPED                      |
+-----------------------------+----------------+---------------------------+--------------+------------------------------+
| Fedora 40 (ARM Clang)       | PASS           | SKIPPED                   | SKIPPED      | SKIPPED                      |
+-----------------------------+----------------+---------------------------+--------------+------------------------------+
| Fedora 41 (ARM Clang)       | PASS           | SKIPPED                   | SKIPPED      | SKIPPED                      |
+-----------------------------+----------------+---------------------------+--------------+------------------------------+
| RHEL9 (ARM)                 | PASS           | SKIPPED                   | SKIPPED      | SKIPPED                      |
+-----------------------------+----------------+---------------------------+--------------+------------------------------+
| Ubuntu 22.04 (ARM)          | PASS           | SKIPPED                   | SKIPPED      | SKIPPED                      |
+-----------------------------+----------------+---------------------------+--------------+------------------------------+
| Ubuntu 24.04 (ARM)          | PASS           | SKIPPED                   | SKIPPED      | SKIPPED                      |
+-----------------------------+----------------+---------------------------+--------------+------------------------------+
| Ubuntu 20.04 (ARM)          | PASS           | SKIPPED                   | SKIPPED      | SKIPPED                      |
+-----------------------------+----------------+---------------------------+--------------+------------------------------+
| Ubuntu 20.04 ARM SVE        | SKIPPED        | SKIPPED                   | PASS         | SKIPPED                      |
+-----------------------------+----------------+---------------------------+--------------+------------------------------+


32-bit Ubuntu 22.04.4 (ARM)
	Kernel: 5.15.83+ aarch64
	Compiler: gcc (Ubuntu 11.4.0-1ubuntu1~22.04) 11.4.0

CentOS Stream 9 (ARM)
	Kernel: Depends on container host
	Compiler: gcc 11.5.0 20240719 (Red Hat 11.5.0-2)

Fedora 40 (ARM)
	Kernel: Depends on container host
	Compiler: gcc 14.2.1 20240912 (Red Hat 14.2.1-3)

Fedora 41 (ARM)
	Kernel: Depends on container host
	Compiler: gcc 14.2.1 20240912 (Red Hat 14.2.1-3)

Debian 12 (arm)
	Kernel: Depends on container host
	Compiler: gcc (Debian 12.2.0-14) 12.2.0

CentOS Stream 10 (ARM)
	Kernel: Depends on container host
	Compiler: gcc 14.2.1 20241104 (Red Hat 14.2.1-6)

Fedora 40 (ARM Clang)
	Kernel: Depends on container host
	Compiler: clang 18.1.8 (Fedora 18.1.8-1.fc40)

Fedora 41 (ARM Clang)
	Kernel: Depends on container host
	Compiler: clang 19.1.5 (Fedora 19.1.5-1.fc41)

RHEL9 (ARM)
	Kernel: Depends on container host
	Compiler: gcc 11.5.0 20240719 (Red Hat 11.5.0-2)

Ubuntu 22.04 (ARM)
	Kernel: Depends on container host
	Compiler: gcc (Ubuntu 11.4.0-1ubuntu1~22.04) 11.4.0

Ubuntu 24.04 (ARM)
	Kernel: Depends on container host
	Compiler: gcc (Ubuntu 13.3.0-6ubuntu2~24.04) 13.3.0

Ubuntu 20.04 (ARM)
	Kernel: Depends on container host
	Compiler: gcc (Ubuntu 9.4.0-1ubuntu1~20.04.2) 9.4.0

Ubuntu 20.04 ARM SVE
	Kernel: Depends on container host
	Compiler: gcc (Ubuntu 10.5.0-1ubuntu1~20.04) 10.5.0

To view detailed results, visit:
https://lab.dpdk.org/results/dashboard/patchsets/33047/

UNH-IOL DPDK Community Lab

To manage your email subscriptions, visit: 
https://lab.dpdk.org/results/dashboard/preferences/subscriptions/