From mboxrd@z Thu Jan  1 00:00:00 1970
Return-Path: <test-report-bounces@dpdk.org>
Received: from mails.dpdk.org (mails.dpdk.org [217.70.189.124])
	by inbox.dpdk.org (Postfix) with ESMTP id C18F746605
	for <public@inbox.dpdk.org>; Wed, 23 Apr 2025 07:32:35 +0200 (CEST)
Received: from mails.dpdk.org (localhost [127.0.0.1])
	by mails.dpdk.org (Postfix) with ESMTP id 8E7D2402A9;
	Wed, 23 Apr 2025 07:32:35 +0200 (CEST)
Received: from mail-yw1-f226.google.com (mail-yw1-f226.google.com
 [209.85.128.226])
 by mails.dpdk.org (Postfix) with ESMTP id D8DA04029D
 for <test-report@dpdk.org>; Wed, 23 Apr 2025 07:32:33 +0200 (CEST)
Received: by mail-yw1-f226.google.com with SMTP id
 00721157ae682-6ff0c9d1761so53325317b3.1
 for <test-report@dpdk.org>; Tue, 22 Apr 2025 22:32:33 -0700 (PDT)
DKIM-Signature: v=1; a=rsa-sha256; c=relaxed/relaxed;
 d=iol.unh.edu; s=unh-iol; t=1745386353; x=1745991153; darn=dpdk.org;
 h=cc:to:from:subject:message-id:date:from:to:cc:subject:date
 :message-id:reply-to;
 bh=YBA3XYMXXixdQB5xZ0q64ExvZSmQMadcRMS6GMMu0kI=;
 b=I6o1djFfhTaWdXrPdQMDIKCR4XNjyvFicSC1T/ND1K7zAazbyK3mJBaBMj6fP/UBsp
 cdJlj44WRdDV4p+mOoHJl5Mh936CKspXWNV4rIrnsGqqU6iuOWAov+IlENxNqvQV/95q
 P7syAHQb84xp/VaAsVf8gL/0pJDKPEPAnmvk4=
X-Google-DKIM-Signature: v=1; a=rsa-sha256; c=relaxed/relaxed;
 d=1e100.net; s=20230601; t=1745386353; x=1745991153;
 h=cc:to:from:subject:message-id:date:x-gm-message-state:from:to:cc
 :subject:date:message-id:reply-to;
 bh=YBA3XYMXXixdQB5xZ0q64ExvZSmQMadcRMS6GMMu0kI=;
 b=isvoJnr4OywsYv/Tf9beyhTgYaaaTksUPmGVrnro/KU7DnYY00XBb+JwzxtGWTsKAv
 YAY7FH8xWwIvitcEoueJvoqg1413xSuLZ/F1WV2C7LMusqmk4IGEN6oxXCJ+qaeckKb9
 eRk2usqjmPctR6sBA9sKBovDMEupLFtKqXclKEurv9DzXccPqat7UjEqfOo1Su24ukbZ
 zBKXA3aUgmq1oMnGHrD79xBnKyoMSJ+xGDYjZZm4MX1dj3G3vTSCJ7cSGyjBF4RrVaoW
 4BSKKkeLtuXxAVl2rbFmRwvQ8qSjPUQBbGcx1TsHjvSzFkFvjFtCZRPnxZWCRC2IwlvK
 5UsA==
X-Gm-Message-State: AOJu0Yw7DQLca8Axmhss1phBUhK6Nr6Jo4dc4hIp4iC1FsHAxAaKdUFL
 Lb9uII1Rca1J6XUc8TofnESvZB03eXfO0w2nAvPiryHs6YDxVmMqZHqILlYCWgRCbQqsIWh+7m0
 Hxz8Y73sCrQ8vDJECtwffgqOjE8ha/rBA
X-Gm-Gg: ASbGncsLspyOxXPjJZgRgUabpj+DNIxGYapdCbv4N5R2As5yguwMIoO2KGOZcgM0VBv
 7IJC9ohGANhAVjusuXpyMG0ythn8h9VnK4KheuI/ePjEZYphY2AMmZpwbXgQzor6ZZRpIxk0TF1
 xy5UIZyOmJZ4i9RH76hgPLd7TvQbppXn5jmv3N514/O3u+O7C5zeiLOb6zYJ0r5I3RnCYwl4roK
 cMWvQkxfYPzvYU9B8B9J/drm57Vz1MJr2TdHhGHgesVx+OlrObBUHqKMwUhxvt8ABqQ3lU7GOlZ
 l/yrBOS7ZZ1V14jhP+Sw5CUBXgZulFeZcs14
X-Google-Smtp-Source: AGHT+IHl4qUefwT2L2BEruZ7OOOTur9yng3FfnvjeIEmMwRLhp6mdJomkHxCMih1L8Es4YFqMNkFGOC3KmUS
X-Received: by 2002:a05:690c:b82:b0:703:b0e3:bd76 with SMTP id
 00721157ae682-706ccd000acmr270670077b3.11.1745386353082; 
 Tue, 22 Apr 2025 22:32:33 -0700 (PDT)
Received: from postal.iol.unh.edu (postal.iol.unh.edu. [132.177.123.84])
 by smtp-relay.gmail.com with ESMTPS id
 00721157ae682-706ca5cf49csm6849057b3.70.2025.04.22.22.32.33
 (version=TLS1_2 cipher=ECDHE-ECDSA-AES128-GCM-SHA256 bits=128/128);
 Tue, 22 Apr 2025 22:32:33 -0700 (PDT)
X-Relaying-Domain: iol.unh.edu
Date: Tue, 22 Apr 2025 22:32:33 -0700 (PDT)
Message-ID: <68087b71.0d0a0220.6b7e3.7a36SMTPIN_ADDED_MISSING@mx.google.com>
Received: from [172.17.0.5] (unknown [172.18.0.74])
 by postal.iol.unh.edu (Postfix) with ESMTP id A40D86052471;
 Wed, 23 Apr 2025 01:32:32 -0400 (EDT)
Subject: |SUCCESS| [GIT MASTER] 4401486b5e30d43a134f80f9802f60b5f43e74a8
From: dpdklab@iol.unh.edu
To: Test Report <test-report@dpdk.org>
Cc: dpdk-test-reports@iol.unh.edu, Xueming Li <xuemingl@nvidia.com>,
 Christian Ehrhardt <christian.ehrhardt@canonical.com>,
 Kevin Traynor <ktraynor@redhat.com>, Luca Boccassi <bluca@debian.org>
Content-Type: text/plain
X-BeenThere: test-report@dpdk.org
X-Mailman-Version: 2.1.29
Precedence: list
List-Id: automatic DPDK test reports <test-report.dpdk.org>
List-Unsubscribe: <https://mails.dpdk.org/options/test-report>,
 <mailto:test-report-request@dpdk.org?subject=unsubscribe>
List-Archive: <http://mails.dpdk.org/archives/test-report/>
List-Post: <mailto:test-report@dpdk.org>
List-Help: <mailto:test-report-request@dpdk.org?subject=help>
List-Subscribe: <https://mails.dpdk.org/listinfo/test-report>,
 <mailto:test-report-request@dpdk.org?subject=subscribe>
Errors-To: test-report-bounces@dpdk.org

_Testing PASS_

Branch: tags/v22.11

4401486b5e30d43a134f80f9802f60b5f43e74a8 --> testing pass

Upstream job id: Generic-Unit-Test-DPDK#332874

Test environment and result as below:

+----------------------+--------------+------------------------------+---------------------------+
|     Environment      | lpm_autotest | cryptodev_sw_snow3g_autotest | cryptodev_sw_zuc_autotest |
+======================+==============+==============================+===========================+
| Ubuntu 20.04 ARM SVE | PASS         | SKIPPED                      | SKIPPED                   |
+----------------------+--------------+------------------------------+---------------------------+
| Debian 12 (arm)      | SKIPPED      | PASS                         | PASS                      |
+----------------------+--------------+------------------------------+---------------------------+


Ubuntu 20.04 ARM SVE
	Kernel: Depends on container host
	Compiler: gcc (Ubuntu 10.5.0-1ubuntu1~20.04) 10.5.0

Debian 12 (arm)
	Kernel: Depends on container host
	Compiler: gcc (Debian 12.2.0-14) 12.2.0

To view detailed results, visit:
https://lab.dpdk.org/results/dashboard/tarballs/33331/

UNH-IOL DPDK Community Lab

To manage your email subscriptions, visit: 
https://lab.dpdk.org/results/dashboard/preferences/subscriptions/