From mboxrd@z Thu Jan 1 00:00:00 1970 Return-Path: Received: from mails.dpdk.org (mails.dpdk.org [217.70.189.124]) by inbox.dpdk.org (Postfix) with ESMTP id 217524660C for ; Wed, 23 Apr 2025 15:35:34 +0200 (CEST) Received: from mails.dpdk.org (localhost [127.0.0.1]) by mails.dpdk.org (Postfix) with ESMTP id E9A5E4025E; Wed, 23 Apr 2025 15:35:33 +0200 (CEST) Received: from mail-pl1-f227.google.com (mail-pl1-f227.google.com [209.85.214.227]) by mails.dpdk.org (Postfix) with ESMTP id 6E62E400D5 for ; Wed, 23 Apr 2025 15:35:32 +0200 (CEST) Received: by mail-pl1-f227.google.com with SMTP id d9443c01a7336-22c33677183so75168665ad.2 for ; Wed, 23 Apr 2025 06:35:32 -0700 (PDT) DKIM-Signature: v=1; a=rsa-sha256; c=relaxed/relaxed; d=iol.unh.edu; s=unh-iol; t=1745415331; x=1746020131; darn=dpdk.org; h=references:in-reply-to:cc:to:from:subject:message-id:date:from:to :cc:subject:date:message-id:reply-to; bh=wC713f2CLGWMM5q8f8WV+EZC4vpNSKdviDiEkuHMfFs=; b=WppuUbbkuYLb/1c2tqRfpPr79m4AjWSinoQrTImmLMO1CWzOPMeKEyWNARMahCot5X B1AvuWrla0LIVXyzWp+azh2kaNsP3Tyhd/3Mw0JPRUP/gVoKf6S5FI4epwbgUyuBRjWG qlK1gLNz7wapyPy+1tBtrNiLLZl3FU0bMPs+k= X-Google-DKIM-Signature: v=1; a=rsa-sha256; c=relaxed/relaxed; d=1e100.net; s=20230601; t=1745415331; x=1746020131; h=references:in-reply-to:cc:to:from:subject:message-id:date :x-gm-message-state:from:to:cc:subject:date:message-id:reply-to; bh=wC713f2CLGWMM5q8f8WV+EZC4vpNSKdviDiEkuHMfFs=; b=JJaE0QHcYq9uDutOblhOefNYA2Sg5Ts4226LrV//R7UU1SByzfYjyAZ/7lA6ZrA5N9 cBTepKM9FXYu6Cyhs2yPJ5+65qV4IhKTw1ItwSCBVZYVJBts8LTARKpo5OniQHxoC5pf 8TxaVB3KsfwsDxBrxKIChW2XYybOqWhsGq5Yo2RXMg5oO4QZnSqLE/2iGnomxuxY1R0e eT0QO71qZJIpUrbaMqnGSFo1t/7lySpMEP9MUO7/6lB3NWJ8hewMBIgBt+/QV3K4jOow pXofyAbs2gMQTEMUHIwFGFFBDcO1HrCyT3PHaO/4vnZX2yJ11oyA2ILjDEP016qLsYPb 0yyg== X-Gm-Message-State: AOJu0YxqrSP2r9wWAKePmYMg0Swrus2M5r2Bz4cVJ44f9uWKKi8QqWHi tNjxxh8W/k4ICDeHf2bjL2/D9zC0G9qYWgWuffRJs6BZb5loKGb1mdbo2TdnD7aPglHTjr/dFam XM2X4fAjVr84C5SnszwwBRJ7QJD48Xh6Lc6rs3pmNdHKoyZleneX2pz/C X-Gm-Gg: ASbGncuNLiovJVvq8ZASFfVoPq+CHjRI0R/TWQf/5qKQXHRDrEBozpJKneSGk24Tuue 0SPBinhLTsf+iwQ3tp5F8+nqEHjIHd+BZL4zL9sWVj68KW1XzxgR9lALpF4sQr9DkjeJ6wycE82 RD7AK5RPCCtfNXi2HracqCeTfVeLxnDZihYyAjo8Mc8N6Syi09WCrsuCArUuENBu7NYX7d8Upqv mIsc9eFr10ElmGO9gBTmyAfNQ9H9Ra82Lqf7xO5uH5VdNOINt7XBZtev+r9XUti+WHZYzsWc/zw Db1CcA2Etg3tY0wJzFtAMc980yrggI6LqLFuiA4ctjRNmeO+ X-Google-Smtp-Source: AGHT+IE2928J7vENKlh+nxK7aFjtswJPd6mnJJpzJEOIHlE6skN5mgsF0oHvrRkSDHa5CQlhB0iGpeb/wlby X-Received: by 2002:a17:903:2c9:b0:224:2717:7992 with SMTP id d9443c01a7336-22c5360deb2mr286475755ad.33.1745415331252; Wed, 23 Apr 2025 06:35:31 -0700 (PDT) Received: from postal.iol.unh.edu (postal.iol.unh.edu. [2606:4100:3880:1234::84]) by smtp-relay.gmail.com with ESMTPS id 41be03b00d2f7-b0db143a92asm143710a12.22.2025.04.23.06.35.31 (version=TLS1_2 cipher=ECDHE-ECDSA-AES128-GCM-SHA256 bits=128/128); Wed, 23 Apr 2025 06:35:31 -0700 (PDT) X-Relaying-Domain: iol.unh.edu Date: Wed, 23 Apr 2025 06:35:31 -0700 (PDT) Message-ID: <6808eca3.050a0220.603a4.7868SMTPIN_ADDED_MISSING@mx.google.com> Received: from [172.17.0.3] (unknown [172.18.0.217]) by postal.iol.unh.edu (Postfix) with ESMTP id 4CA546052471; Wed, 23 Apr 2025 09:35:30 -0400 (EDT) Subject: |SUCCESS| pw153080 [PATCH] net/intel: enable ethertype filter for E6 From: dpdklab@iol.unh.edu To: Test Report Cc: dpdk-test-reports@iol.unh.edu In-Reply-To: <20250423055339.79209-1-kaiwenx.deng@intel.com> References: <20250423055339.79209-1-kaiwenx.deng@intel.com> Content-Type: text/plain X-BeenThere: test-report@dpdk.org X-Mailman-Version: 2.1.29 Precedence: list List-Id: automatic DPDK test reports List-Unsubscribe: , List-Archive: List-Post: List-Help: List-Subscribe: , Errors-To: test-report-bounces@dpdk.org Test-Label: iol-compile-arm64-testing Test-Status: SUCCESS http://dpdk.org/patch/153080 _Testing PASS_ Submitter: Kaiwen Deng Date: Wednesday, April 23 2025 05:53:39 DPDK git baseline: Repo:dpdk Branch: master CommitID:d7817c378fecd07c59360667f93c25dff4b1a145 153080 --> testing pass Upstream job id: Generic-DPDK-Compile-Meson#382276 Test environment and result as below: +----------------------------------------+--------------------+ | Environment | dpdk_meson_compile | +========================================+====================+ | Ubuntu 20.04 ARM SVE | PASS | +----------------------------------------+--------------------+ | RHEL9 (ARM) | PASS | +----------------------------------------+--------------------+ | Ubuntu 20.04 ARM GCC Cross Compile | PASS | +----------------------------------------+--------------------+ | Debian 12 with MUSDK | PASS | +----------------------------------------+--------------------+ | Fedora 40 (ARM) | PASS | +----------------------------------------+--------------------+ | Fedora 40 (ARM Clang) | PASS | +----------------------------------------+--------------------+ | Fedora 41 (ARM) | PASS | +----------------------------------------+--------------------+ | Fedora 41 (ARM Clang) | PASS | +----------------------------------------+--------------------+ | Ubuntu 20.04 (ARM) | PASS | +----------------------------------------+--------------------+ | Ubuntu 22.04 (ARM) | PASS | +----------------------------------------+--------------------+ | Ubuntu 24.04 (ARM) | PASS | +----------------------------------------+--------------------+ | CentOS Stream 9 (ARM) | PASS | +----------------------------------------+--------------------+ | Debian 12 (arm) | PASS | +----------------------------------------+--------------------+ | Ubuntu 20.04 ARM Clang Cross Compile | PASS | +----------------------------------------+--------------------+ | Ubuntu 20.04 aarch32 GCC Cross Compile | PASS | +----------------------------------------+--------------------+ | CentOS Stream 10 (ARM) | PASS | +----------------------------------------+--------------------+ Ubuntu 20.04 ARM SVE Kernel: Depends on container host Compiler: gcc (Ubuntu 10.5.0-1ubuntu1~20.04) 10.5.0 RHEL9 (ARM) Kernel: Depends on container host Compiler: gcc 11.5.0 20240719 (Red Hat 11.5.0-2) Ubuntu 20.04 ARM GCC Cross Compile Kernel: Depends on container host Compiler: aarch64-linux-gnu-gcc (Ubuntu 9.4.0-1ubuntu1~20.04.2) 9.4.0 Debian 12 with MUSDK Kernel: Depends on container host Compiler: gcc (Debian 12.2.0-14) 12.2.0 Fedora 40 (ARM) Kernel: Depends on container host Compiler: gcc 14.2.1 20240912 (Red Hat 14.2.1-3) Fedora 40 (ARM Clang) Kernel: Depends on container host Compiler: clang 18.1.8 (Fedora 18.1.8-1.fc40) Fedora 41 (ARM) Kernel: Depends on container host Compiler: gcc 14.2.1 20240912 (Red Hat 14.2.1-3) Fedora 41 (ARM Clang) Kernel: Depends on container host Compiler: clang 19.1.5 (Fedora 19.1.5-1.fc41) Ubuntu 20.04 (ARM) Kernel: Depends on container host Compiler: gcc (Ubuntu 9.4.0-1ubuntu1~20.04.2) 9.4.0 Ubuntu 22.04 (ARM) Kernel: Depends on container host Compiler: gcc (Ubuntu 11.4.0-1ubuntu1~22.04) 11.4.0 Ubuntu 24.04 (ARM) Kernel: Depends on container host Compiler: gcc (Ubuntu 13.3.0-6ubuntu2~24.04) 13.3.0 CentOS Stream 9 (ARM) Kernel: Depends on container host Compiler: gcc 11.5.0 20240719 (Red Hat 11.5.0-2) Debian 12 (arm) Kernel: Depends on container host Compiler: gcc (Debian 12.2.0-14) 12.2.0 Ubuntu 20.04 ARM Clang Cross Compile Kernel: Depends on container host Compiler: clang 10.0.0-4ubuntu1 Ubuntu 20.04 aarch32 GCC Cross Compile Kernel: Depends on container host Compiler: gcc 9.4.0 CentOS Stream 10 (ARM) Kernel: Depends on container host Compiler: gcc 14.2.1 20241104 (Red Hat 14.2.1-6) To view detailed results, visit: https://lab.dpdk.org/results/dashboard/patchsets/33053/ UNH-IOL DPDK Community Lab To manage your email subscriptions, visit: https://lab.dpdk.org/results/dashboard/preferences/subscriptions/