From mboxrd@z Thu Jan  1 00:00:00 1970
Return-Path: <test-report-bounces@dpdk.org>
Received: from mails.dpdk.org (mails.dpdk.org [217.70.189.124])
	by inbox.dpdk.org (Postfix) with ESMTP id 16D0D4660E
	for <public@inbox.dpdk.org>; Wed, 23 Apr 2025 19:25:22 +0200 (CEST)
Received: from mails.dpdk.org (localhost [127.0.0.1])
	by mails.dpdk.org (Postfix) with ESMTP id 1267540156;
	Wed, 23 Apr 2025 19:25:22 +0200 (CEST)
Received: from mail-ua1-f100.google.com (mail-ua1-f100.google.com
 [209.85.222.100])
 by mails.dpdk.org (Postfix) with ESMTP id 8F364400D5
 for <test-report@dpdk.org>; Wed, 23 Apr 2025 19:25:20 +0200 (CEST)
Received: by mail-ua1-f100.google.com with SMTP id
 a1e0cc1a2514c-86d3805a551so58120241.3
 for <test-report@dpdk.org>; Wed, 23 Apr 2025 10:25:20 -0700 (PDT)
DKIM-Signature: v=1; a=rsa-sha256; c=relaxed/relaxed;
 d=iol.unh.edu; s=unh-iol; t=1745429120; x=1746033920; darn=dpdk.org;
 h=references:in-reply-to:cc:to:from:subject:message-id:date:from:to
 :cc:subject:date:message-id:reply-to;
 bh=AreBJmPQADHXzUr/uqAPlQ12wH7UEcUmaYPF+TnusCc=;
 b=iSrx3URh8uynj6R57/K4tVqRUqF9NYnV3/7hZnIMdu9pCzJD/0oRoKx6uoc6YbVHDa
 dBqiBWprUhvOEARZq7ls6y//07GAOIWvMFpXvvg+N3DrO4/IGjvdqsOlsRLq1aD7UOFP
 NJrSb2b1t2KJyUyrJb9pQr+pD3pO6IDs4R7Gg=
X-Google-DKIM-Signature: v=1; a=rsa-sha256; c=relaxed/relaxed;
 d=1e100.net; s=20230601; t=1745429120; x=1746033920;
 h=references:in-reply-to:cc:to:from:subject:message-id:date
 :x-gm-message-state:from:to:cc:subject:date:message-id:reply-to;
 bh=AreBJmPQADHXzUr/uqAPlQ12wH7UEcUmaYPF+TnusCc=;
 b=Xy2ps/dXEk7U8GzaJ4XLFabDQw18zauYHK4NiU2kxaaP7MqK1VXrVSbS1bLr7vkzRS
 kfViFqTvCSRhK/39gUTv+l5k/a49KNI//0hp6psH4fK8fcIhu6NdlHWru3dmWpswLx8k
 AlEd5IYuhHwNeTmr2W7M8XUys0RPQbAsYncuG5qIr/FV7i6rQOF2eR6Nt9Yptw1HCO8Q
 9LSRiFcw/hhnFyHGoPOhsM8PFeZAFmSgSXrm9xOI9SGubNbi/RRjeKx8M9DuSNrEHI/z
 ags9LnKcYGtWD27M7HIW0QziNJPG4yOhv4RsCDmzridBEAcEt1plQ8Ulu/wB4ncNXBv3
 j6zQ==
X-Gm-Message-State: AOJu0YyljI0UtsbjXuUGiIUNL4egJDUpsb+xCrEPruWWlApZogdAr1rz
 9bDpv8p6HphKY7Y6Dau00YD6W4ZDvk3P8IkiY956afE2/Bhq30Nezcv7D8ihqKOMdleejHkHDmh
 rMs3dWCGQGXxyssX/BYPeRPwgM+wWhkhCVFnlsgx5
X-Gm-Gg: ASbGncvZsCLAvAjxQh6mj9/IpU6c/M/n/UubaXNSr/T90AukY9lLVHckjmB7iJJib/D
 HekUbwNPvTJ60YJrKP/g4tMSQ6L0WrpIDZeUIXiDTuDlStqksamDgpcJBTMVKAGHF4iJcUVyp+k
 9IGVPz49kCVjuSuoAlneUTuQDcTIY3b701od+Oh5RRMoiQNwupGL141zE2baKYpLaA2OCR2JAO7
 hQ8SphXf/mv5/mGJfHkQfcJqqo6KP7HkcdV1cgCMTDqM4WPf9H6KBhK16xwruOlTzKfIGiXft4g
 4lTmdg7HZZ7NEtWEuYueVhefsU9SsWvYc9wz
X-Google-Smtp-Source: AGHT+IG3WMXvb4xJU8n7dqF5PkExMNR6yECDYKvOQO9XfywsTvEsTo3JV7MIsLb4TXG3pCH1ysAoM1qiP+gP
X-Received: by 2002:a05:6122:c93:b0:527:8771:2d39 with SMTP id
 71dfb90a1353d-529254a2a5cmr17496194e0c.7.1745429119864; 
 Wed, 23 Apr 2025 10:25:19 -0700 (PDT)
Received: from postal.iol.unh.edu (postal.iol.unh.edu. [132.177.123.84])
 by smtp-relay.gmail.com with ESMTPS id
 a1e0cc1a2514c-87764789ae0sm206150241.12.2025.04.23.10.25.19
 (version=TLS1_2 cipher=ECDHE-ECDSA-AES128-GCM-SHA256 bits=128/128);
 Wed, 23 Apr 2025 10:25:19 -0700 (PDT)
X-Relaying-Domain: iol.unh.edu
Date: Wed, 23 Apr 2025 10:25:19 -0700 (PDT)
Message-ID: <6809227f.b00a0220.3bc796.ac72SMTPIN_ADDED_MISSING@mx.google.com>
Received: from [172.21.0.5] (unknown [172.18.0.240])
 by postal.iol.unh.edu (Postfix) with ESMTP id 686176052471;
 Wed, 23 Apr 2025 13:25:19 -0400 (EDT)
Subject: |SUCCESS| pw153084-153128 [PATCH] [v2,45/45] doc: advertise support 
From: dpdklab@iol.unh.edu
To: Test Report <test-report@dpdk.org>
Cc: dpdk-test-reports@iol.unh.edu
In-Reply-To: <20250423160002.35706-46-ivan.malov@arknetworks.am>
References: <20250423160002.35706-46-ivan.malov@arknetworks.am>
Content-Type: text/plain
X-BeenThere: test-report@dpdk.org
X-Mailman-Version: 2.1.29
Precedence: list
List-Id: automatic DPDK test reports <test-report.dpdk.org>
List-Unsubscribe: <https://mails.dpdk.org/options/test-report>,
 <mailto:test-report-request@dpdk.org?subject=unsubscribe>
List-Archive: <http://mails.dpdk.org/archives/test-report/>
List-Post: <mailto:test-report@dpdk.org>
List-Help: <mailto:test-report-request@dpdk.org?subject=help>
List-Subscribe: <https://mails.dpdk.org/listinfo/test-report>,
 <mailto:test-report-request@dpdk.org?subject=subscribe>
Errors-To: test-report-bounces@dpdk.org

Test-Label: iol-sample-apps-testing
Test-Status: SUCCESS
http://dpdk.org/patch/153128

_Testing PASS_

Submitter: Ivan Malov <ivan.malov@arknetworks.am>
Date: Wednesday, April 23 2025 16:00:02 
DPDK git baseline: Repo:dpdk
  Branch: master
  CommitID:3829b7150b2bacd8df97134f85ec61bfbdc3f4b1

153084-153128 --> testing pass

Upstream job id: ACVP-FIPS-testing#9619

Test environment and result as below:

+--------------------+----------------------+----------------------+
|    Environment     | dpdk_fips_validation | compressdev_zlib_pmd |
+====================+======================+======================+
| Ubuntu 20.04       | PASS                 | SKIPPED              |
+--------------------+----------------------+----------------------+
| Ubuntu 22.04 (ARM) | SKIPPED              | PASS                 |
+--------------------+----------------------+----------------------+
| Ubuntu 22.04       | SKIPPED              | PASS                 |
+--------------------+----------------------+----------------------+


Ubuntu 20.04
	Kernel: Depends on container host
	Compiler: gcc (Ubuntu 9.4.0-1ubuntu1~20.04.2) 9.4.0

Ubuntu 22.04 (ARM)
	Kernel: 5.15.0-97-generic
	Compiler: gcc gcc (Ubuntu 11.4.0-1ubuntu1~22.04) 11.4.0

Ubuntu 22.04
	Kernel: 5.15.0-100-generic
	Compiler: gcc gcc (Ubuntu 11.4.0-1ubuntu1~22.04) 11.4.0

To view detailed results, visit:
https://lab.dpdk.org/results/dashboard/patchsets/33056/

UNH-IOL DPDK Community Lab

To manage your email subscriptions, visit: 
https://lab.dpdk.org/results/dashboard/preferences/subscriptions/