From mboxrd@z Thu Jan  1 00:00:00 1970
Return-Path: <test-report-bounces@dpdk.org>
Received: from mails.dpdk.org (mails.dpdk.org [217.70.189.124])
	by inbox.dpdk.org (Postfix) with ESMTP id 3193D46610
	for <public@inbox.dpdk.org>; Wed, 23 Apr 2025 22:50:29 +0200 (CEST)
Received: from mails.dpdk.org (localhost [127.0.0.1])
	by mails.dpdk.org (Postfix) with ESMTP id 091C540156;
	Wed, 23 Apr 2025 22:50:29 +0200 (CEST)
Received: from mail-il1-f227.google.com (mail-il1-f227.google.com
 [209.85.166.227])
 by mails.dpdk.org (Postfix) with ESMTP id 3AB53400D5
 for <test-report@dpdk.org>; Wed, 23 Apr 2025 22:50:27 +0200 (CEST)
Received: by mail-il1-f227.google.com with SMTP id
 e9e14a558f8ab-3d5ebc2b725so1216155ab.3
 for <test-report@dpdk.org>; Wed, 23 Apr 2025 13:50:27 -0700 (PDT)
DKIM-Signature: v=1; a=rsa-sha256; c=relaxed/relaxed;
 d=iol.unh.edu; s=unh-iol; t=1745441426; x=1746046226; darn=dpdk.org;
 h=references:in-reply-to:cc:to:from:subject:message-id:date:from:to
 :cc:subject:date:message-id:reply-to;
 bh=B6yagmrEpMyKGpzhJo+Y1WpgsHp7ocIQhz7pKxfRZdE=;
 b=SFmj7qu3Aq/OhGjPt7CvDVGtZXh+Rg/cj7HGpV2TvhgIZioDhIj6mAdXBGW3rtkJBY
 fmsge4zV9+GpCBY8aYxs4w7RDRqpvJmptamR2LyX2WMOKMvKGjOBsFHQ8phzXh0u/4lC
 EtEu4DQgaPBR8bOIeoR3Moaj2rN0uzSVrJFq8=
X-Google-DKIM-Signature: v=1; a=rsa-sha256; c=relaxed/relaxed;
 d=1e100.net; s=20230601; t=1745441426; x=1746046226;
 h=references:in-reply-to:cc:to:from:subject:message-id:date
 :x-gm-message-state:from:to:cc:subject:date:message-id:reply-to;
 bh=B6yagmrEpMyKGpzhJo+Y1WpgsHp7ocIQhz7pKxfRZdE=;
 b=cCTgIrNOlN+/6dDFeB3opIzTp7GmVm2yR2qZzajyY6DmPOvhGv5HL3uTTGHXB9tcWK
 xt6OuG7X9vCd/P6FRjvmiDJUmqzAiAYr6UVVbYrT2yobZ87JPY3lM4U2UUrFZ36y7Xuw
 zg2Ongl1yilUZHzB05JwrgI/px8ROpk1ckQeUl/coYujQU07blhJghxIFnZ24JVLoemR
 sQJI/dspOeubF2Ba1r8nzsdhtiPNqudZ8PIf077Aj991nrD4HDZmObSreUYwNLVRSZce
 LomTQ31ZwN62U/3whnIyAunYDgXRmrm4GXc52bzWEeTpofM1jfoHx4YdzzAGa+5siaoS
 mvuw==
X-Gm-Message-State: AOJu0Yxybl8QM6BFfu3U4X15d+6JAnSX8LQIYSUvKMerZkm2INz+M9rq
 WbyLwO35QcA2npeZ9E6rJ23RLM9/Te+zeK+zFICJpsSnlhK5U5K8oyyUMF/KUdCfkvIRh9MLE+U
 NPtyb49pjSRDWmFWPizODqAkme/JmWlbUwCwHA5Fa
X-Gm-Gg: ASbGncvfhM5TZLaunfm7wna5WXz8TPOC4haI2/RTIZs6pkp/V9LUmuOntH5/s7mss4m
 6sA+uCQgdh5GewhcyawTPuHG9T5hW7L0bBkBjTMXDNeriBl7JZeJNIR/xUuaduZc/aaTBbJ6wh7
 UDyQS8a9KJ6BGXgeTm1g9DDnDuZG2ed++LEaxT6iyoWMDZySqqn595Yz61qVfsHrdXqCGBSxyY5
 kLjIP1rzLPWzc8zJ+SJ1cXcWulKEOUuvI8NWyNSc6dRb+sruoSseciBa9UplBW4qc6yr1WLHLOw
 G1VIBdEk5hXqJBGSBH7x1F/4O3Uz2UmxQoUU
X-Google-Smtp-Source: AGHT+IHImPzb4TsN589QU9Rsa1pkcumnqU8EkC9TqUOvxtpX4TQ3elIr6xPSEWctxu6i5RjeKx9IlDpLguyO
X-Received: by 2002:a05:6e02:17c7:b0:3d4:3ab3:daf0 with SMTP id
 e9e14a558f8ab-3d9303b709dmr1219585ab.7.1745441426216; 
 Wed, 23 Apr 2025 13:50:26 -0700 (PDT)
Received: from postal.iol.unh.edu (postal.iol.unh.edu. [132.177.123.84])
 by smtp-relay.gmail.com with ESMTPS id
 e9e14a558f8ab-3d92759a4d7sm1174945ab.18.2025.04.23.13.50.26
 (version=TLS1_2 cipher=ECDHE-ECDSA-AES128-GCM-SHA256 bits=128/128);
 Wed, 23 Apr 2025 13:50:26 -0700 (PDT)
X-Relaying-Domain: iol.unh.edu
Date: Wed, 23 Apr 2025 13:50:26 -0700 (PDT)
Message-ID: <68095292.050a0220.1ad20d.6757SMTPIN_ADDED_MISSING@mx.google.com>
Received: from [172.21.0.6] (unknown [172.18.0.240])
 by postal.iol.unh.edu (Postfix) with ESMTP id 9E4A76052471;
 Wed, 23 Apr 2025 16:50:25 -0400 (EDT)
Subject: |SUCCESS| pw153083 [PATCH] net/mlx5: mitigate the Tx queue parameter
From: dpdklab@iol.unh.edu
To: Test Report <test-report@dpdk.org>
Cc: dpdk-test-reports@iol.unh.edu
In-Reply-To: <20250423122807.121990-1-viacheslavo@nvidia.com>
References: <20250423122807.121990-1-viacheslavo@nvidia.com>
Content-Type: text/plain
X-BeenThere: test-report@dpdk.org
X-Mailman-Version: 2.1.29
Precedence: list
List-Id: automatic DPDK test reports <test-report.dpdk.org>
List-Unsubscribe: <https://mails.dpdk.org/options/test-report>,
 <mailto:test-report-request@dpdk.org?subject=unsubscribe>
List-Archive: <http://mails.dpdk.org/archives/test-report/>
List-Post: <mailto:test-report@dpdk.org>
List-Help: <mailto:test-report-request@dpdk.org?subject=help>
List-Subscribe: <https://mails.dpdk.org/listinfo/test-report>,
 <mailto:test-report-request@dpdk.org?subject=subscribe>
Errors-To: test-report-bounces@dpdk.org

Test-Label: iol-sample-apps-testing
Test-Status: SUCCESS
http://dpdk.org/patch/153083

_Testing PASS_

Submitter: Viacheslav Ovsiienko <viacheslavo@nvidia.com>
Date: Wednesday, April 23 2025 12:28:07 
DPDK git baseline: Repo:dpdk
  Branch: master
  CommitID:edd3f4b1265e6da707c46ca9b6c39d332647baea

153083 --> testing pass

Upstream job id: ACVP-FIPS-testing#9620

Test environment and result as below:

+--------------------+----------------------+----------------------+
|    Environment     | compressdev_zlib_pmd | dpdk_fips_validation |
+====================+======================+======================+
| Ubuntu 22.04 (ARM) | PASS                 | SKIPPED              |
+--------------------+----------------------+----------------------+
| Ubuntu 22.04       | PASS                 | SKIPPED              |
+--------------------+----------------------+----------------------+
| Ubuntu 20.04       | SKIPPED              | PASS                 |
+--------------------+----------------------+----------------------+


Ubuntu 22.04 (ARM)
	Kernel: 5.15.0-97-generic
	Compiler: gcc gcc (Ubuntu 11.4.0-1ubuntu1~22.04) 11.4.0

Ubuntu 22.04
	Kernel: 5.15.0-100-generic
	Compiler: gcc gcc (Ubuntu 11.4.0-1ubuntu1~22.04) 11.4.0

Ubuntu 20.04
	Kernel: Depends on container host
	Compiler: gcc (Ubuntu 9.4.0-1ubuntu1~20.04.2) 9.4.0

To view detailed results, visit:
https://lab.dpdk.org/results/dashboard/patchsets/33055/

UNH-IOL DPDK Community Lab

To manage your email subscriptions, visit: 
https://lab.dpdk.org/results/dashboard/preferences/subscriptions/