From mboxrd@z Thu Jan  1 00:00:00 1970
Return-Path: <test-report-bounces@dpdk.org>
Received: from mails.dpdk.org (mails.dpdk.org [217.70.189.124])
	by inbox.dpdk.org (Postfix) with ESMTP id CC83C46613
	for <public@inbox.dpdk.org>; Thu, 24 Apr 2025 03:38:17 +0200 (CEST)
Received: from mails.dpdk.org (localhost [127.0.0.1])
	by mails.dpdk.org (Postfix) with ESMTP id D1CC040156;
	Thu, 24 Apr 2025 03:38:16 +0200 (CEST)
Received: from mail-pl1-f225.google.com (mail-pl1-f225.google.com
 [209.85.214.225])
 by mails.dpdk.org (Postfix) with ESMTP id DC45E400D5
 for <test-report@dpdk.org>; Thu, 24 Apr 2025 03:38:14 +0200 (CEST)
Received: by mail-pl1-f225.google.com with SMTP id
 d9443c01a7336-227cf12df27so4681835ad.0
 for <test-report@dpdk.org>; Wed, 23 Apr 2025 18:38:14 -0700 (PDT)
DKIM-Signature: v=1; a=rsa-sha256; c=relaxed/relaxed;
 d=iol.unh.edu; s=unh-iol; t=1745458694; x=1746063494; darn=dpdk.org;
 h=cc:to:from:subject:message-id:date:from:to:cc:subject:date
 :message-id:reply-to;
 bh=SJgMwtz12YJU9cJOvjWtRUeCfwu9M9Jrv62m7AV58WY=;
 b=f+H1+jpG9d5R4zKC3LL5NYMHhlwBlBsSmc1u1QADAHMR5m9UE68Im2pZd8zfgpxzGC
 MY2SByLWcyMydq24e2JTDZEu6nK1mgnCZQq/ZdNaGIiY9FkHWOuyuS7DrnsIEibycrdQ
 yexZt/DnvyBPj96WHqI89Iz4mv9sLeLPbQJZ4=
X-Google-DKIM-Signature: v=1; a=rsa-sha256; c=relaxed/relaxed;
 d=1e100.net; s=20230601; t=1745458694; x=1746063494;
 h=cc:to:from:subject:message-id:date:x-gm-message-state:from:to:cc
 :subject:date:message-id:reply-to;
 bh=SJgMwtz12YJU9cJOvjWtRUeCfwu9M9Jrv62m7AV58WY=;
 b=rP9Eb5Myw1tkU1R76fM16rGi0BSb9PB5p9ldD911uSOzIS78VR+ryECIbMuVgeLkoI
 Gi41FIOdAd1jUZJThtpZiGAh7UG9kERHQowq4u36p2GOyBbLm3u4zysJx3pOwM/idnGd
 XPOyv8IXUAjxwL0WjvhlfIUoZb0wvRb+kunwOIwOexZUmpmszdT4nKYUFWnsjO8IyIhF
 ZWipQOAEJ5JFUMKoLF28wGUKIjlReE0SGxB6yRFibev+DmpVhWG7GW8cHsKK4OzYx2XO
 m9ZbZGRankwHLd76ORM9DROP9d74ic+vx29RvJDvLmONKa2h+/O5RBdanTn8zOzgsyDF
 U8MA==
X-Gm-Message-State: AOJu0Yxp5bcE4R8kOg+NIrqiXbaB0g8vyXqliLgQ+VegnP2VGJ1qcXeO
 LnKkx2CezLeY+FxdzkD1RtpO6CxvClL2l4r0YqQ0Vn82kzN8SzX9hNWMEBKWveMbNkL4p012BlC
 KQjkpHM6Chs5Dvlqb1gtqcPF6qfpJPri059vFmmcvxTELM3R4hs1wa23r
X-Gm-Gg: ASbGncsKjY+y9vP8SLxVkTJ4fYwiqOmKiygNPdVpeSEATTyVLVqXlPKi3JySGEqEtQ4
 otrtYzgS14cP8vvvy57wka4Lc7rPgIRshgYpv+KCeMI0VVdCoGKU1xj7K7P3cRQSvzO6gUGHyMb
 zsh07AyhYXxQ3ROY/YSdyZHTbHY3P0wy2InTMMoKl+rnbP/CQGuyeoJSMWq39IjA9ZvQdn0mL7F
 YUmfAroG8/WmLlFa5hNnHhPfldseBb6FFUuhxW1LD/1fwG0icgQZ/vnhrXxIPuRerkerwmRrlSM
 zunEK8abyPm7EFRZoVONh1OZw5wbxE9SkqzOsefCQYwzDrpl
X-Google-Smtp-Source: AGHT+IF9jSXYq7Xn1s7cPkDRZPq/j8Cfb3/OpwL0sJtTzfyKCaoXSgKqDL1dByydd4y53Q+OZZQNlwqfH9Im
X-Received: by 2002:a17:902:f544:b0:221:1356:10c5 with SMTP id
 d9443c01a7336-22db47f4dd0mr6884895ad.9.1745458693893; 
 Wed, 23 Apr 2025 18:38:13 -0700 (PDT)
Received: from postal.iol.unh.edu (postal.iol.unh.edu.
 [2606:4100:3880:1234::84]) by smtp-relay.gmail.com with ESMTPS id
 d9443c01a7336-22db4f37020sm109325ad.64.2025.04.23.18.38.13
 (version=TLS1_2 cipher=ECDHE-ECDSA-AES128-GCM-SHA256 bits=128/128);
 Wed, 23 Apr 2025 18:38:13 -0700 (PDT)
X-Relaying-Domain: iol.unh.edu
Date: Wed, 23 Apr 2025 18:38:13 -0700 (PDT)
Message-ID: <68099605.170a0220.a8222.0bbcSMTPIN_ADDED_MISSING@mx.google.com>
Received: from [172.17.0.3] (unknown [172.18.0.74])
 by postal.iol.unh.edu (Postfix) with ESMTP id 4F5976052471;
 Wed, 23 Apr 2025 21:38:13 -0400 (EDT)
Subject: |SUCCESS| [GIT MASTER] ca1690ebd224f148268285b15b97441ccdbdd07e
From: dpdklab@iol.unh.edu
To: Test Report <test-report@dpdk.org>
Cc: dpdk-test-reports@iol.unh.edu
Content-Type: text/plain
X-BeenThere: test-report@dpdk.org
X-Mailman-Version: 2.1.29
Precedence: list
List-Id: automatic DPDK test reports <test-report.dpdk.org>
List-Unsubscribe: <https://mails.dpdk.org/options/test-report>,
 <mailto:test-report-request@dpdk.org?subject=unsubscribe>
List-Archive: <http://mails.dpdk.org/archives/test-report/>
List-Post: <mailto:test-report@dpdk.org>
List-Help: <mailto:test-report-request@dpdk.org?subject=help>
List-Subscribe: <https://mails.dpdk.org/listinfo/test-report>,
 <mailto:test-report-request@dpdk.org?subject=subscribe>
Errors-To: test-report-bounces@dpdk.org

_Testing PASS_

Branch: dpdk

ca1690ebd224f148268285b15b97441ccdbdd07e --> testing pass

Upstream job id: Generic-Unit-Test-DPDK#333133

Test environment and result as below:

+---------------------+----------------+
|     Environment     | dpdk_unit_test |
+=====================+================+
| CentOS Stream 10    | PASS           |
+---------------------+----------------+
| Fedora 41           | PASS           |
+---------------------+----------------+
| Arch Linux          | PASS           |
+---------------------+----------------+
| Debian 12           | PASS           |
+---------------------+----------------+
| CentOS Stream 9     | PASS           |
+---------------------+----------------+
| Fedora 40           | PASS           |
+---------------------+----------------+
| Fedora 40 (Clang)   | PASS           |
+---------------------+----------------+
| RHEL9               | PASS           |
+---------------------+----------------+
| RHEL8               | PASS           |
+---------------------+----------------+
| Ubuntu 22.04        | PASS           |
+---------------------+----------------+
| Fedora 41 (Clang)   | PASS           |
+---------------------+----------------+
| Ubuntu 20.04        | PASS           |
+---------------------+----------------+
| Ubuntu 24.04        | PASS           |
+---------------------+----------------+
| Windows Server 2022 | PASS           |
+---------------------+----------------+


CentOS Stream 10
	Kernel: Depends on container host
	Compiler: gcc 14.2.1 20241104 (Red Hat 14.2.1-6)

Fedora 41
	Kernel: Depends on container host
	Compiler: gcc 14.2.1 20240912 (Red Hat 14.2.1-3)

Arch Linux
	Kernel: Depends on container host
	Compiler: gcc 14.2.1 20240910

Debian 12
	Kernel: Depends on container host
	Compiler: gcc (Debian 12.2.0-14) 12.2.0

CentOS Stream 9
	Kernel: Depends on container host
	Compiler: gcc 11.5.0 20240719 (Red Hat 11.5.0-2)

Fedora 40
	Kernel: Depends on container host
	Compiler: gcc 14.2.1 20240912 (Red Hat 14.2.1-3)

Fedora 40 (Clang)
	Kernel: Depends on container host
	Compiler: clang 18.1.8 (Fedora 18.1.8-1.fc40)

RHEL9
	Kernel: Depends on container host
	Compiler: gcc 11.5.0 20240719 (Red Hat 11.5.0-2)

RHEL8
	Kernel: Depends on container host
	Compiler: gcc 8.5.0 20210514 (Red Hat 8.5.0-22)

Ubuntu 22.04
	Kernel: Depends on container host
	Compiler: gcc (Ubuntu 11.4.0-1ubuntu1~22.04) 11.4.0

Fedora 41 (Clang)
	Kernel: Depends on container host
	Compiler: clang 19.1.5 (Fedora 19.1.5-1.fc41)

Ubuntu 20.04
	Kernel: Depends on container host
	Compiler: gcc (Ubuntu 9.4.0-1ubuntu1~20.04.2) 9.4.0

Ubuntu 24.04
	Kernel: Depends on container host
	Compiler: gcc (Ubuntu 13.3.0-6ubuntu2~24.04) 13.3.0

Windows Server 2022
	Kernel: 10.0.20348.2031
	Compiler: clang 15.0.7, gcc 14.1.0 (MinGW), and MSVC VS 19.39.33521

To view detailed results, visit:
https://lab.dpdk.org/results/dashboard/tarballs/33340/

UNH-IOL DPDK Community Lab

To manage your email subscriptions, visit: 
https://lab.dpdk.org/results/dashboard/preferences/subscriptions/