From mboxrd@z Thu Jan  1 00:00:00 1970
Return-Path: <test-report-bounces@dpdk.org>
Received: from mails.dpdk.org (mails.dpdk.org [217.70.189.124])
	by inbox.dpdk.org (Postfix) with ESMTP id C97AB46614
	for <public@inbox.dpdk.org>; Thu, 24 Apr 2025 05:41:22 +0200 (CEST)
Received: from mails.dpdk.org (localhost [127.0.0.1])
	by mails.dpdk.org (Postfix) with ESMTP id C316D40156;
	Thu, 24 Apr 2025 05:41:22 +0200 (CEST)
Received: from mail-oa1-f99.google.com (mail-oa1-f99.google.com
 [209.85.160.99]) by mails.dpdk.org (Postfix) with ESMTP id 16945400D5
 for <test-report@dpdk.org>; Thu, 24 Apr 2025 05:41:22 +0200 (CEST)
Received: by mail-oa1-f99.google.com with SMTP id
 586e51a60fabf-2d09d495c6cso124094fac.3
 for <test-report@dpdk.org>; Wed, 23 Apr 2025 20:41:22 -0700 (PDT)
DKIM-Signature: v=1; a=rsa-sha256; c=relaxed/relaxed;
 d=iol.unh.edu; s=unh-iol; t=1745466081; x=1746070881; darn=dpdk.org;
 h=references:in-reply-to:cc:to:from:subject:message-id:date:from:to
 :cc:subject:date:message-id:reply-to;
 bh=dUd4pgJSf59sw+yz+Zckc0Zq6TYDW7Do+vY6jYSzvfs=;
 b=gwFZqSUqrZTcTTzXpYAsaxVb0Sarmge1Owfq5m6maNLitVCtxuXf7rZc+zY/8DKgay
 LJHGOab/jYX1Gjny0zc67KWMNX199hmlu9bzrSbfHbqaRl+Z0Aenotj1p0gmy/Ithxey
 HWdPSdRnkFmHgWs4Fa+Yy0WuvYctC8/5Ke+fY=
X-Google-DKIM-Signature: v=1; a=rsa-sha256; c=relaxed/relaxed;
 d=1e100.net; s=20230601; t=1745466081; x=1746070881;
 h=references:in-reply-to:cc:to:from:subject:message-id:date
 :x-gm-message-state:from:to:cc:subject:date:message-id:reply-to;
 bh=dUd4pgJSf59sw+yz+Zckc0Zq6TYDW7Do+vY6jYSzvfs=;
 b=ATvgZla9Mb0dIPIc7KAbzxDUQ0iOOJ5/SbWM4Upt2M5yV5/XsJW66q87OCUchXOmvN
 XXXheS9j5X3Gg+lZM88ATZsfv2mEh8P3Bx1n0phPHE9c2XVVj8lAlFe6ZGFnHXQVAJth
 UOIAcTCdobFCuxB4SBI0bl3aLYGt83Ni+7JgLvwC28aAtbOifUwb80/eWCRtJwPu4FkS
 qWZdyatrDJVdvyVrl/f10saw3fKLhj4JTegZAyW+l7TkxYLgaZmIFkB597l0NKa16CXl
 WdNxI1qghv3Gmv10tH+nRWJt0db+DoGn0C8fFkqBTyWWY+uLVAHcCDzcl/2RVIesxJku
 ULvA==
X-Gm-Message-State: AOJu0Yx79mHjqidAs8jzMi39FtELpCdvrSd7cCYVO9QEAuYw8DG2Q+nB
 WdimUPdihudPx++L3vyh0mYmSoXVQjJJlnbQtuzhFQawRM6je8ovy+sII0oWe6YPXPtxtESgbr6
 ZbT1u7tJ+yJ1cDG6xVD6RoRK5D+vwnwe+oZnhDlXYdqZwwbaysY7Hahf/
X-Gm-Gg: ASbGncsmN/j7C3BMstQ50Vnp8HTqZhHdSDWS/xnHf902WWhrmIDQkt9a1KKoPgj8jli
 8qucF8xGL9O7qkTQk66t+co2F5xxde4HNywXrBRu8poayMi5UoyvUdBcY/itMK0g67sXwiRJs/x
 0VcbqMvTxcjq7GNMEL9/cAI9+QM/h5YvwFC4pnDUl/2/BfCufohGws5SsRmRQNaqQXm3ZmD5eXs
 +SSrICcP88S08ECI5kThmfKC5yua0zBJQ8Nj8DmgKQP26BQS+46hSG46+nRlT+CGWHcz8ECJq1P
 hXrtJBPytqQmVyB29Qs746EX264MulsDOOYJSjqlIWo//23L
X-Google-Smtp-Source: AGHT+IHkT7N8S7DEz2xxmVa2nyZz3pkdqICnsdEnuqaAic+FMm74f55kkLMYSjhoYLEV5A2DEJ4WpcAlbOya
X-Received: by 2002:a05:6870:8901:b0:2d6:49e3:2e25 with SMTP id
 586e51a60fabf-2d96e191795mr709073fac.2.1745466081257; 
 Wed, 23 Apr 2025 20:41:21 -0700 (PDT)
Received: from postal.iol.unh.edu (postal.iol.unh.edu.
 [2606:4100:3880:1234::84]) by smtp-relay.gmail.com with ESMTPS id
 586e51a60fabf-2d97369007bsm20884fac.2.2025.04.23.20.41.21
 (version=TLS1_2 cipher=ECDHE-ECDSA-AES128-GCM-SHA256 bits=128/128);
 Wed, 23 Apr 2025 20:41:21 -0700 (PDT)
X-Relaying-Domain: iol.unh.edu
Date: Wed, 23 Apr 2025 20:41:21 -0700 (PDT)
Message-ID: <6809b2e1.050a0220.1a396f.13e3SMTPIN_ADDED_MISSING@mx.google.com>
Received: from [172.21.0.6] (unknown [172.18.0.240])
 by postal.iol.unh.edu (Postfix) with ESMTP id AC3AA6052471;
 Wed, 23 Apr 2025 23:41:20 -0400 (EDT)
Subject: |SUCCESS| pw153135-153136 [PATCH] [2/2] dts: add port control testin
From: dpdklab@iol.unh.edu
To: Test Report <test-report@dpdk.org>
Cc: dpdk-test-reports@iol.unh.edu
In-Reply-To: <20250424014412.3849896-3-probb@iol.unh.edu>
References: <20250424014412.3849896-3-probb@iol.unh.edu>
Content-Type: text/plain
X-BeenThere: test-report@dpdk.org
X-Mailman-Version: 2.1.29
Precedence: list
List-Id: automatic DPDK test reports <test-report.dpdk.org>
List-Unsubscribe: <https://mails.dpdk.org/options/test-report>,
 <mailto:test-report-request@dpdk.org?subject=unsubscribe>
List-Archive: <http://mails.dpdk.org/archives/test-report/>
List-Post: <mailto:test-report@dpdk.org>
List-Help: <mailto:test-report-request@dpdk.org?subject=help>
List-Subscribe: <https://mails.dpdk.org/listinfo/test-report>,
 <mailto:test-report-request@dpdk.org?subject=subscribe>
Errors-To: test-report-bounces@dpdk.org

Test-Label: iol-unit-amd64-testing
Test-Status: SUCCESS
http://dpdk.org/patch/153136

_Testing PASS_

Submitter: Patrick Robb <probb@iol.unh.edu>
Date: Thursday, April 24 2025 01:44:12 
DPDK git baseline: Repo:dpdk
  Branch: master
  CommitID:327efc58fe5dd1702a0c1e1b81b8172bc5152c00

153135-153136 --> testing pass

Upstream job id: Generic-Unit-Test-DPDK#333171

Test environment and result as below:

+---------------------+----------------+
|     Environment     | dpdk_unit_test |
+=====================+================+
| Fedora 41 (Clang)   | PASS           |
+---------------------+----------------+
| Fedora 41           | PASS           |
+---------------------+----------------+
| CentOS Stream 9     | PASS           |
+---------------------+----------------+
| Ubuntu 20.04        | PASS           |
+---------------------+----------------+
| RHEL8               | PASS           |
+---------------------+----------------+
| Debian 12           | PASS           |
+---------------------+----------------+
| Ubuntu 22.04        | PASS           |
+---------------------+----------------+
| Fedora 40           | PASS           |
+---------------------+----------------+
| CentOS Stream 10    | PASS           |
+---------------------+----------------+
| RHEL9               | PASS           |
+---------------------+----------------+
| Fedora 40 (Clang)   | PASS           |
+---------------------+----------------+
| Ubuntu 24.04        | PASS           |
+---------------------+----------------+
| Windows Server 2022 | PASS           |
+---------------------+----------------+


Fedora 41 (Clang)
	Kernel: Depends on container host
	Compiler: clang 19.1.5 (Fedora 19.1.5-1.fc41)

Fedora 41
	Kernel: Depends on container host
	Compiler: gcc 14.2.1 20240912 (Red Hat 14.2.1-3)

CentOS Stream 9
	Kernel: Depends on container host
	Compiler: gcc 11.5.0 20240719 (Red Hat 11.5.0-2)

Ubuntu 20.04
	Kernel: Depends on container host
	Compiler: gcc (Ubuntu 9.4.0-1ubuntu1~20.04.2) 9.4.0

RHEL8
	Kernel: Depends on container host
	Compiler: gcc 8.5.0 20210514 (Red Hat 8.5.0-22)

Debian 12
	Kernel: Depends on container host
	Compiler: gcc (Debian 12.2.0-14) 12.2.0

Ubuntu 22.04
	Kernel: Depends on container host
	Compiler: gcc (Ubuntu 11.4.0-1ubuntu1~22.04) 11.4.0

Fedora 40
	Kernel: Depends on container host
	Compiler: gcc 14.2.1 20240912 (Red Hat 14.2.1-3)

CentOS Stream 10
	Kernel: Depends on container host
	Compiler: gcc 14.2.1 20241104 (Red Hat 14.2.1-6)

RHEL9
	Kernel: Depends on container host
	Compiler: gcc 11.5.0 20240719 (Red Hat 11.5.0-2)

Fedora 40 (Clang)
	Kernel: Depends on container host
	Compiler: clang 18.1.8 (Fedora 18.1.8-1.fc40)

Ubuntu 24.04
	Kernel: Depends on container host
	Compiler: gcc (Ubuntu 13.3.0-6ubuntu2~24.04) 13.3.0

Windows Server 2022
	Kernel: 10.0.20348.2031
	Compiler: clang 15.0.7, gcc 14.1.0 (MinGW), and MSVC VS 19.39.33521

To view detailed results, visit:
https://lab.dpdk.org/results/dashboard/patchsets/33059/

UNH-IOL DPDK Community Lab

To manage your email subscriptions, visit: 
https://lab.dpdk.org/results/dashboard/preferences/subscriptions/