From mboxrd@z Thu Jan  1 00:00:00 1970
Return-Path: <test-report-bounces@dpdk.org>
Received: from mails.dpdk.org (mails.dpdk.org [217.70.189.124])
	by inbox.dpdk.org (Postfix) with ESMTP id 20AFC46618
	for <public@inbox.dpdk.org>; Thu, 24 Apr 2025 09:16:43 +0200 (CEST)
Received: from mails.dpdk.org (localhost [127.0.0.1])
	by mails.dpdk.org (Postfix) with ESMTP id 1BA3940156;
	Thu, 24 Apr 2025 09:16:43 +0200 (CEST)
Received: from mail-il1-f226.google.com (mail-il1-f226.google.com
 [209.85.166.226])
 by mails.dpdk.org (Postfix) with ESMTP id 60A28400D5
 for <test-report@dpdk.org>; Thu, 24 Apr 2025 09:16:42 +0200 (CEST)
Received: by mail-il1-f226.google.com with SMTP id
 e9e14a558f8ab-3d5ebc2b725so2410385ab.3
 for <test-report@dpdk.org>; Thu, 24 Apr 2025 00:16:42 -0700 (PDT)
DKIM-Signature: v=1; a=rsa-sha256; c=relaxed/relaxed;
 d=iol.unh.edu; s=unh-iol; t=1745479001; x=1746083801; darn=dpdk.org;
 h=cc:to:from:subject:message-id:date:from:to:cc:subject:date
 :message-id:reply-to;
 bh=+Orhx1zeppKNxiGDSL5q8eq1Bz77RrN9qwTw7I3OIns=;
 b=Q4Z5FcB5eHbucpWqIjxAmbtcPDXSNMxSMWgScBdMuIv2YqnZL/ecSfrBmaXfpsTcFD
 7/Lvz5Vc/p4Tqy4SfIFflX+WnFJoO0W1HIDOCKp7PiU4Fyr66QrGxQlAZeK+FmVkQA2f
 u6LEsMPFmPpzSsFN51X9In3HgqSgZ4dLRME6s=
X-Google-DKIM-Signature: v=1; a=rsa-sha256; c=relaxed/relaxed;
 d=1e100.net; s=20230601; t=1745479001; x=1746083801;
 h=cc:to:from:subject:message-id:date:x-gm-message-state:from:to:cc
 :subject:date:message-id:reply-to;
 bh=+Orhx1zeppKNxiGDSL5q8eq1Bz77RrN9qwTw7I3OIns=;
 b=EU4cTGVjENoNYlKbEHezP2UbK7udHNoa5KFgbH+Hs3XBDkeSL6KWkxN1vmwDlFK2Gc
 1wmni2r/8FZqKFh9pbS/qyzvpic2zGwtldtsHymuYZXPn2iATdV7yoqk8OoqN3RJPOo5
 Cmukk3/tWstqTizi9fjXCKaL7C9Mx9iE9+t9J9S6WBt9EEQ1bukd6XzUczAgHKRxyXm/
 1u5JeU4k9eMF8jYxPW73oQtUG0U71GsnRWntVyfsZRO07DtUaLX79QCZBIBX2+t3j4vU
 j0P8o7TPrLq1UsNWnFLHjNbotKm7VATzTKir5kvwxRkc3RfncubazgBoJruvDxRU56wD
 jehg==
X-Gm-Message-State: AOJu0YyNe/tVw+E1NXHZB7vSOnhSpataJvNPJeOdyfmtx/Nvcq6ap6q1
 8XYKtB2GJncYfiBBGqePa4itx8s2plO/QHmduD8QBetFsX/LhRgRcyMmDIjaot8nGbZ+wV7vMHZ
 hVgq/XOa6PgiMWaXkQR+GFTLVqjIlcZ6svepDBQ3JfNwrxbRC
X-Gm-Gg: ASbGncueIV83nXWA7m9QWLeGkBtDiZWF3D4IT4DumyMuE5/HXz1IPEqsZbRtANyHGy/
 59CXEVFTRJXe5GU+XGrBfS7XDkj7HXbGnAMeHDr4UyKRKbb9l038h82HqkMJt1et2oGNLlTlmGI
 +rgAd46WAfj3pcyk7V8sCIem/RzmDEDg/qPrsV5/h1ilLy7xCiMHKQBFI1bPot/VskxOMRkGrRi
 iYpQNvcI03sbzCPb3gdVzqB7dYqrPVZvkxZXLwkDuwW9jKM3YxPxk0txfAc7UvgxGwiP5n2bkeU
 Z8WTw0i49FdCfFDoAouhpOntXgTrGmwdf3/edVkze15VUMiP
X-Google-Smtp-Source: AGHT+IGNYl1pc/QzXs+1XLLoEZuBjZW6nPhtZ/qe9+0j/Vi71aYclvBMD8adTtg861oMAjyXIdWcrzmw2psZ
X-Received: by 2002:a92:ca09:0:b0:3d6:d162:be02 with SMTP id
 e9e14a558f8ab-3d9304418d9mr16517145ab.21.1745479001656; 
 Thu, 24 Apr 2025 00:16:41 -0700 (PDT)
Received: from postal.iol.unh.edu (postal.iol.unh.edu.
 [2606:4100:3880:1234::84]) by smtp-relay.gmail.com with ESMTPS id
 e9e14a558f8ab-3d931522c35sm375585ab.25.2025.04.24.00.16.41
 (version=TLS1_2 cipher=ECDHE-ECDSA-AES128-GCM-SHA256 bits=128/128);
 Thu, 24 Apr 2025 00:16:41 -0700 (PDT)
X-Relaying-Domain: iol.unh.edu
Date: Thu, 24 Apr 2025 00:16:41 -0700 (PDT)
Message-ID: <6809e559.050a0220.385ea6.244dSMTPIN_ADDED_MISSING@mx.google.com>
Received: from [172.21.0.7] (unknown [172.18.0.240])
 by postal.iol.unh.edu (Postfix) with ESMTP id 1E7906052471;
 Thu, 24 Apr 2025 03:16:41 -0400 (EDT)
Subject: |SUCCESS| [GIT MASTER] c4b6f6ff54c32e922971e1403f19aba9ea614896
From: dpdklab@iol.unh.edu
To: Test Report <test-report@dpdk.org>
Cc: dpdk-test-reports@iol.unh.edu, Xueming Li <xuemingl@nvidia.com>,
 Christian Ehrhardt <christian.ehrhardt@canonical.com>,
 Kevin Traynor <ktraynor@redhat.com>, Luca Boccassi <bluca@debian.org>
Content-Type: text/plain
X-BeenThere: test-report@dpdk.org
X-Mailman-Version: 2.1.29
Precedence: list
List-Id: automatic DPDK test reports <test-report.dpdk.org>
List-Unsubscribe: <https://mails.dpdk.org/options/test-report>,
 <mailto:test-report-request@dpdk.org?subject=unsubscribe>
List-Archive: <http://mails.dpdk.org/archives/test-report/>
List-Post: <mailto:test-report@dpdk.org>
List-Help: <mailto:test-report-request@dpdk.org?subject=help>
List-Subscribe: <https://mails.dpdk.org/listinfo/test-report>,
 <mailto:test-report-request@dpdk.org?subject=subscribe>
Errors-To: test-report-bounces@dpdk.org

_Testing PASS_

Branch: tags/v23.11

c4b6f6ff54c32e922971e1403f19aba9ea614896 --> testing pass

Upstream job id: Generic-DPDK-Compile-ABI#124313

Test environment and result as below:

+-------------------+----------+
|    Environment    | abi_test |
+===================+==========+
| CentOS Stream 10  | PASS     |
+-------------------+----------+
| Fedora 40 (Clang) | PASS     |
+-------------------+----------+
| CentOS Stream 9   | PASS     |
+-------------------+----------+
| Debian 12         | PASS     |
+-------------------+----------+
| Fedora 41 (Clang) | PASS     |
+-------------------+----------+
| Fedora 40         | PASS     |
+-------------------+----------+
| Fedora 41         | PASS     |
+-------------------+----------+
| openSUSE Leap 15  | PASS     |
+-------------------+----------+
| RHEL8             | PASS     |
+-------------------+----------+
| RHEL9             | PASS     |
+-------------------+----------+
| Ubuntu 22.04      | PASS     |
+-------------------+----------+
| Ubuntu 24.04      | PASS     |
+-------------------+----------+


CentOS Stream 10
	Kernel: Depends on container host
	Compiler: gcc 14.2.1 20241104 (Red Hat 14.2.1-6)

Fedora 40 (Clang)
	Kernel: Depends on container host
	Compiler: clang 18.1.8 (Fedora 18.1.8-1.fc40)

CentOS Stream 9
	Kernel: Depends on container host
	Compiler: gcc 11.5.0 20240719 (Red Hat 11.5.0-2)

Debian 12
	Kernel: Depends on container host
	Compiler: gcc (Debian 12.2.0-14) 12.2.0

Fedora 41 (Clang)
	Kernel: Depends on container host
	Compiler: clang 19.1.5 (Fedora 19.1.5-1.fc41)

Fedora 40
	Kernel: Depends on container host
	Compiler: gcc 14.2.1 20240912 (Red Hat 14.2.1-3)

Fedora 41
	Kernel: Depends on container host
	Compiler: gcc 14.2.1 20240912 (Red Hat 14.2.1-3)

openSUSE Leap 15
	Kernel: Depends on container host
	Compiler: gcc (SUSE Linux) 7.5.0

RHEL8
	Kernel: Depends on container host
	Compiler: gcc 8.5.0 20210514 (Red Hat 8.5.0-22)

RHEL9
	Kernel: Depends on container host
	Compiler: gcc 11.5.0 20240719 (Red Hat 11.5.0-2)

Ubuntu 22.04
	Kernel: Depends on container host
	Compiler: gcc (Ubuntu 11.4.0-1ubuntu1~22.04) 11.4.0

Ubuntu 24.04
	Kernel: Depends on container host
	Compiler: gcc (Ubuntu 13.3.0-6ubuntu2~24.04) 13.3.0

To view detailed results, visit:
https://lab.dpdk.org/results/dashboard/tarballs/33343/

UNH-IOL DPDK Community Lab

To manage your email subscriptions, visit: 
https://lab.dpdk.org/results/dashboard/preferences/subscriptions/