From mboxrd@z Thu Jan  1 00:00:00 1970
Return-Path: <test-report-bounces@dpdk.org>
Received: from mails.dpdk.org (mails.dpdk.org [217.70.189.124])
	by inbox.dpdk.org (Postfix) with ESMTP id B94874661E
	for <public@inbox.dpdk.org>; Thu, 24 Apr 2025 15:26:23 +0200 (CEST)
Received: from mails.dpdk.org (localhost [127.0.0.1])
	by mails.dpdk.org (Postfix) with ESMTP id 90C8740156;
	Thu, 24 Apr 2025 15:26:23 +0200 (CEST)
Received: from mail-oo1-f97.google.com (mail-oo1-f97.google.com
 [209.85.161.97]) by mails.dpdk.org (Postfix) with ESMTP id 0BCE1400D5
 for <test-report@dpdk.org>; Thu, 24 Apr 2025 15:26:23 +0200 (CEST)
Received: by mail-oo1-f97.google.com with SMTP id
 006d021491bc7-60402c94319so635825eaf.1
 for <test-report@dpdk.org>; Thu, 24 Apr 2025 06:26:22 -0700 (PDT)
DKIM-Signature: v=1; a=rsa-sha256; c=relaxed/relaxed;
 d=iol.unh.edu; s=unh-iol; t=1745501182; x=1746105982; darn=dpdk.org;
 h=cc:to:from:subject:message-id:date:from:to:cc:subject:date
 :message-id:reply-to;
 bh=fiuvKiSI3X9iWT3RVDJqQUhZm1JE9NnNfh9HMwuPZ0I=;
 b=DjJ+fcF6o4dxrxjvcflH8Wpenzr0gq6pm0IcTKwGqzvgHXOgHZ4DCphu24GQWVce9r
 ghuf0NnTjWGPVcJ7J1K27LgLczL6wb1dXZwufKNgVQqlr7uzF1D4cg5heW/3gqwU1UbN
 zxJnhBK/nUvXLjb6kNtnGFgyf82t9dGztP7Vc=
X-Google-DKIM-Signature: v=1; a=rsa-sha256; c=relaxed/relaxed;
 d=1e100.net; s=20230601; t=1745501182; x=1746105982;
 h=cc:to:from:subject:message-id:date:x-gm-message-state:from:to:cc
 :subject:date:message-id:reply-to;
 bh=fiuvKiSI3X9iWT3RVDJqQUhZm1JE9NnNfh9HMwuPZ0I=;
 b=T93zKbwQnEY3HVG2n35mLB9OhIVgsDjL0VpHgZGLv0M4tYdPCcIg8RmDwRovAOcuOs
 lPY17L6Gn6eyl4XQPBPm/tGnWxvMNU6n6UJrcD+8Jz0yUxQ9HZMCURT34aT+fuP+1l/I
 Z0biUVu+13kAA3afK8vdlWpSjMXFzTqLOsDuhxfOzOQ7tSAKaV8k/QKscJvOzjRMQJLe
 g06RNNaIEwIXtgK37YXuU7ppst2ViK2B4DTaiYaxInIEMKKcFCIhahOCOx5fuhkNzywo
 RmDK20d0p+t3eEH7/o10jln085nWYm3A7J5NgS0gnbtznAa91phg7N82iIdm/YR2HxO4
 Im+Q==
X-Gm-Message-State: AOJu0Yxo5Qkv+kfdFDcM4AbpmA7Gwci0VN9wHu8vxy29E+Q8jisQoK+a
 S0zScNOsaQDjZw94rTWu/wMLC9TSe94IuJU6ynln7xqO7r2ObFgK5I3CA2RTiC/kj9YeVZCqV3Q
 Yt8VWtAEvtZQ9m/DCzOMu54kKv9mLYS2a0KKAu+wAYLu+zFSkg8DfoCQv
X-Gm-Gg: ASbGncvptHdyco4ldzyH6+RLDwQ9h3ANkn7G6XGm6eO7/QkDHaXFlYE0I5cQF9Tx/q/
 SlcjE0stEUiq9AWBGjkv23ujESMPvvR/YRH+T7nR8WxNmmK+rQum2msjJI1ftngr/GtMAfkAnsc
 U3YfmFYU5017drpspr80P7EXL9bA+kh1Xs70LM9S3zqKNErmZLRdURorL3w+4MPcFnd1x5oT444
 meudWQy2K9up7m8htyeWz2J2dR5ovpmbfKDL6U799HRnHpYVRMnBCSL5thdkrBh269bs0O6ITzz
 LUGJyr32QocArHRMkhNd6f1SzgvsoPxCH1ADzc/fnU0K/qK7
X-Google-Smtp-Source: AGHT+IFnuFeiZk5EKbzE6HFRmG2FB0jgmO+rkL/IuW8GtY74/u5vqu/FifahKddzjee7LSlWA3foKWieqERR
X-Received: by 2002:a05:6820:174c:b0:606:361b:52ad with SMTP id
 006d021491bc7-606455ba674mr1383748eaf.3.1745501182163; 
 Thu, 24 Apr 2025 06:26:22 -0700 (PDT)
Received: from postal.iol.unh.edu (postal.iol.unh.edu.
 [2606:4100:3880:1234::84]) by smtp-relay.gmail.com with ESMTPS id
 006d021491bc7-6064683a64csm21190eaf.10.2025.04.24.06.26.22
 (version=TLS1_2 cipher=ECDHE-ECDSA-AES128-GCM-SHA256 bits=128/128);
 Thu, 24 Apr 2025 06:26:22 -0700 (PDT)
X-Relaying-Domain: iol.unh.edu
Date: Thu, 24 Apr 2025 06:26:22 -0700 (PDT)
Message-ID: <680a3bfe.050a0220.380312.12c3SMTPIN_ADDED_MISSING@mx.google.com>
Received: from [172.17.0.2] (unknown [172.18.0.74])
 by postal.iol.unh.edu (Postfix) with ESMTP id 952CF6052471;
 Thu, 24 Apr 2025 09:26:21 -0400 (EDT)
Subject: |SUCCESS| [GIT MASTER] 9db0f923e893e644f2e2df5ce720825cd79a5385
From: dpdklab@iol.unh.edu
To: Test Report <test-report@dpdk.org>
Cc: dpdk-test-reports@iol.unh.edu,
 Stephen Hemminger <stephen@networkplumber.org>
Content-Type: text/plain
X-BeenThere: test-report@dpdk.org
X-Mailman-Version: 2.1.29
Precedence: list
List-Id: automatic DPDK test reports <test-report.dpdk.org>
List-Unsubscribe: <https://mails.dpdk.org/options/test-report>,
 <mailto:test-report-request@dpdk.org?subject=unsubscribe>
List-Archive: <http://mails.dpdk.org/archives/test-report/>
List-Post: <mailto:test-report@dpdk.org>
List-Help: <mailto:test-report-request@dpdk.org?subject=help>
List-Subscribe: <https://mails.dpdk.org/listinfo/test-report>,
 <mailto:test-report-request@dpdk.org?subject=subscribe>
Errors-To: test-report-bounces@dpdk.org

_Testing PASS_

Branch: dpdk-next-net

9db0f923e893e644f2e2df5ce720825cd79a5385 --> testing pass

Upstream job id: ACVP-FIPS-testing#9629

Test environment and result as below:

+--------------------+----------------------+----------------------+
|    Environment     | compressdev_zlib_pmd | dpdk_fips_validation |
+====================+======================+======================+
| Ubuntu 22.04 (ARM) | PASS                 | SKIPPED              |
+--------------------+----------------------+----------------------+
| Ubuntu 22.04       | PASS                 | SKIPPED              |
+--------------------+----------------------+----------------------+
| Ubuntu 20.04       | SKIPPED              | PASS                 |
+--------------------+----------------------+----------------------+


Ubuntu 22.04 (ARM)
	Kernel: 5.15.0-97-generic
	Compiler: gcc gcc (Ubuntu 11.4.0-1ubuntu1~22.04) 11.4.0

Ubuntu 22.04
	Kernel: 5.15.0-100-generic
	Compiler: gcc gcc (Ubuntu 11.4.0-1ubuntu1~22.04) 11.4.0

Ubuntu 20.04
	Kernel: Depends on container host
	Compiler: gcc (Ubuntu 9.4.0-1ubuntu1~20.04.2) 9.4.0

To view detailed results, visit:
https://lab.dpdk.org/results/dashboard/tarballs/33346/

UNH-IOL DPDK Community Lab

To manage your email subscriptions, visit: 
https://lab.dpdk.org/results/dashboard/preferences/subscriptions/