From mboxrd@z Thu Jan 1 00:00:00 1970 Return-Path: Received: from mails.dpdk.org (mails.dpdk.org [217.70.189.124]) by inbox.dpdk.org (Postfix) with ESMTP id 9AAE746640 for ; Fri, 25 Apr 2025 23:40:22 +0200 (CEST) Received: from mails.dpdk.org (localhost [127.0.0.1]) by mails.dpdk.org (Postfix) with ESMTP id 75AFA4028C; Fri, 25 Apr 2025 23:40:22 +0200 (CEST) Received: from mail-il1-f228.google.com (mail-il1-f228.google.com [209.85.166.228]) by mails.dpdk.org (Postfix) with ESMTP id 172E24025E for ; Fri, 25 Apr 2025 23:40:21 +0200 (CEST) Received: by mail-il1-f228.google.com with SMTP id e9e14a558f8ab-3d9327d0720so17805275ab.3 for ; Fri, 25 Apr 2025 14:40:21 -0700 (PDT) DKIM-Signature: v=1; a=rsa-sha256; c=relaxed/relaxed; d=iol.unh.edu; s=unh-iol; t=1745617220; x=1746222020; darn=dpdk.org; h=references:in-reply-to:cc:to:from:subject:message-id:date:from:to :cc:subject:date:message-id:reply-to; bh=pexhfC4lvMcmLQ/l+EFmu1ZIIPlWpP0OzTGd/YfN1fY=; b=godtS/uYAoJZ5d+SYgBCSMPGxtM64SQdg3duB31qhJ3yckN8JmYC2xduc2X/VMk2SZ o/Viyp+3DmgDQtjgpkkAi1kBx26EKBc2xW/7eaQPJnjN59+wV4r8JXimls8CkBThlVhn fJG8DTZ30aI+atGc+2hf9uSMl0YoeLr7OSSk8= X-Google-DKIM-Signature: v=1; a=rsa-sha256; c=relaxed/relaxed; d=1e100.net; s=20230601; t=1745617220; x=1746222020; h=references:in-reply-to:cc:to:from:subject:message-id:date :x-gm-message-state:from:to:cc:subject:date:message-id:reply-to; bh=pexhfC4lvMcmLQ/l+EFmu1ZIIPlWpP0OzTGd/YfN1fY=; b=t62n6pWd4mQRoy20CzuNagpVT9M9HDeDI+c/erk+lyJ+onOySPw0DFEspWQe0OgpMe BV8Yknd4RYRZF0Ah3b1dd/ZLdDdEHNs3NQoDwPfBqxqSnIUgAqczwbqcVmL4KbUXkT/v ze1fmE5+Qv8WlfP726iKB7IgUAwZtrTayrHeZLRTZhsd5OVWhxkK60u2JqSRQ2WHPbZe cGGC1uDRyuK2d0pDHwpUw8ZXWhCBjdLbs4f5Rh7ahEhmIhzpDv0p+LOG/v0t9s6ex8md 0TnNnmaX6THevwLgCL44lWxgKsBZ+XqlaR3Ma3lqReAEfcQKb0LmRZuW3a3rUFFcXFez AYCQ== X-Gm-Message-State: AOJu0YyfP+5s0HQ3dU/oRvvVN4xMwFpIzNy39OH3EaWyfQmt6PXV1jxF K/9Nkjc+9eJBR/p7DJRvH8KePQDNU30QGnt5cnZ/hH+fWU8nZCgQCnV+h/41+XrBOV4EtvCkniU JjKjtG/2ohVszLjCwxWw5BFK3hd9WnwQNL2nHvgUC X-Gm-Gg: ASbGncsG/YXoqkkW98WcxUBNDcOo+lIf1MmjEHV+q87ZvZ47goy+fYu7fnNWoUhrTgN ynFLyNBTgF1zmjf74w5vpCAih75xiMVqm6VhsiTFJxh5/e19KHxot80uxdlRgIG2u0FVNKXMtep HmfoejXHm0By4MxPs/G3/pE+Fyai+1pTr0VH+xvO3RGDhiITFDLQakhszhRY/rHmIvZl6KHH4rL BWfUOsQ1Yy3X8WnhnIQMdj/+JPoaGF86IvB47qGRc78xcKdMoynUUGbxflH20HRDciXk/n+ZjMc 8igCNw1qwUb3giMOQSa+59x0w+1qKVXP1uJ3 X-Google-Smtp-Source: AGHT+IGdclBfNLVEPRfI6WQpfnJuNxw12FF9uBMVP3ul71x3pI+//IqJP+VHuru1ZeSWLRpCgPnMZrUufth3 X-Received: by 2002:a05:6e02:19cf:b0:3d4:6ef6:7c70 with SMTP id e9e14a558f8ab-3d93b5e30c7mr45313425ab.21.1745617220303; Fri, 25 Apr 2025 14:40:20 -0700 (PDT) Received: from postal.iol.unh.edu (postal.iol.unh.edu. [132.177.123.84]) by smtp-relay.gmail.com with ESMTPS id e9e14a558f8ab-3d931522c35sm1929115ab.25.2025.04.25.14.40.20 (version=TLS1_2 cipher=ECDHE-ECDSA-AES128-GCM-SHA256 bits=128/128); Fri, 25 Apr 2025 14:40:20 -0700 (PDT) X-Relaying-Domain: iol.unh.edu Date: Fri, 25 Apr 2025 14:40:20 -0700 (PDT) Message-ID: <680c0144.050a0220.385ea6.b1b8SMTPIN_ADDED_MISSING@mx.google.com> Received: from [172.17.0.4] (unknown [172.18.0.74]) by postal.iol.unh.edu (Postfix) with ESMTP id BF6A76052471; Fri, 25 Apr 2025 17:40:19 -0400 (EDT) Subject: |SUCCESS| pw153160 [PATCH] net/mlx5: validate GTP PSC QFI width From: dpdklab@iol.unh.edu To: Test Report Cc: dpdk-test-reports@iol.unh.edu In-Reply-To: <20250425193507.39102-1-dsosnowski@nvidia.com> References: <20250425193507.39102-1-dsosnowski@nvidia.com> Content-Type: text/plain X-BeenThere: test-report@dpdk.org X-Mailman-Version: 2.1.29 Precedence: list List-Id: automatic DPDK test reports List-Unsubscribe: , List-Archive: List-Post: List-Help: List-Subscribe: , Errors-To: test-report-bounces@dpdk.org Test-Label: iol-sample-apps-testing Test-Status: SUCCESS http://dpdk.org/patch/153160 _Testing PASS_ Submitter: Dariusz Sosnowski Date: Friday, April 25 2025 19:35:07 DPDK git baseline: Repo:dpdk Branch: master CommitID:edd3f4b1265e6da707c46ca9b6c39d332647baea 153160 --> testing pass Upstream job id: ACVP-FIPS-testing#9639 Test environment and result as below: +--------------------+----------------------+----------------------+ | Environment | compressdev_zlib_pmd | dpdk_fips_validation | +====================+======================+======================+ | Ubuntu 22.04 (ARM) | PASS | SKIPPED | +--------------------+----------------------+----------------------+ | Ubuntu 22.04 | PASS | SKIPPED | +--------------------+----------------------+----------------------+ | Ubuntu 20.04 | SKIPPED | PASS | +--------------------+----------------------+----------------------+ Ubuntu 22.04 (ARM) Kernel: 5.15.0-97-generic Compiler: gcc gcc (Ubuntu 11.4.0-1ubuntu1~22.04) 11.4.0 Ubuntu 22.04 Kernel: 5.15.0-100-generic Compiler: gcc gcc (Ubuntu 11.4.0-1ubuntu1~22.04) 11.4.0 Ubuntu 20.04 Kernel: Depends on container host Compiler: gcc (Ubuntu 9.4.0-1ubuntu1~20.04.2) 9.4.0 To view detailed results, visit: https://lab.dpdk.org/results/dashboard/patchsets/33068/ UNH-IOL DPDK Community Lab To manage your email subscriptions, visit: https://lab.dpdk.org/results/dashboard/preferences/subscriptions/