From mboxrd@z Thu Jan  1 00:00:00 1970
Return-Path: <test-report-bounces@dpdk.org>
Received: from mails.dpdk.org (mails.dpdk.org [217.70.189.124])
	by inbox.dpdk.org (Postfix) with ESMTP id B0E9C46644
	for <public@inbox.dpdk.org>; Sat, 26 Apr 2025 01:39:52 +0200 (CEST)
Received: from mails.dpdk.org (localhost [127.0.0.1])
	by mails.dpdk.org (Postfix) with ESMTP id 714154026A;
	Sat, 26 Apr 2025 01:39:52 +0200 (CEST)
Received: from mail-vk1-f228.google.com (mail-vk1-f228.google.com
 [209.85.221.228])
 by mails.dpdk.org (Postfix) with ESMTP id D90254025E
 for <test-report@dpdk.org>; Sat, 26 Apr 2025 01:39:51 +0200 (CEST)
Received: by mail-vk1-f228.google.com with SMTP id
 71dfb90a1353d-523f1b31cf8so1077430e0c.0
 for <test-report@dpdk.org>; Fri, 25 Apr 2025 16:39:51 -0700 (PDT)
DKIM-Signature: v=1; a=rsa-sha256; c=relaxed/relaxed;
 d=iol.unh.edu; s=unh-iol; t=1745624391; x=1746229191; darn=dpdk.org;
 h=references:in-reply-to:cc:to:from:subject:message-id:date:from:to
 :cc:subject:date:message-id:reply-to;
 bh=rY2iAcI/PDur7nljoqPQT56qO2tgTxLFYSicf7f63DY=;
 b=IBMVeokH2Q28ydXLAtNgPIdqTVFyTsWfZ92EC14QdMnlJ2PcYTOZyUqV4ukb0fj5jG
 FcuXffIQX5ZCEvgiZm6bm0kHc9QbRokEDuuJqLl3lWv/GVNcO5ofdpFDI3/cVhWjTC6p
 BZubhpckN5zpB+8kf3RD8YdgNTlGZI6pIfea4=
X-Google-DKIM-Signature: v=1; a=rsa-sha256; c=relaxed/relaxed;
 d=1e100.net; s=20230601; t=1745624391; x=1746229191;
 h=references:in-reply-to:cc:to:from:subject:message-id:date
 :x-gm-message-state:from:to:cc:subject:date:message-id:reply-to;
 bh=rY2iAcI/PDur7nljoqPQT56qO2tgTxLFYSicf7f63DY=;
 b=biO0Tb3RJeGaMN725voHGWyCOXj5NLBaJhoNrQ8PxNny6U3Vj2X4TawG5mwtlwM9v6
 m0eH9eVwB95jMWxJMAc7ZhtbXH/HdCWgZQEEHA46HCWOU+wXVOpjTDfutHrJlxKQkZ3K
 rS5yRxZI9di7VapVZcY4s3+9OcKWRdRwa+t8CoHaTlM2txyJdOCjDSdD9Rg6VBnZAL41
 qGmD8cR9YCDxInADjgrTE8bGoYjruPI3l4SdvNnvw+HZl1Dx+Du6yxCTl9YNoXgY68oG
 8NQ3IvYd19fyvqTV6QUO2RrnAY9oK6rakL5Osds9V0nllwSfyWaRHGyogv7CwysS3Pw/
 bFJw==
X-Gm-Message-State: AOJu0YxsB5lWMHS0/X+7y/s/r6PYjovarlaRGTvfQy5kYSplEwl4vtvG
 ONTQ/JOFtlMa6dxYfAmRTv8rqx9vn55xS+EiqBTas7pvNBHKRA1DKU/f/JO0ia7yjWHZB/O5/TY
 b5DJSwIQR1TwEqIsIm9+Bdut9n9BIgVBvjhKYfigPEWPQPCePAx24Pty5
X-Gm-Gg: ASbGncvyKlUVzvihTmJ1Zyr1fzk6QM4y97dmWcNvY/cIpxFxCUS41pVVYJsr0Lvmc/n
 lCUoA8NMtdP8+8XKZGiK+RAQspPinNJvTUxTX5HfYA58+dBV7iQ7qWTePxsJSEWGKL4zHYEF13P
 QX2eDGgEdzT38gpN1jfOXHLYobkYWIamBowH6LV3Az+3BwrmeqjFBwVpu37L2doDpjn9y0RGwFl
 khMaVmzhNEp/27lK+5LjMtYCWiXx43M4Xc+cdL6tdVhUJP5g4N+d823s815cASmgu6jbaadU0wj
 2OHNfvCrOFn17IZ/B32GpS1A2JR6XpXGQ+YL/T0U0Te74Dv5
X-Google-Smtp-Source: AGHT+IHNPeLlrcoGo3pKcONZ7Hnv3aEW/T0SrHqM0coOBaYk7JCyDRu+9XfJDFrS1jN5rg+rCVLlBzV9eKVY
X-Received: by 2002:a05:6122:a0c:b0:52a:78ab:12ad with SMTP id
 71dfb90a1353d-52a89b034eamr3092151e0c.0.1745624391157; 
 Fri, 25 Apr 2025 16:39:51 -0700 (PDT)
Received: from postal.iol.unh.edu (postal.iol.unh.edu.
 [2606:4100:3880:1234::84]) by smtp-relay.gmail.com with ESMTPS id
 71dfb90a1353d-52a9924306dsm9656e0c.5.2025.04.25.16.39.51
 (version=TLS1_2 cipher=ECDHE-ECDSA-AES128-GCM-SHA256 bits=128/128);
 Fri, 25 Apr 2025 16:39:51 -0700 (PDT)
X-Relaying-Domain: iol.unh.edu
Date: Fri, 25 Apr 2025 16:39:51 -0700 (PDT)
Message-ID: <680c1d47.050a0220.8892a.0838SMTPIN_ADDED_MISSING@mx.google.com>
Received: from [172.17.0.2] (unknown [172.18.0.74])
 by postal.iol.unh.edu (Postfix) with ESMTP id B1B4A6052471;
 Fri, 25 Apr 2025 19:39:50 -0400 (EDT)
Subject: |SUCCESS| pw153159 [PATCH] net/mlx5: fix modify field action on grou
From: dpdklab@iol.unh.edu
To: Test Report <test-report@dpdk.org>
Cc: dpdk-test-reports@iol.unh.edu
In-Reply-To: <20250425193258.38994-1-dsosnowski@nvidia.com>
References: <20250425193258.38994-1-dsosnowski@nvidia.com>
Content-Type: text/plain
X-BeenThere: test-report@dpdk.org
X-Mailman-Version: 2.1.29
Precedence: list
List-Id: automatic DPDK test reports <test-report.dpdk.org>
List-Unsubscribe: <https://mails.dpdk.org/options/test-report>,
 <mailto:test-report-request@dpdk.org?subject=unsubscribe>
List-Archive: <http://mails.dpdk.org/archives/test-report/>
List-Post: <mailto:test-report@dpdk.org>
List-Help: <mailto:test-report-request@dpdk.org?subject=help>
List-Subscribe: <https://mails.dpdk.org/listinfo/test-report>,
 <mailto:test-report-request@dpdk.org?subject=subscribe>
Errors-To: test-report-bounces@dpdk.org

Test-Label: iol-compile-arm64-testing
Test-Status: SUCCESS
http://dpdk.org/patch/153159

_Testing PASS_

Submitter: Dariusz Sosnowski <dsosnowski@nvidia.com>
Date: Friday, April 25 2025 19:32:57 
DPDK git baseline: Repo:dpdk
  Branch: master
  CommitID:edd3f4b1265e6da707c46ca9b6c39d332647baea

153159 --> testing pass

Upstream job id: Generic-DPDK-Compile-Meson#382951

Test environment and result as below:

+----------------------------------------+--------------------+
|              Environment               | dpdk_meson_compile |
+========================================+====================+
| RHEL9 (ARM)                            | PASS               |
+----------------------------------------+--------------------+
| Ubuntu 20.04 ARM GCC Cross Compile     | PASS               |
+----------------------------------------+--------------------+
| Ubuntu 20.04 ARM SVE                   | PASS               |
+----------------------------------------+--------------------+
| Debian 12 with MUSDK                   | PASS               |
+----------------------------------------+--------------------+
| Fedora 40 (ARM Clang)                  | PASS               |
+----------------------------------------+--------------------+
| Fedora 40 (ARM)                        | PASS               |
+----------------------------------------+--------------------+
| Fedora 41 (ARM)                        | PASS               |
+----------------------------------------+--------------------+
| Fedora 41 (ARM Clang)                  | PASS               |
+----------------------------------------+--------------------+
| Ubuntu 20.04 (ARM)                     | PASS               |
+----------------------------------------+--------------------+
| Ubuntu 22.04 (ARM)                     | PASS               |
+----------------------------------------+--------------------+
| CentOS Stream 9 (ARM)                  | PASS               |
+----------------------------------------+--------------------+
| CentOS Stream 10 (ARM)                 | PASS               |
+----------------------------------------+--------------------+
| Debian 12 (arm)                        | PASS               |
+----------------------------------------+--------------------+
| Ubuntu 20.04 ARM Clang Cross Compile   | PASS               |
+----------------------------------------+--------------------+
| Ubuntu 20.04 aarch32 GCC Cross Compile | PASS               |
+----------------------------------------+--------------------+
| Ubuntu 24.04 (ARM)                     | PASS               |
+----------------------------------------+--------------------+


RHEL9 (ARM)
	Kernel: Depends on container host
	Compiler: gcc 11.5.0 20240719 (Red Hat 11.5.0-2)

Ubuntu 20.04 ARM GCC Cross Compile
	Kernel: Depends on container host
	Compiler: aarch64-linux-gnu-gcc (Ubuntu 9.4.0-1ubuntu1~20.04.2) 9.4.0

Ubuntu 20.04 ARM SVE
	Kernel: Depends on container host
	Compiler: gcc (Ubuntu 10.5.0-1ubuntu1~20.04) 10.5.0

Debian 12 with MUSDK
	Kernel: Depends on container host
	Compiler: gcc (Debian 12.2.0-14) 12.2.0

Fedora 40 (ARM Clang)
	Kernel: Depends on container host
	Compiler: clang 18.1.8 (Fedora 18.1.8-1.fc40)

Fedora 40 (ARM)
	Kernel: Depends on container host
	Compiler: gcc 14.2.1 20240912 (Red Hat 14.2.1-3)

Fedora 41 (ARM)
	Kernel: Depends on container host
	Compiler: gcc 14.2.1 20240912 (Red Hat 14.2.1-3)

Fedora 41 (ARM Clang)
	Kernel: Depends on container host
	Compiler: clang 19.1.5 (Fedora 19.1.5-1.fc41)

Ubuntu 20.04 (ARM)
	Kernel: Depends on container host
	Compiler: gcc (Ubuntu 9.4.0-1ubuntu1~20.04.2) 9.4.0

Ubuntu 22.04 (ARM)
	Kernel: Depends on container host
	Compiler: gcc (Ubuntu 11.4.0-1ubuntu1~22.04) 11.4.0

CentOS Stream 9 (ARM)
	Kernel: Depends on container host
	Compiler: gcc 11.5.0 20240719 (Red Hat 11.5.0-2)

CentOS Stream 10 (ARM)
	Kernel: Depends on container host
	Compiler: gcc 14.2.1 20241104 (Red Hat 14.2.1-6)

Debian 12 (arm)
	Kernel: Depends on container host
	Compiler: gcc (Debian 12.2.0-14) 12.2.0

Ubuntu 20.04 ARM Clang Cross Compile
	Kernel: Depends on container host
	Compiler: clang 10.0.0-4ubuntu1

Ubuntu 20.04 aarch32 GCC Cross Compile
	Kernel: Depends on container host
	Compiler: gcc 9.4.0

Ubuntu 24.04 (ARM)
	Kernel: Depends on container host
	Compiler: gcc (Ubuntu 13.3.0-6ubuntu2~24.04) 13.3.0

To view detailed results, visit:
https://lab.dpdk.org/results/dashboard/patchsets/33067/

UNH-IOL DPDK Community Lab

To manage your email subscriptions, visit: 
https://lab.dpdk.org/results/dashboard/preferences/subscriptions/