From mboxrd@z Thu Jan  1 00:00:00 1970
Return-Path: <test-report-bounces@dpdk.org>
Received: from mails.dpdk.org (mails.dpdk.org [217.70.189.124])
	by inbox.dpdk.org (Postfix) with ESMTP id AFD6C4664B
	for <public@inbox.dpdk.org>; Sat, 26 Apr 2025 04:42:45 +0200 (CEST)
Received: from mails.dpdk.org (localhost [127.0.0.1])
	by mails.dpdk.org (Postfix) with ESMTP id A2C4E40263;
	Sat, 26 Apr 2025 04:42:45 +0200 (CEST)
Received: from mail-pl1-f226.google.com (mail-pl1-f226.google.com
 [209.85.214.226])
 by mails.dpdk.org (Postfix) with ESMTP id 21B18400D7
 for <test-report@dpdk.org>; Sat, 26 Apr 2025 04:42:44 +0200 (CEST)
Received: by mail-pl1-f226.google.com with SMTP id
 d9443c01a7336-224191d92e4so33256445ad.3
 for <test-report@dpdk.org>; Fri, 25 Apr 2025 19:42:44 -0700 (PDT)
DKIM-Signature: v=1; a=rsa-sha256; c=relaxed/relaxed;
 d=iol.unh.edu; s=unh-iol; t=1745635363; x=1746240163; darn=dpdk.org;
 h=cc:to:from:subject:message-id:date:from:to:cc:subject:date
 :message-id:reply-to;
 bh=m2SydTvZVuXtq5iQuTfiqD8x4Iy6PjEkhTPFhhfCX5Q=;
 b=Z76EUoHpzUGA96Bt2aPvKL/lgmmcCokoBnFvcXWRh1/+bz2IsxIleCV6V2nqSZFlX7
 JdgClWe8HoBvx7K/9QDG/v9rP4TEeuAT5v4r18sCbnYYKPzqRI0x7kltaZ5vRhrsklVQ
 +slnK1InBUIgFVAxGLy2qIREHwcMTTWwWVhVs=
X-Google-DKIM-Signature: v=1; a=rsa-sha256; c=relaxed/relaxed;
 d=1e100.net; s=20230601; t=1745635363; x=1746240163;
 h=cc:to:from:subject:message-id:date:x-gm-message-state:from:to:cc
 :subject:date:message-id:reply-to;
 bh=m2SydTvZVuXtq5iQuTfiqD8x4Iy6PjEkhTPFhhfCX5Q=;
 b=IAkJbtf0gPxnKkVonZ1o+3DvVSuoASI69bT5F9pLm40Ot4oH41sI3hk3W70E0m8YrF
 Zje+b0bAvdFfW0O2mqiPbCjmedqYgKd7gxAGP3Z+CXY/MBkEqGu1pTQkql6iXv32XcV7
 ybVu7YDjQSVekdo/2J7w359y3hQSH08Snnwi/OozZmQ9NRkMpSimyzoYx/+LWcxYKGFC
 XCZ90dhyB/wpRY4TK/9CnzvN5pNUo+mKo65OnloAnaEyfGBn6VESddCPTmUDA4hPJYFs
 NCwMR13l4zOpe3YdpYgwZVK0AoEct8MFlx6vb9y8hAII5JZF/KiyZ3O5LQ8y1jOZhik0
 DRRQ==
X-Gm-Message-State: AOJu0YxUtmuCNq+owiNL/NxwicnNKPFxMeUJx8ZBWyh4h6N+hW+tIFjV
 vZLBg2uWRUyTeE+2DlyfAgUzN16Mli0pI9fTWzl5KsO8+A/zDirC9CL0mhJeSrFbVwY0A6UQpJP
 jiOUtc+/rozGZY1+lzay6GxtKl4N68vjFthb8DnaI
X-Gm-Gg: ASbGncsOOeqmq3IjuWS3xZ29xuFPRhAya/K34jybO/4shQxpYQE63WDfeV3HwbRd3nM
 QPTi+wybUCV+/3qEJJEmeXLvq3OKl3HL1bdCDZCt684rv1feORNJ8x99HzSvMZcLkzbAr5Y5QfU
 1G9G6a5qkHHJLnHlmFYr422E9tk/FxPKTFbSXcl8Azt5aiKtJ2qd2h4xxo54quSm46vGHIr6RfU
 alvY+aRcv2VRXjbE7Cc2osvfremTPRUdkP4MqE8Ax8b8swIwzZYzj4ghhNgsz7LVe+V/9pIL7ku
 RrKMEjtwo9/1QRfxE6gEbXJ9Ek/VQjVHkdcK
X-Google-Smtp-Source: AGHT+IF39P4p/u9E7i8wUJSby6Lg157ky4HT3APe0qnnbBe1MtCkoLNLG+RlrmDtyHCrOkK5HdZmcIUDMZNM
X-Received: by 2002:a17:902:d54a:b0:220:f151:b668 with SMTP id
 d9443c01a7336-22dc6a00185mr22244585ad.20.1745635362983; 
 Fri, 25 Apr 2025 19:42:42 -0700 (PDT)
Received: from postal.iol.unh.edu (postal.iol.unh.edu. [132.177.123.84])
 by smtp-relay.gmail.com with ESMTPS id
 d9443c01a7336-22db5100d87sm2160445ad.80.2025.04.25.19.42.42
 (version=TLS1_2 cipher=ECDHE-ECDSA-AES128-GCM-SHA256 bits=128/128);
 Fri, 25 Apr 2025 19:42:42 -0700 (PDT)
X-Relaying-Domain: iol.unh.edu
Date: Fri, 25 Apr 2025 19:42:42 -0700 (PDT)
Message-ID: <680c4822.170a0220.144838.c382SMTPIN_ADDED_MISSING@mx.google.com>
Received: from [172.17.0.2] (unknown [172.18.0.74])
 by postal.iol.unh.edu (Postfix) with ESMTP id B881C6052471;
 Fri, 25 Apr 2025 22:42:41 -0400 (EDT)
Subject: |SUCCESS| [GIT MASTER] ca1690ebd224f148268285b15b97441ccdbdd07e
From: dpdklab@iol.unh.edu
To: Test Report <test-report@dpdk.org>
Cc: dpdk-test-reports@iol.unh.edu
Content-Type: text/plain
X-BeenThere: test-report@dpdk.org
X-Mailman-Version: 2.1.29
Precedence: list
List-Id: automatic DPDK test reports <test-report.dpdk.org>
List-Unsubscribe: <https://mails.dpdk.org/options/test-report>,
 <mailto:test-report-request@dpdk.org?subject=unsubscribe>
List-Archive: <http://mails.dpdk.org/archives/test-report/>
List-Post: <mailto:test-report@dpdk.org>
List-Help: <mailto:test-report-request@dpdk.org?subject=help>
List-Subscribe: <https://mails.dpdk.org/listinfo/test-report>,
 <mailto:test-report-request@dpdk.org?subject=subscribe>
Errors-To: test-report-bounces@dpdk.org

_Testing PASS_

Branch: dpdk

ca1690ebd224f148268285b15b97441ccdbdd07e --> testing pass

Upstream job id: Generic-DPDK-Compile-Meson#382977

Test environment and result as below:

+----------------------------------------+--------------------+
|              Environment               | dpdk_meson_compile |
+========================================+====================+
| RHEL9 (ARM)                            | PASS               |
+----------------------------------------+--------------------+
| Ubuntu 20.04 ARM GCC Cross Compile     | PASS               |
+----------------------------------------+--------------------+
| Debian 12 with MUSDK                   | PASS               |
+----------------------------------------+--------------------+
| Ubuntu 20.04 ARM SVE                   | PASS               |
+----------------------------------------+--------------------+
| Fedora 40 (ARM Clang)                  | PASS               |
+----------------------------------------+--------------------+
| Fedora 41 (ARM)                        | PASS               |
+----------------------------------------+--------------------+
| Ubuntu 24.04 (ARM)                     | PASS               |
+----------------------------------------+--------------------+
| Fedora 40 (ARM)                        | PASS               |
+----------------------------------------+--------------------+
| Fedora 41 (ARM Clang)                  | PASS               |
+----------------------------------------+--------------------+
| Ubuntu 20.04 (ARM)                     | PASS               |
+----------------------------------------+--------------------+
| CentOS Stream 9 (ARM)                  | PASS               |
+----------------------------------------+--------------------+
| Ubuntu 22.04 (ARM)                     | PASS               |
+----------------------------------------+--------------------+
| CentOS Stream 10 (ARM)                 | PASS               |
+----------------------------------------+--------------------+
| Debian 12 (arm)                        | PASS               |
+----------------------------------------+--------------------+
| Ubuntu 20.04 ARM Clang Cross Compile   | PASS               |
+----------------------------------------+--------------------+
| Ubuntu 20.04 aarch32 GCC Cross Compile | PASS               |
+----------------------------------------+--------------------+


RHEL9 (ARM)
	Kernel: Depends on container host
	Compiler: gcc 11.5.0 20240719 (Red Hat 11.5.0-2)

Ubuntu 20.04 ARM GCC Cross Compile
	Kernel: Depends on container host
	Compiler: aarch64-linux-gnu-gcc (Ubuntu 9.4.0-1ubuntu1~20.04.2) 9.4.0

Debian 12 with MUSDK
	Kernel: Depends on container host
	Compiler: gcc (Debian 12.2.0-14) 12.2.0

Ubuntu 20.04 ARM SVE
	Kernel: Depends on container host
	Compiler: gcc (Ubuntu 10.5.0-1ubuntu1~20.04) 10.5.0

Fedora 40 (ARM Clang)
	Kernel: Depends on container host
	Compiler: clang 18.1.8 (Fedora 18.1.8-1.fc40)

Fedora 41 (ARM)
	Kernel: Depends on container host
	Compiler: gcc 14.2.1 20240912 (Red Hat 14.2.1-3)

Ubuntu 24.04 (ARM)
	Kernel: Depends on container host
	Compiler: gcc (Ubuntu 13.3.0-6ubuntu2~24.04) 13.3.0

Fedora 40 (ARM)
	Kernel: Depends on container host
	Compiler: gcc 14.2.1 20240912 (Red Hat 14.2.1-3)

Fedora 41 (ARM Clang)
	Kernel: Depends on container host
	Compiler: clang 19.1.5 (Fedora 19.1.5-1.fc41)

Ubuntu 20.04 (ARM)
	Kernel: Depends on container host
	Compiler: gcc (Ubuntu 9.4.0-1ubuntu1~20.04.2) 9.4.0

CentOS Stream 9 (ARM)
	Kernel: Depends on container host
	Compiler: gcc 11.5.0 20240719 (Red Hat 11.5.0-2)

Ubuntu 22.04 (ARM)
	Kernel: Depends on container host
	Compiler: gcc (Ubuntu 11.4.0-1ubuntu1~22.04) 11.4.0

CentOS Stream 10 (ARM)
	Kernel: Depends on container host
	Compiler: gcc 14.2.1 20241104 (Red Hat 14.2.1-6)

Debian 12 (arm)
	Kernel: Depends on container host
	Compiler: gcc (Debian 12.2.0-14) 12.2.0

Ubuntu 20.04 ARM Clang Cross Compile
	Kernel: Depends on container host
	Compiler: clang 10.0.0-4ubuntu1

Ubuntu 20.04 aarch32 GCC Cross Compile
	Kernel: Depends on container host
	Compiler: gcc 9.4.0

To view detailed results, visit:
https://lab.dpdk.org/results/dashboard/tarballs/33359/

UNH-IOL DPDK Community Lab

To manage your email subscriptions, visit: 
https://lab.dpdk.org/results/dashboard/preferences/subscriptions/