From mboxrd@z Thu Jan  1 00:00:00 1970
Return-Path: <test-report-bounces@dpdk.org>
Received: from mails.dpdk.org (mails.dpdk.org [217.70.189.124])
	by inbox.dpdk.org (Postfix) with ESMTP id 9AF6B4664E
	for <public@inbox.dpdk.org>; Sat, 26 Apr 2025 07:45:46 +0200 (CEST)
Received: from mails.dpdk.org (localhost [127.0.0.1])
	by mails.dpdk.org (Postfix) with ESMTP id C5D6340263;
	Sat, 26 Apr 2025 07:45:45 +0200 (CEST)
Received: from mail-pf1-f228.google.com (mail-pf1-f228.google.com
 [209.85.210.228])
 by mails.dpdk.org (Postfix) with ESMTP id BACE2400D7
 for <test-report@dpdk.org>; Sat, 26 Apr 2025 07:45:44 +0200 (CEST)
Received: by mail-pf1-f228.google.com with SMTP id
 d2e1a72fcca58-73c17c770a7so4011607b3a.2
 for <test-report@dpdk.org>; Fri, 25 Apr 2025 22:45:44 -0700 (PDT)
DKIM-Signature: v=1; a=rsa-sha256; c=relaxed/relaxed;
 d=iol.unh.edu; s=unh-iol; t=1745646344; x=1746251144; darn=dpdk.org;
 h=cc:to:from:subject:message-id:date:from:to:cc:subject:date
 :message-id:reply-to;
 bh=t5jGhJI4bjpXQYBrI2AuFiu72HB2uzm3c/ZXB+BDHOI=;
 b=a9om2ol8FZC3TzCzrsen76puaJIDzAkjjzuA4+9l9sqUd+ZlbA0W6jhthYv+ATjqRA
 m0KeWpa3hxOc9x9u+UnwMgy0264t2Khgqdc5AgYFXnhLNpai7g3K45yu97hVLrlhTMu4
 fsH4SoZeJOx6JztR05GdF4EQO8V3evN14GKas=
X-Google-DKIM-Signature: v=1; a=rsa-sha256; c=relaxed/relaxed;
 d=1e100.net; s=20230601; t=1745646344; x=1746251144;
 h=cc:to:from:subject:message-id:date:x-gm-message-state:from:to:cc
 :subject:date:message-id:reply-to;
 bh=t5jGhJI4bjpXQYBrI2AuFiu72HB2uzm3c/ZXB+BDHOI=;
 b=eESQUhUQSq/+u3Z79WI/l/ztk0/LGs8lKxSsNtGZ6TAbYYFfnCjKfa0Hrdz4riIJJS
 hLiPoD2+TblDP287XX/6hf7MtzDDVk1bK/PDlXHz9Z4ccuaOOTzEUCtzxQO76c9HCjyT
 GWNTRSjenL7v2CQ2VtIQZXE2J8y18I7ePLJ4gXBWMoatf/se+iCF0/QYpu0Z6l8CuXlS
 jPqZQIeqH0B7tNnyOLSMKesriWVUshOf9Z0ZOmVVBaBCp/vQwyF9C3c+RqtQLh+dbq63
 inw5dpYBTragH8kXh5sEK23AFwHa5i6aHMD9mHzell/TtcwxwR094b2Bx8VrA1Wi77bS
 7vjQ==
X-Gm-Message-State: AOJu0YxUg7jEZLxdBb+GGYzf6fj2BQFdnct/UDkHRor4nTdsPuKLPRKU
 OQJDSFVIyzUAY502npk7ofgWsgz5GZAaAf+WfKAaS0T04mOFowAAZFaHXINwlpxY89lTFMmDTsJ
 BSzTszuHNNE+g92iIvR6KL77nCVLno92NiG1tTmpcZAVYUi/f
X-Gm-Gg: ASbGncte/FMxBNiADP5WEWZ11Ah50MHM7HBdmxATkBTZIuhml8daEhoYDtGe8RkNj2l
 rDUKh5gAZ51wfYeJkw/+jfd/TDurrvVrpKlQ7NfiuZ2N/nYY+ficAgiRPBjQunPrDNRo5sXq0am
 wTQrrPpLonuIlGPOPHg3gsfwU7ITLhiiI0FkSwbzc7bGkG8YX+IKePgaHymUkmLAyQTKegyizPr
 kVO/FF1lHW2HrmTn83UxnGV6soK5KgN2siwbZPwJLwm1h2lMKZKg59DTx4kwzKXQOC+AuVRHGV2
 51656SmHoFNpc3ST3uNYDFZZ1GXtkwoMQsTSCql5+AGNJ8a8
X-Google-Smtp-Source: AGHT+IGQhHGn0s2zRQ6/9tB0FstQG0POmL7mVqyg7Jeg2Eqp9l5IPc6pxwyH6eZmokDgAxAVKx45L7lVe1UE
X-Received: by 2002:a05:6a21:78aa:b0:1f5:84c8:5d03 with SMTP id
 adf61e73a8af0-2045b6add05mr5174296637.3.1745646343911; 
 Fri, 25 Apr 2025 22:45:43 -0700 (PDT)
Received: from postal.iol.unh.edu (postal.iol.unh.edu.
 [2606:4100:3880:1234::84]) by smtp-relay.gmail.com with ESMTPS id
 d2e1a72fcca58-73e25a5d819sm219436b3a.2.2025.04.25.22.45.43
 (version=TLS1_2 cipher=ECDHE-ECDSA-AES128-GCM-SHA256 bits=128/128);
 Fri, 25 Apr 2025 22:45:43 -0700 (PDT)
X-Relaying-Domain: iol.unh.edu
Date: Fri, 25 Apr 2025 22:45:43 -0700 (PDT)
Message-ID: <680c7307.050a0220.2bd756.da8eSMTPIN_ADDED_MISSING@mx.google.com>
Received: from [172.21.0.6] (unknown [172.18.0.240])
 by postal.iol.unh.edu (Postfix) with ESMTP id A088E6052471;
 Sat, 26 Apr 2025 01:45:42 -0400 (EDT)
Subject: |SUCCESS| [GIT MASTER] c4b6f6ff54c32e922971e1403f19aba9ea614896
From: dpdklab@iol.unh.edu
To: Test Report <test-report@dpdk.org>
Cc: dpdk-test-reports@iol.unh.edu, Xueming Li <xuemingl@nvidia.com>,
 Christian Ehrhardt <christian.ehrhardt@canonical.com>,
 Kevin Traynor <ktraynor@redhat.com>, Luca Boccassi <bluca@debian.org>
Content-Type: text/plain
X-BeenThere: test-report@dpdk.org
X-Mailman-Version: 2.1.29
Precedence: list
List-Id: automatic DPDK test reports <test-report.dpdk.org>
List-Unsubscribe: <https://mails.dpdk.org/options/test-report>,
 <mailto:test-report-request@dpdk.org?subject=unsubscribe>
List-Archive: <http://mails.dpdk.org/archives/test-report/>
List-Post: <mailto:test-report@dpdk.org>
List-Help: <mailto:test-report-request@dpdk.org?subject=help>
List-Subscribe: <https://mails.dpdk.org/listinfo/test-report>,
 <mailto:test-report-request@dpdk.org?subject=subscribe>
Errors-To: test-report-bounces@dpdk.org

_Testing PASS_

Branch: tags/v23.11

c4b6f6ff54c32e922971e1403f19aba9ea614896 --> testing pass

Upstream job id: Generic-DPDK-Compile-ABI#124465

Test environment and result as below:

+-------------------+----------+
|    Environment    | abi_test |
+===================+==========+
| CentOS Stream 9   | PASS     |
+-------------------+----------+
| Fedora 40 (Clang) | PASS     |
+-------------------+----------+
| CentOS Stream 10  | PASS     |
+-------------------+----------+
| Debian 12         | PASS     |
+-------------------+----------+
| Fedora 40         | PASS     |
+-------------------+----------+
| Fedora 41 (Clang) | PASS     |
+-------------------+----------+
| Fedora 41         | PASS     |
+-------------------+----------+
| RHEL8             | PASS     |
+-------------------+----------+
| openSUSE Leap 15  | PASS     |
+-------------------+----------+
| RHEL9             | PASS     |
+-------------------+----------+
| Ubuntu 24.04      | PASS     |
+-------------------+----------+
| Ubuntu 22.04      | PASS     |
+-------------------+----------+


CentOS Stream 9
	Kernel: Depends on container host
	Compiler: gcc 11.5.0 20240719 (Red Hat 11.5.0-2)

Fedora 40 (Clang)
	Kernel: Depends on container host
	Compiler: clang 18.1.8 (Fedora 18.1.8-1.fc40)

CentOS Stream 10
	Kernel: Depends on container host
	Compiler: gcc 14.2.1 20241104 (Red Hat 14.2.1-6)

Debian 12
	Kernel: Depends on container host
	Compiler: gcc (Debian 12.2.0-14) 12.2.0

Fedora 40
	Kernel: Depends on container host
	Compiler: gcc 14.2.1 20240912 (Red Hat 14.2.1-3)

Fedora 41 (Clang)
	Kernel: Depends on container host
	Compiler: clang 19.1.5 (Fedora 19.1.5-1.fc41)

Fedora 41
	Kernel: Depends on container host
	Compiler: gcc 14.2.1 20240912 (Red Hat 14.2.1-3)

RHEL8
	Kernel: Depends on container host
	Compiler: gcc 8.5.0 20210514 (Red Hat 8.5.0-22)

openSUSE Leap 15
	Kernel: Depends on container host
	Compiler: gcc (SUSE Linux) 7.5.0

RHEL9
	Kernel: Depends on container host
	Compiler: gcc 11.5.0 20240719 (Red Hat 11.5.0-2)

Ubuntu 24.04
	Kernel: Depends on container host
	Compiler: gcc (Ubuntu 13.3.0-6ubuntu2~24.04) 13.3.0

Ubuntu 22.04
	Kernel: Depends on container host
	Compiler: gcc (Ubuntu 11.4.0-1ubuntu1~22.04) 11.4.0

To view detailed results, visit:
https://lab.dpdk.org/results/dashboard/tarballs/33361/

UNH-IOL DPDK Community Lab

To manage your email subscriptions, visit: 
https://lab.dpdk.org/results/dashboard/preferences/subscriptions/