From mboxrd@z Thu Jan  1 00:00:00 1970
Return-Path: <test-report-bounces@dpdk.org>
Received: from mails.dpdk.org (mails.dpdk.org [217.70.189.124])
	by inbox.dpdk.org (Postfix) with ESMTP id E942A46658
	for <public@inbox.dpdk.org>; Sat, 26 Apr 2025 10:25:31 +0200 (CEST)
Received: from mails.dpdk.org (localhost [127.0.0.1])
	by mails.dpdk.org (Postfix) with ESMTP id 220E740263;
	Sat, 26 Apr 2025 10:25:31 +0200 (CEST)
Received: from mail-yw1-f227.google.com (mail-yw1-f227.google.com
 [209.85.128.227])
 by mails.dpdk.org (Postfix) with ESMTP id 527B0400D7
 for <test-report@dpdk.org>; Sat, 26 Apr 2025 10:25:30 +0200 (CEST)
Received: by mail-yw1-f227.google.com with SMTP id
 00721157ae682-6ff1e375a47so34403397b3.1
 for <test-report@dpdk.org>; Sat, 26 Apr 2025 01:25:30 -0700 (PDT)
DKIM-Signature: v=1; a=rsa-sha256; c=relaxed/relaxed;
 d=iol.unh.edu; s=unh-iol; t=1745655929; x=1746260729; darn=dpdk.org;
 h=cc:to:from:subject:message-id:date:from:to:cc:subject:date
 :message-id:reply-to;
 bh=hjOZs5YCa0CIaoxkt28itQ3WC0cH4cWu3ysqT3cL1U4=;
 b=gWzfZa/tCqYAcBFFTthhIvG31bkJ/ACElxpD1QPjeZMcwcWZf/xAlrfMmB7X5tRPeM
 GDBCYPXURMZwI6X7WDQTN1rVMKJ8ct+8OpoPO+fcKEIhfPHxIqv2hyC/RQE9FqxCei4m
 Pb7kSrYvYx9VonXwTzi0uTwUvbHAANuevgzFc=
X-Google-DKIM-Signature: v=1; a=rsa-sha256; c=relaxed/relaxed;
 d=1e100.net; s=20230601; t=1745655929; x=1746260729;
 h=cc:to:from:subject:message-id:date:x-gm-message-state:from:to:cc
 :subject:date:message-id:reply-to;
 bh=hjOZs5YCa0CIaoxkt28itQ3WC0cH4cWu3ysqT3cL1U4=;
 b=VbW0ArJQ5gUU4OFtRA1JWRvmz84DLIpMQuy4NHv3gpCaxOHwTRC2VnNZ0G0At9ZZsM
 uCB9+7YDaMBs6oXjILvd2hQVkI4WTOs3lyvvge4m+ABozvQnOkKHmIcG1L8LDdzxnTre
 q3jJmRUzz5s++EUigmIkEH7dT2CKgbZOeBzNhL7zb/JK8nNUxSCDoZWYDGi3fZXXv8ot
 ZYThCvXCSbh22Vw9h65tCIWZjlAeX02TGn6oPLQrr2bTVftc5bG9Zk0Nx1lUOVCy/umJ
 tusVFnMMr6PC1QepJxZrQXf0xYcqOdxA7pLmKum+B+tLLwKd8gOo8qyBWB45mjDN3u5V
 EMFw==
X-Gm-Message-State: AOJu0YwIMD08rEBY4ZPX8Bx+ry0hQeWV19yr2UyktovtsdjByt+ozj2C
 WhF5MRan/flNuA4hnJhEvU1ow8oJdjzr4vq51rfbdKdwAjKW2ILV4A5FERX3BS1VZm25NMytzxt
 qomOeR1Yuy+TN76asiUG7G2/HUsw2Heac
X-Gm-Gg: ASbGncs2Ym8gXIIan473lQDBMjdVMZM2Z0C1KZBLeYiVCnk8zdJFIAhLibVreM6en+5
 rEXLy8Gz40Y2VNbaA9AfCYo6Q3EsZbHYzfPqG8OJ0882roPMxq6Et2ldAy8HsLg2Yaa1deuPHew
 tmQUECnHUXhPCYWAeROjEjZgF2iRpiLUL+T+4hUn8cfkpif/9OHKmxL28spErtKMQGMGM9E81Sx
 1EKL/raxVvUEky8at38mZG2UgGk967dBGNwdUFvIezpBn92dbrugQV7Vo+l7iZBPazch3LQm66r
 XnyOsXqrOL/Spc8FS6qZf/muve0jinKomkuf
X-Google-Smtp-Source: AGHT+IF4uC5jFcht69v9kZ9pjXAraJX4RYQbNFwtnY9Jg8cZRWioQ+zgOlJQQFFuD52q51OPSzbPttZB4VI/
X-Received: by 2002:a05:690c:9c03:b0:705:750e:37b7 with SMTP id
 00721157ae682-7085f063060mr33237427b3.5.1745655929737; 
 Sat, 26 Apr 2025 01:25:29 -0700 (PDT)
Received: from postal.iol.unh.edu (postal.iol.unh.edu. [132.177.123.84])
 by smtp-relay.gmail.com with ESMTPS id
 00721157ae682-708564cae47sm612257b3.2.2025.04.26.01.25.29
 (version=TLS1_2 cipher=ECDHE-ECDSA-AES128-GCM-SHA256 bits=128/128);
 Sat, 26 Apr 2025 01:25:29 -0700 (PDT)
X-Relaying-Domain: iol.unh.edu
Date: Sat, 26 Apr 2025 01:25:29 -0700 (PDT)
Message-ID: <680c9879.050a0220.36135.34c4SMTPIN_ADDED_MISSING@mx.google.com>
Received: from [172.17.0.3] (unknown [172.18.0.74])
 by postal.iol.unh.edu (Postfix) with ESMTP id 613606052471;
 Sat, 26 Apr 2025 04:25:29 -0400 (EDT)
Subject: |SUCCESS| [GIT MASTER] 4401486b5e30d43a134f80f9802f60b5f43e74a8
From: dpdklab@iol.unh.edu
To: Test Report <test-report@dpdk.org>
Cc: dpdk-test-reports@iol.unh.edu, Xueming Li <xuemingl@nvidia.com>,
 Christian Ehrhardt <christian.ehrhardt@canonical.com>,
 Kevin Traynor <ktraynor@redhat.com>, Luca Boccassi <bluca@debian.org>
Content-Type: text/plain
X-BeenThere: test-report@dpdk.org
X-Mailman-Version: 2.1.29
Precedence: list
List-Id: automatic DPDK test reports <test-report.dpdk.org>
List-Unsubscribe: <https://mails.dpdk.org/options/test-report>,
 <mailto:test-report-request@dpdk.org?subject=unsubscribe>
List-Archive: <http://mails.dpdk.org/archives/test-report/>
List-Post: <mailto:test-report@dpdk.org>
List-Help: <mailto:test-report-request@dpdk.org?subject=help>
List-Subscribe: <https://mails.dpdk.org/listinfo/test-report>,
 <mailto:test-report-request@dpdk.org?subject=subscribe>
Errors-To: test-report-bounces@dpdk.org

_Testing PASS_

Branch: tags/v22.11

4401486b5e30d43a134f80f9802f60b5f43e74a8 --> testing pass

Upstream job id: Generic-Unit-Test-DPDK#333658

Test environment and result as below:

+-----------------------------+--------------+---------------------------+------------------------------+----------------+
|         Environment         | lpm_autotest | cryptodev_sw_zuc_autotest | cryptodev_sw_snow3g_autotest | dpdk_unit_test |
+=============================+==============+===========================+==============================+================+
| Ubuntu 20.04 ARM SVE        | PASS         | SKIPPED                   | SKIPPED                      | SKIPPED        |
+-----------------------------+--------------+---------------------------+------------------------------+----------------+
| Debian 12 (arm)             | SKIPPED      | PASS                      | PASS                         | SKIPPED        |
+-----------------------------+--------------+---------------------------+------------------------------+----------------+
| 32-bit Ubuntu 22.04.4 (ARM) | SKIPPED      | SKIPPED                   | SKIPPED                      | PASS           |
+-----------------------------+--------------+---------------------------+------------------------------+----------------+


Ubuntu 20.04 ARM SVE
	Kernel: Depends on container host
	Compiler: gcc (Ubuntu 10.5.0-1ubuntu1~20.04) 10.5.0

Debian 12 (arm)
	Kernel: Depends on container host
	Compiler: gcc (Debian 12.2.0-14) 12.2.0

32-bit Ubuntu 22.04.4 (ARM)
	Kernel: 5.15.83+ aarch64
	Compiler: gcc (Ubuntu 11.4.0-1ubuntu1~22.04) 11.4.0

To view detailed results, visit:
https://lab.dpdk.org/results/dashboard/tarballs/33362/

UNH-IOL DPDK Community Lab

To manage your email subscriptions, visit: 
https://lab.dpdk.org/results/dashboard/preferences/subscriptions/