From mboxrd@z Thu Jan  1 00:00:00 1970
Return-Path: <test-report-bounces@dpdk.org>
Received: from mails.dpdk.org (mails.dpdk.org [217.70.189.124])
	by inbox.dpdk.org (Postfix) with ESMTP id 11F694665A
	for <public@inbox.dpdk.org>; Sat, 26 Apr 2025 10:33:00 +0200 (CEST)
Received: from mails.dpdk.org (localhost [127.0.0.1])
	by mails.dpdk.org (Postfix) with ESMTP id DFD9440263;
	Sat, 26 Apr 2025 10:32:59 +0200 (CEST)
Received: from mail-pl1-f226.google.com (mail-pl1-f226.google.com
 [209.85.214.226])
 by mails.dpdk.org (Postfix) with ESMTP id BB67D400D7
 for <test-report@dpdk.org>; Sat, 26 Apr 2025 10:32:58 +0200 (CEST)
Received: by mail-pl1-f226.google.com with SMTP id
 d9443c01a7336-223fd89d036so39499415ad.1
 for <test-report@dpdk.org>; Sat, 26 Apr 2025 01:32:58 -0700 (PDT)
DKIM-Signature: v=1; a=rsa-sha256; c=relaxed/relaxed;
 d=iol.unh.edu; s=unh-iol; t=1745656378; x=1746261178; darn=dpdk.org;
 h=cc:to:from:subject:message-id:date:from:to:cc:subject:date
 :message-id:reply-to;
 bh=hRE6eUPfqjINXklFB9z2Cf3S/1C/+JWiSu/4aMRCNZA=;
 b=NkF9CpcTWiW3iTMkGFBdXn7CcXKJsej+FW87OuQNe0un7B5waQQ+cUxuQgq/ALLlQ1
 p6EJXRXWyIdRQYAx6X1OLfvEsbjhZnLg8+iwc3XJW9IAS/R5I6/h1YNzAdIvDMe5SD9C
 Xyd6JuWnmyD02a5Cl+X5i47rHRiwvKrAgVohU=
X-Google-DKIM-Signature: v=1; a=rsa-sha256; c=relaxed/relaxed;
 d=1e100.net; s=20230601; t=1745656378; x=1746261178;
 h=cc:to:from:subject:message-id:date:x-gm-message-state:from:to:cc
 :subject:date:message-id:reply-to;
 bh=hRE6eUPfqjINXklFB9z2Cf3S/1C/+JWiSu/4aMRCNZA=;
 b=PVj0C9tVLY9BIBgh3HfA9xYQYVbguHviQ4ju8owTxZOnEsDwiuJCA6dDsn5HDns0cV
 iCf82ZW1HuNWkY66k04+r4BsYWoCxM6n/g6ERV+1SqCYmKTcSW2nLCpTbct4oCM9ZJj7
 yiEiQ5siXTrmm2iw4z8Bb+Xd6kyaziI+61Fz25MlmP/GuOv9dJEHg+8uyNeIXrNRatXU
 KwhclDuK/lNKsteY0w1qibBiBtFA13DbinyqvzE7aecIIsqfKRELbuKcYmR29IUlHgb3
 xnLODUbh8KN6zJbZFPF46CgKrm9u519AuMUHIuL8hQjNhnRcJ29YCqsqI3QHF3gNrrGC
 RpqA==
X-Gm-Message-State: AOJu0YxcHjZ+EN1+z4F5ZDWa8Dgy1PKk/XfN6gm2k5Pf38kd6UKFvTWt
 2P7WPZzaPYFP4eDJXnZfGzoTbMdEa31erfUxAV/kuBRo+ZBzF91Q+v9Pa52iWTIujdcvq/Io2Ss
 OiOPyjfpqTi3pb8lHp2CacibF8izAetAIVLSltWA7gHwsIjF4XDZz1dzl
X-Gm-Gg: ASbGncs6rVsG/mrx4GLBatr2xAdV4xDReBoXqAebZP6AABE0rT5vQe7yPdniUxIY4Fx
 +qwGltiE++YAy6oV8BAPdajerxvuM93+BZLWqlrOm7lAxqI70eGbG+YCjdK/9oZYKA6jtUpjP9O
 vHrGwd8H7V7LAzczBHNmqlGtfzBsAdVAY7XszJLzqrysrsIv3P/i0/p3t08AeCciPsmhhGj2JFI
 lpYrBsf7FFim0pd08MGTfM2BLFHGqOfzmG9ntEA8V6bd1sQGVyzgmaVGxNn5EcTM0/jN4zHAUQ/
 lo0g2PsPgKhwcnvl5yIEQFSNYb56L5gJ6yTYmo3QGclvE0Va
X-Google-Smtp-Source: AGHT+IERaFFa6Ma7SKuLkZJsu2I6l0kRQ7+E/C8HUVUgzq1tyPmxdEtkX/n9vxGcCwfrrnNH65GxUGhjxGi3
X-Received: by 2002:a17:902:db09:b0:215:b473:1dc9 with SMTP id
 d9443c01a7336-22dc6a81e04mr36800045ad.46.1745656377794; 
 Sat, 26 Apr 2025 01:32:57 -0700 (PDT)
Received: from postal.iol.unh.edu (postal.iol.unh.edu.
 [2606:4100:3880:1234::84]) by smtp-relay.gmail.com with ESMTPS id
 d9443c01a7336-22db4da1401sm2236755ad.1.2025.04.26.01.32.57
 (version=TLS1_2 cipher=ECDHE-ECDSA-AES128-GCM-SHA256 bits=128/128);
 Sat, 26 Apr 2025 01:32:57 -0700 (PDT)
X-Relaying-Domain: iol.unh.edu
Date: Sat, 26 Apr 2025 01:32:57 -0700 (PDT)
Message-ID: <680c9a39.170a0220.62cb7.c67aSMTPIN_ADDED_MISSING@mx.google.com>
Received: from [172.17.0.2] (unknown [172.18.0.74])
 by postal.iol.unh.edu (Postfix) with ESMTP id D83446052471;
 Sat, 26 Apr 2025 04:32:56 -0400 (EDT)
Subject: |SUCCESS| [GIT MASTER] ca1690ebd224f148268285b15b97441ccdbdd07e
From: dpdklab@iol.unh.edu
To: Test Report <test-report@dpdk.org>
Cc: dpdk-test-reports@iol.unh.edu
Content-Type: text/plain
X-BeenThere: test-report@dpdk.org
X-Mailman-Version: 2.1.29
Precedence: list
List-Id: automatic DPDK test reports <test-report.dpdk.org>
List-Unsubscribe: <https://mails.dpdk.org/options/test-report>,
 <mailto:test-report-request@dpdk.org?subject=unsubscribe>
List-Archive: <http://mails.dpdk.org/archives/test-report/>
List-Post: <mailto:test-report@dpdk.org>
List-Help: <mailto:test-report-request@dpdk.org?subject=help>
List-Subscribe: <https://mails.dpdk.org/listinfo/test-report>,
 <mailto:test-report-request@dpdk.org?subject=subscribe>
Errors-To: test-report-bounces@dpdk.org

_Testing PASS_

Branch: dpdk

ca1690ebd224f148268285b15b97441ccdbdd07e --> testing pass

Upstream job id: ACVP-FIPS-testing#9641

Test environment and result as below:

+--------------------+----------------------+----------------------+
|    Environment     | compressdev_zlib_pmd | dpdk_fips_validation |
+====================+======================+======================+
| Ubuntu 22.04 (ARM) | PASS                 | SKIPPED              |
+--------------------+----------------------+----------------------+
| Ubuntu 22.04       | PASS                 | SKIPPED              |
+--------------------+----------------------+----------------------+
| Ubuntu 20.04       | SKIPPED              | PASS                 |
+--------------------+----------------------+----------------------+


Ubuntu 22.04 (ARM)
	Kernel: 5.15.0-97-generic
	Compiler: gcc gcc (Ubuntu 11.4.0-1ubuntu1~22.04) 11.4.0

Ubuntu 22.04
	Kernel: 5.15.0-100-generic
	Compiler: gcc gcc (Ubuntu 11.4.0-1ubuntu1~22.04) 11.4.0

Ubuntu 20.04
	Kernel: Depends on container host
	Compiler: gcc (Ubuntu 9.4.0-1ubuntu1~20.04.2) 9.4.0

To view detailed results, visit:
https://lab.dpdk.org/results/dashboard/tarballs/33359/

UNH-IOL DPDK Community Lab

To manage your email subscriptions, visit: 
https://lab.dpdk.org/results/dashboard/preferences/subscriptions/