From mboxrd@z Thu Jan  1 00:00:00 1970
Return-Path: <test-report-bounces@dpdk.org>
Received: from mails.dpdk.org (mails.dpdk.org [217.70.189.124])
	by inbox.dpdk.org (Postfix) with ESMTP id 03ABC4662B
	for <public@inbox.dpdk.org>; Sun, 27 Apr 2025 05:06:43 +0200 (CEST)
Received: from mails.dpdk.org (localhost [127.0.0.1])
	by mails.dpdk.org (Postfix) with ESMTP id F2AAC40263;
	Sun, 27 Apr 2025 05:06:42 +0200 (CEST)
Received: from mail-qv1-f98.google.com (mail-qv1-f98.google.com
 [209.85.219.98]) by mails.dpdk.org (Postfix) with ESMTP id 833634021F
 for <test-report@dpdk.org>; Sun, 27 Apr 2025 05:06:41 +0200 (CEST)
Received: by mail-qv1-f98.google.com with SMTP id
 6a1803df08f44-6e8f254b875so41945656d6.1
 for <test-report@dpdk.org>; Sat, 26 Apr 2025 20:06:41 -0700 (PDT)
DKIM-Signature: v=1; a=rsa-sha256; c=relaxed/relaxed;
 d=iol.unh.edu; s=unh-iol; t=1745723201; x=1746328001; darn=dpdk.org;
 h=references:in-reply-to:cc:to:from:subject:message-id:date:from:to
 :cc:subject:date:message-id:reply-to;
 bh=jxkLhdtK1lliJ0VaysVX881v509GMjS9DRAJkLp+PbI=;
 b=jwC9LHKLodXOUWe4TJXRSVQehGu4vLNzudcfXqHkwMsdtaMIxFG24uqE1IfEQk9Gp9
 MULXofdzoJog/1XDSKrmOSnYTuZXdbhq0cjwrA7+i51Bfvny5ASpOtSIG/XXXNaaB6Wn
 WGesCJ+p/K8d8ihiiyyAAz54a1Hs/1xSZkegc=
X-Google-DKIM-Signature: v=1; a=rsa-sha256; c=relaxed/relaxed;
 d=1e100.net; s=20230601; t=1745723201; x=1746328001;
 h=references:in-reply-to:cc:to:from:subject:message-id:date
 :x-gm-message-state:from:to:cc:subject:date:message-id:reply-to;
 bh=jxkLhdtK1lliJ0VaysVX881v509GMjS9DRAJkLp+PbI=;
 b=XJ22wEpIlqjz9SNkwHejQhlPjouvpa6LDOqsZS53rkJFLomzruprGIkg+46jNllIeG
 o28ASR/a45m+ExT94GS256hJmqlAm6+Jnx/BPrPhySukWHPqmwifDq1ui8G3KGlh2fPo
 o3H3gtwdhngW1n+pZs+OcbKR99fEsiSMLjZk+GsV0CyYZJdEYVHgs5Ad9sr35WNK7R2l
 hTnvoTvvSckuT6xuZU3J2DVX0uCB/CKuZ7jEbtQQJ1Ft4URWUd8Lzh12vUAxveNiIG5o
 EeWr2RTACg5xf88J30mf88KQ5lLtfG+Q+5KK331cuyH6i9PM0kkZdIbl4SKxX2F20nGc
 eaBw==
X-Gm-Message-State: AOJu0YzKBrab27GtUTA3Nb0t+xIbHkmSNBvhL3Vy2ZI+Uvz6hx5EAqQz
 oZ6ZeARSr4CxgG3ff7ZEE1XyZfUqltP4wQB9Pf5ab0F66hzmjGhKadJTaX1ncHYlG01coo2CHNy
 LDHBu9UwdvBRghz4wVuU0z3/nUwsU9ES5PM4Qz3wr
X-Gm-Gg: ASbGncvXhNEEtWPPSfPwDTDhFdXOBH18q657N3CK0yabiobJ7YoJ0o04O5zvfTQuM65
 zPhgEz/wdvUz+s1sastmIkNv+4ziy9z2ZhoFiZYS0jI2GBfU585qaX0WXU0qoxqzyMX1BC0GqTP
 7KPz2cYNyYndCejI9TzH+urzeenA613fQem9F9FnFtnlpmmdbwsjXBtkqYk0cs8dBDhEdP4xqCi
 CbFWu7mwbNpBcYAuw1u1rFhI5hYB4qeR0X8snUdOgVlMm6qwP1OgB8M+P+gBPhQ4qQ6d5dvlnIo
 2rTzmcGeNAaWUzaY+43Ed7gT1RosdAIicOmP
X-Google-Smtp-Source: AGHT+IHQouzKYU5iKpCHgq3mGQaThBxVcnWOGixbgOKN528o18MKzAMVnJRj+7yP7K9nLojTePFKxkidF1BQ
X-Received: by 2002:a05:6214:cc9:b0:6f2:d264:aaa8 with SMTP id
 6a1803df08f44-6f4cb9eb7abmr136352916d6.19.1745723200968; 
 Sat, 26 Apr 2025 20:06:40 -0700 (PDT)
Received: from postal.iol.unh.edu (postal.iol.unh.edu. [132.177.123.84])
 by smtp-relay.gmail.com with ESMTPS id
 6a1803df08f44-6f4c08dd72fsm5679876d6.7.2025.04.26.20.06.40
 (version=TLS1_2 cipher=ECDHE-ECDSA-AES128-GCM-SHA256 bits=128/128);
 Sat, 26 Apr 2025 20:06:40 -0700 (PDT)
X-Relaying-Domain: iol.unh.edu
Date: Sat, 26 Apr 2025 20:06:40 -0700 (PDT)
Message-ID: <680d9f40.050a0220.18f44c.2419SMTPIN_ADDED_MISSING@mx.google.com>
Received: from [172.21.0.5] (unknown [172.18.0.240])
 by postal.iol.unh.edu (Postfix) with ESMTP id 9EDB26052471;
 Sat, 26 Apr 2025 23:06:40 -0400 (EDT)
Subject: |SUCCESS| pw153164 [PATCH] [v2,1/1] bus/pci: introduce get_iova_mode
From: dpdklab@iol.unh.edu
To: Test Report <test-report@dpdk.org>
Cc: dpdk-test-reports@iol.unh.edu
In-Reply-To: <20250427013611.150888-1-kyo.liu@nebula-matrix.com>
References: <20250427013611.150888-1-kyo.liu@nebula-matrix.com>
Content-Type: text/plain
X-BeenThere: test-report@dpdk.org
X-Mailman-Version: 2.1.29
Precedence: list
List-Id: automatic DPDK test reports <test-report.dpdk.org>
List-Unsubscribe: <https://mails.dpdk.org/options/test-report>,
 <mailto:test-report-request@dpdk.org?subject=unsubscribe>
List-Archive: <http://mails.dpdk.org/archives/test-report/>
List-Post: <mailto:test-report@dpdk.org>
List-Help: <mailto:test-report-request@dpdk.org?subject=help>
List-Subscribe: <https://mails.dpdk.org/listinfo/test-report>,
 <mailto:test-report-request@dpdk.org?subject=subscribe>
Errors-To: test-report-bounces@dpdk.org

Test-Label: iol-sample-apps-testing
Test-Status: SUCCESS
http://dpdk.org/patch/153164

_Testing PASS_

Submitter: Kyo Liu <kyo.liu@nebula-matrix.com>
Date: Sunday, April 27 2025 01:36:11 
DPDK git baseline: Repo:dpdk
  Branch: master
  CommitID:ca1690ebd224f148268285b15b97441ccdbdd07e

153164 --> testing pass

Upstream job id: Template-DTS-Pipeline#223113

Test environment and result as below:

+--------------------+----------------------+----------------------+
|    Environment     | dpdk_fips_validation | compressdev_zlib_pmd |
+====================+======================+======================+
| Ubuntu 20.04       | PASS                 | SKIPPED              |
+--------------------+----------------------+----------------------+
| Ubuntu 22.04 (ARM) | SKIPPED              | PASS                 |
+--------------------+----------------------+----------------------+
| Ubuntu 22.04       | SKIPPED              | PASS                 |
+--------------------+----------------------+----------------------+


Ubuntu 20.04
	Kernel: Depends on container host
	Compiler: gcc (Ubuntu 9.4.0-1ubuntu1~20.04.2) 9.4.0

Ubuntu 22.04 (ARM)
	Kernel: 5.15.0-97-generic
	Compiler: gcc gcc (Ubuntu 11.4.0-1ubuntu1~22.04) 11.4.0

Ubuntu 22.04
	Kernel: 5.15.0-100-generic
	Compiler: gcc gcc (Ubuntu 11.4.0-1ubuntu1~22.04) 11.4.0

To view detailed results, visit:
https://lab.dpdk.org/results/dashboard/patchsets/33071/

UNH-IOL DPDK Community Lab

To manage your email subscriptions, visit: 
https://lab.dpdk.org/results/dashboard/preferences/subscriptions/