From mboxrd@z Thu Jan  1 00:00:00 1970
Return-Path: <test-report-bounces@dpdk.org>
Received: from mails.dpdk.org (mails.dpdk.org [217.70.189.124])
	by inbox.dpdk.org (Postfix) with ESMTP id 9537246635
	for <public@inbox.dpdk.org>; Sun, 27 Apr 2025 07:39:27 +0200 (CEST)
Received: from mails.dpdk.org (localhost [127.0.0.1])
	by mails.dpdk.org (Postfix) with ESMTP id 915DB40263;
	Sun, 27 Apr 2025 07:39:27 +0200 (CEST)
Received: from mail-yw1-f226.google.com (mail-yw1-f226.google.com
 [209.85.128.226])
 by mails.dpdk.org (Postfix) with ESMTP id 12F314021F
 for <test-report@dpdk.org>; Sun, 27 Apr 2025 07:39:26 +0200 (CEST)
Received: by mail-yw1-f226.google.com with SMTP id
 00721157ae682-70825de932bso41211627b3.0
 for <test-report@dpdk.org>; Sat, 26 Apr 2025 22:39:26 -0700 (PDT)
DKIM-Signature: v=1; a=rsa-sha256; c=relaxed/relaxed;
 d=iol.unh.edu; s=unh-iol; t=1745732365; x=1746337165; darn=dpdk.org;
 h=cc:to:from:subject:message-id:date:from:to:cc:subject:date
 :message-id:reply-to;
 bh=Kts+NsCZCgvUhF12hnmvaogAFrW2/to7gq0iulILovw=;
 b=U841uwXbksvjSGjDvZKI+OiWitYsNogbUZt1bqBHfeEHFwpCgTTXGeYIQ07KEuUr++
 0fRVVayEjAUFihvaCH2y3/DbqLYQ06qRQrQG7DGQvPA0bMY1utLVR5rkTBCJdIK58xsM
 zl715+orpCwhkl5ZQ3BsuLTegOICWeDvBvpB8=
X-Google-DKIM-Signature: v=1; a=rsa-sha256; c=relaxed/relaxed;
 d=1e100.net; s=20230601; t=1745732365; x=1746337165;
 h=cc:to:from:subject:message-id:date:x-gm-message-state:from:to:cc
 :subject:date:message-id:reply-to;
 bh=Kts+NsCZCgvUhF12hnmvaogAFrW2/to7gq0iulILovw=;
 b=g4eRL5IkZsuJjjOYDIfDHRFZTN2De3ex59a44887Xit3XGCo+4SlTjpTZ2qtMzTggS
 w/aeVPgemM56cNaq5Bm8j5JL8lc2PSatw/nyQcCBDL4B4w2WYatyDsRLC5ViQ0sROsaY
 h3czAhNcrWTh1JEN01uo068Fx48Nv7em5y71lgDTweDWVWIQc5RJvOLTCnukt4k4jbHt
 NoLlX6rUku4rEr8QS6nk+WVaiyKVmqvKqvs2WNAoMEjFZIcqZelnXUXW2Mn452k5NqWt
 +et+8nTVxOK6EXcHJFWNOUF3f8aeJ8e31B3TRrFXtn3BDnyyCTUcqdgo+q1DA9ofSY3u
 lX/Q==
X-Gm-Message-State: AOJu0YxBmnLmDdIh0+NLizbQWQndvird7HPVGinSCzjcBoQgng2h34sw
 QIb5STfynXiX0f6VYi/0Kxb0+N4tx6HjTa4ilQNwZNdoWeKRQvbaZ1LAglNU+k1DJBvc3rXWnIU
 ayJSkwDRvgKuGP1TOJtXQJocNB/KfC/I1sLHv517a+6+nzOyo
X-Gm-Gg: ASbGncun6Db1tMKeaqVUHAduLgX7M835MEMEDj7yR/K8tXh3WRpzukFU/wKcpb3EizB
 ghdXfgRaAlu4S/TmfVtAV5XPp6hOU/qcZM7q4r59TpmclhhR4+LKcaXlWJfV2VF2W5rTBGjqj4I
 MFci4nxgnIkXyZCXwJPo4AaUqRapKz9LXHmg/vCd0a49fsQLtXLUEvSIKnjsfYiw3kOjPXo5aYG
 lIjOawfDZ+aHyoI0Zf1fFDec5sUa0lckpGTxjnqDD9DgOUMkU1oymrDnfnDLMv6kUHoJGvOf8kV
 2tH1VUqS6P7DuvYfs1ibQeYNsJDf6OcnyPOw9csnGbfmdklq
X-Google-Smtp-Source: AGHT+IFhSZwfUs3pxyBtnrY3O0Vp15dPkFn5oQ2pVGPQZ6xLM8JautWQGbqeX2rr+wYPDKZos/sgBAygzzem
X-Received: by 2002:a05:690c:b05:b0:702:d4f:cdbc with SMTP id
 00721157ae682-708419d4453mr159498107b3.18.1745732365415; 
 Sat, 26 Apr 2025 22:39:25 -0700 (PDT)
Received: from postal.iol.unh.edu (postal.iol.unh.edu.
 [2606:4100:3880:1234::84]) by smtp-relay.gmail.com with ESMTPS id
 00721157ae682-7084195c8bbsm4176077b3.20.2025.04.26.22.39.25
 (version=TLS1_2 cipher=ECDHE-ECDSA-AES128-GCM-SHA256 bits=128/128);
 Sat, 26 Apr 2025 22:39:25 -0700 (PDT)
X-Relaying-Domain: iol.unh.edu
Date: Sat, 26 Apr 2025 22:39:25 -0700 (PDT)
Message-ID: <680dc30d.810a0220.9f28f.9b19SMTPIN_ADDED_MISSING@mx.google.com>
Received: from [172.21.0.7] (unknown [172.18.0.240])
 by postal.iol.unh.edu (Postfix) with ESMTP id 132DA6052471;
 Sun, 27 Apr 2025 01:39:25 -0400 (EDT)
Subject: |SUCCESS| [GIT MASTER] c4b6f6ff54c32e922971e1403f19aba9ea614896
From: dpdklab@iol.unh.edu
To: Test Report <test-report@dpdk.org>
Cc: dpdk-test-reports@iol.unh.edu, Xueming Li <xuemingl@nvidia.com>,
 Christian Ehrhardt <christian.ehrhardt@canonical.com>,
 Kevin Traynor <ktraynor@redhat.com>, Luca Boccassi <bluca@debian.org>
Content-Type: text/plain
X-BeenThere: test-report@dpdk.org
X-Mailman-Version: 2.1.29
Precedence: list
List-Id: automatic DPDK test reports <test-report.dpdk.org>
List-Unsubscribe: <https://mails.dpdk.org/options/test-report>,
 <mailto:test-report-request@dpdk.org?subject=unsubscribe>
List-Archive: <http://mails.dpdk.org/archives/test-report/>
List-Post: <mailto:test-report@dpdk.org>
List-Help: <mailto:test-report-request@dpdk.org?subject=help>
List-Subscribe: <https://mails.dpdk.org/listinfo/test-report>,
 <mailto:test-report-request@dpdk.org?subject=subscribe>
Errors-To: test-report-bounces@dpdk.org

_Testing PASS_

Branch: tags/v23.11

c4b6f6ff54c32e922971e1403f19aba9ea614896 --> testing pass

Upstream job id: Generic-VM-DPDK-Compile-Meson#34946

Test environment and result as below:

+---------------------+--------------------+-------------------+
|     Environment     | dpdk_meson_compile | dpdk_msvc_compile |
+=====================+====================+===================+
| Ubuntu 20.04        | PASS               | SKIPPED           |
+---------------------+--------------------+-------------------+
| FreeBSD 13.5        | PASS               | SKIPPED           |
+---------------------+--------------------+-------------------+
| FreeBSD 14.2        | PASS               | SKIPPED           |
+---------------------+--------------------+-------------------+
| Windows Server 2022 | SKIPPED            | PASS              |
+---------------------+--------------------+-------------------+


Ubuntu 20.04
	Kernel: 4.19.325-0419325-generic
	Compiler: gcc (Ubuntu 9.4.0-1ubuntu1~20.04.2) 9.4.0

FreeBSD 13.5
	Kernel: 13.5-RELEASE
	Compiler: clang 19.1.7

FreeBSD 14.2
	Kernel: 14.2-RELEASE
	Compiler: clang 18.1.6

Windows Server 2022
	Kernel: 10.0.20348.2031
	Compiler: clang 15.0.7, gcc 14.1.0 (MinGW), and MSVC VS 19.39.33521

To view detailed results, visit:
https://lab.dpdk.org/results/dashboard/tarballs/33367/

UNH-IOL DPDK Community Lab

To manage your email subscriptions, visit: 
https://lab.dpdk.org/results/dashboard/preferences/subscriptions/