From mboxrd@z Thu Jan  1 00:00:00 1970
Return-Path: <test-report-bounces@dpdk.org>
Received: from mails.dpdk.org (mails.dpdk.org [217.70.189.124])
	by inbox.dpdk.org (Postfix) with ESMTP id 34F2E4662E
	for <public@inbox.dpdk.org>; Sun, 27 Apr 2025 08:37:49 +0200 (CEST)
Received: from mails.dpdk.org (localhost [127.0.0.1])
	by mails.dpdk.org (Postfix) with ESMTP id 2FD4C40263;
	Sun, 27 Apr 2025 08:37:49 +0200 (CEST)
Received: from mail-il1-f227.google.com (mail-il1-f227.google.com
 [209.85.166.227])
 by mails.dpdk.org (Postfix) with ESMTP id 534D64021F
 for <test-report@dpdk.org>; Sun, 27 Apr 2025 08:37:48 +0200 (CEST)
Received: by mail-il1-f227.google.com with SMTP id
 e9e14a558f8ab-3d817bc6eb0so12041975ab.1
 for <test-report@dpdk.org>; Sat, 26 Apr 2025 23:37:48 -0700 (PDT)
DKIM-Signature: v=1; a=rsa-sha256; c=relaxed/relaxed;
 d=iol.unh.edu; s=unh-iol; t=1745735867; x=1746340667; darn=dpdk.org;
 h=references:in-reply-to:cc:to:from:subject:message-id:date:from:to
 :cc:subject:date:message-id:reply-to;
 bh=iL+earrKUFkyWoSpfubFwXYUeasoDOzZK5ZooBKRK3I=;
 b=iMTJosz+jG2pK4TXBc07qzr29M6UyhFbmugj5wfCyaeEq08Rc6IEPwXPgHmx0qJWPC
 Hd7/vDJOtAf24XtGCGBWeiN8GRiTojHPwKcjcdh/XDALD/3SryB/e58JhCizbwevWrYI
 +S4us3bca2aBYk5xIGRNrLbYndYq+2tjLZP2c=
X-Google-DKIM-Signature: v=1; a=rsa-sha256; c=relaxed/relaxed;
 d=1e100.net; s=20230601; t=1745735867; x=1746340667;
 h=references:in-reply-to:cc:to:from:subject:message-id:date
 :x-gm-message-state:from:to:cc:subject:date:message-id:reply-to;
 bh=iL+earrKUFkyWoSpfubFwXYUeasoDOzZK5ZooBKRK3I=;
 b=lGb0QAP+Wq62fuLQq5FZH2UbM3E7khAL1fHEv/VYWC48nGXO6ZdW2g6wScsQ0nbQNr
 WCPcQIk8+XfAYVof3pRJ+x5zv6PAhri1duVC5wBdqwH4ShI3oPlC8mVJVaqnixT8e5mN
 5BVhEU6CMRicPcg6HK1JfVErZTiCu47ujbK1aYjyhl+J+mFlAoj3SUs07lBQS6l+nRKJ
 Qhw4rosKeAbTaQ/YAp7/8ooT1bbN6ZxYjc9590UZMPEgBSPNuvuG5dpL6qWnAIL/Sous
 83W8apf1kYbX07OS2uyz1D2Zk7WP8gvn8rH7U1QVY8uJBQq9rbzQ5+XWtdOc5x4tYgwc
 7PAg==
X-Gm-Message-State: AOJu0YzmrnTMFwQczANZeeGulRiIlBAH5DWE/1Ts5H/WY018D52u5pYS
 xB9dzt+8KQUsr+uOyOANy25465Dcbozr8AzfOMELqED0eDp32FkEpVLKcdOR0YCeHMJweJAAp2b
 mU/wEnJHQ5I6Vl95VPZJB3Pt8NhjWSuzSp5CBl1sB
X-Gm-Gg: ASbGnctiC3ouUuQdb5tQZHDJpVOSZKnCd481pGa5kAxZ7CjqxQHPiyjoZT1CR5vcbKv
 DjbB19Lb2fAtmOL6wqMVlOOSyX4TycMd1xU5KPXY2HjsAMjBNE+D+9Xymgg1L19dmyZzw991WPy
 3+e/bm3atY7EhEU2ufwzE3XhcrieUds/xBUwMw2CQJXkxbXVedzz8/xsBE7HrHLa1N0eQgc/D3Z
 d8Sj2TBxTo3okVx7719TesDxg6tFGQ+Yrt8W2LiAF24TJPFRFhmn/Y0jhh9gdP/BpV6FmFMC028
 FGttbT+LaVIAjz+6J1ixDWDflIyMoQ49+hnp
X-Google-Smtp-Source: AGHT+IGHYraZjyOsuy4MjkIrGCFRhWXaZp1gsPlqD+V0pffaAzHJCtyYazZAzUP6Jj+yf7ySkxADJSHnyps5
X-Received: by 2002:a05:6e02:1527:b0:3d8:20fb:f060 with SMTP id
 e9e14a558f8ab-3d942d1ddc2mr48216965ab.4.1745735867583; 
 Sat, 26 Apr 2025 23:37:47 -0700 (PDT)
Received: from postal.iol.unh.edu (postal.iol.unh.edu. [132.177.123.84])
 by smtp-relay.gmail.com with ESMTPS id
 8926c6da1cb9f-4f824a424basm553933173.30.2025.04.26.23.37.47
 (version=TLS1_2 cipher=ECDHE-ECDSA-AES128-GCM-SHA256 bits=128/128);
 Sat, 26 Apr 2025 23:37:47 -0700 (PDT)
X-Relaying-Domain: iol.unh.edu
Date: Sat, 26 Apr 2025 23:37:47 -0700 (PDT)
Message-ID: <680dd0bb.050a0220.74b09.0a2eSMTPIN_ADDED_MISSING@mx.google.com>
Received: from [172.21.0.7] (unknown [172.18.0.240])
 by postal.iol.unh.edu (Postfix) with ESMTP id 1450C6052471;
 Sun, 27 Apr 2025 02:37:47 -0400 (EDT)
Subject: |SUCCESS| pw153164 [PATCH] [v2,1/1] bus/pci: introduce get_iova_mode
From: dpdklab@iol.unh.edu
To: Test Report <test-report@dpdk.org>
Cc: dpdk-test-reports@iol.unh.edu
In-Reply-To: <20250427013611.150888-1-kyo.liu@nebula-matrix.com>
References: <20250427013611.150888-1-kyo.liu@nebula-matrix.com>
Content-Type: text/plain
X-BeenThere: test-report@dpdk.org
X-Mailman-Version: 2.1.29
Precedence: list
List-Id: automatic DPDK test reports <test-report.dpdk.org>
List-Unsubscribe: <https://mails.dpdk.org/options/test-report>,
 <mailto:test-report-request@dpdk.org?subject=unsubscribe>
List-Archive: <http://mails.dpdk.org/archives/test-report/>
List-Post: <mailto:test-report@dpdk.org>
List-Help: <mailto:test-report-request@dpdk.org?subject=help>
List-Subscribe: <https://mails.dpdk.org/listinfo/test-report>,
 <mailto:test-report-request@dpdk.org?subject=subscribe>
Errors-To: test-report-bounces@dpdk.org

Test-Label: iol-compile-arm64-testing
Test-Status: SUCCESS
http://dpdk.org/patch/153164

_Testing PASS_

Submitter: Kyo Liu <kyo.liu@nebula-matrix.com>
Date: Sunday, April 27 2025 01:36:11 
DPDK git baseline: Repo:dpdk
  Branch: master
  CommitID:ca1690ebd224f148268285b15b97441ccdbdd07e

153164 --> testing pass

Upstream job id: Generic-DPDK-Compile-Meson#383101

Test environment and result as below:

+----------------------------------------+--------------------+
|              Environment               | dpdk_meson_compile |
+========================================+====================+
| Ubuntu 20.04 ARM SVE                   | PASS               |
+----------------------------------------+--------------------+
| RHEL9 (ARM)                            | PASS               |
+----------------------------------------+--------------------+
| Fedora 40 (ARM)                        | PASS               |
+----------------------------------------+--------------------+
| Ubuntu 20.04 ARM GCC Cross Compile     | PASS               |
+----------------------------------------+--------------------+
| Debian 12 with MUSDK                   | PASS               |
+----------------------------------------+--------------------+
| Fedora 40 (ARM Clang)                  | PASS               |
+----------------------------------------+--------------------+
| Fedora 41 (ARM)                        | PASS               |
+----------------------------------------+--------------------+
| Ubuntu 20.04 aarch32 GCC Cross Compile | PASS               |
+----------------------------------------+--------------------+
| Fedora 41 (ARM Clang)                  | PASS               |
+----------------------------------------+--------------------+
| Ubuntu 22.04 (ARM)                     | PASS               |
+----------------------------------------+--------------------+
| Ubuntu 20.04 (ARM)                     | PASS               |
+----------------------------------------+--------------------+
| Debian 12 (arm)                        | PASS               |
+----------------------------------------+--------------------+
| CentOS Stream 9 (ARM)                  | PASS               |
+----------------------------------------+--------------------+
| CentOS Stream 10 (ARM)                 | PASS               |
+----------------------------------------+--------------------+
| Ubuntu 24.04 (ARM)                     | PASS               |
+----------------------------------------+--------------------+
| Ubuntu 20.04 ARM Clang Cross Compile   | PASS               |
+----------------------------------------+--------------------+


Ubuntu 20.04 ARM SVE
	Kernel: Depends on container host
	Compiler: gcc (Ubuntu 10.5.0-1ubuntu1~20.04) 10.5.0

RHEL9 (ARM)
	Kernel: Depends on container host
	Compiler: gcc 11.5.0 20240719 (Red Hat 11.5.0-2)

Fedora 40 (ARM)
	Kernel: Depends on container host
	Compiler: gcc 14.2.1 20240912 (Red Hat 14.2.1-3)

Ubuntu 20.04 ARM GCC Cross Compile
	Kernel: Depends on container host
	Compiler: aarch64-linux-gnu-gcc (Ubuntu 9.4.0-1ubuntu1~20.04.2) 9.4.0

Debian 12 with MUSDK
	Kernel: Depends on container host
	Compiler: gcc (Debian 12.2.0-14) 12.2.0

Fedora 40 (ARM Clang)
	Kernel: Depends on container host
	Compiler: clang 18.1.8 (Fedora 18.1.8-1.fc40)

Fedora 41 (ARM)
	Kernel: Depends on container host
	Compiler: gcc 14.2.1 20240912 (Red Hat 14.2.1-3)

Ubuntu 20.04 aarch32 GCC Cross Compile
	Kernel: Depends on container host
	Compiler: gcc 9.4.0

Fedora 41 (ARM Clang)
	Kernel: Depends on container host
	Compiler: clang 19.1.5 (Fedora 19.1.5-1.fc41)

Ubuntu 22.04 (ARM)
	Kernel: Depends on container host
	Compiler: gcc (Ubuntu 11.4.0-1ubuntu1~22.04) 11.4.0

Ubuntu 20.04 (ARM)
	Kernel: Depends on container host
	Compiler: gcc (Ubuntu 9.4.0-1ubuntu1~20.04.2) 9.4.0

Debian 12 (arm)
	Kernel: Depends on container host
	Compiler: gcc (Debian 12.2.0-14) 12.2.0

CentOS Stream 9 (ARM)
	Kernel: Depends on container host
	Compiler: gcc 11.5.0 20240719 (Red Hat 11.5.0-2)

CentOS Stream 10 (ARM)
	Kernel: Depends on container host
	Compiler: gcc 14.2.1 20241104 (Red Hat 14.2.1-6)

Ubuntu 24.04 (ARM)
	Kernel: Depends on container host
	Compiler: gcc (Ubuntu 13.3.0-6ubuntu2~24.04) 13.3.0

Ubuntu 20.04 ARM Clang Cross Compile
	Kernel: Depends on container host
	Compiler: clang 10.0.0-4ubuntu1

To view detailed results, visit:
https://lab.dpdk.org/results/dashboard/patchsets/33071/

UNH-IOL DPDK Community Lab

To manage your email subscriptions, visit: 
https://lab.dpdk.org/results/dashboard/preferences/subscriptions/