From mboxrd@z Thu Jan  1 00:00:00 1970
Return-Path: <test-report-bounces@dpdk.org>
Received: from mails.dpdk.org (mails.dpdk.org [217.70.189.124])
	by inbox.dpdk.org (Postfix) with ESMTP id 4B68D4662E
	for <public@inbox.dpdk.org>; Sun, 27 Apr 2025 09:43:16 +0200 (CEST)
Received: from mails.dpdk.org (localhost [127.0.0.1])
	by mails.dpdk.org (Postfix) with ESMTP id 10A5340263;
	Sun, 27 Apr 2025 09:43:16 +0200 (CEST)
Received: from mail-pg1-f225.google.com (mail-pg1-f225.google.com
 [209.85.215.225])
 by mails.dpdk.org (Postfix) with ESMTP id 37D5140263
 for <test-report@dpdk.org>; Sun, 27 Apr 2025 09:43:15 +0200 (CEST)
Received: by mail-pg1-f225.google.com with SMTP id
 41be03b00d2f7-af5085f7861so2732667a12.3
 for <test-report@dpdk.org>; Sun, 27 Apr 2025 00:43:15 -0700 (PDT)
DKIM-Signature: v=1; a=rsa-sha256; c=relaxed/relaxed;
 d=iol.unh.edu; s=unh-iol; t=1745739794; x=1746344594; darn=dpdk.org;
 h=cc:to:from:subject:message-id:date:from:to:cc:subject:date
 :message-id:reply-to;
 bh=XFxIyJTbjwEImW0R6U/ZN8IiILi8HQGYhXDiiP+sZ5I=;
 b=UmO3KxOD1RJVx2ku0alf/bPy0KjTpmqsDlvkuh7XseT10v+0EegZibfYjNY+tbUxgm
 c5u6ATkumfdNGR16AHLwcATAfgnj7cBYQZm4RFhFDbQolFSoCM/nIRKq9DU0CGvl5ytr
 RLBwYUbv5OdmPq2iqjh20v6UvpkjBvrOzLRQc=
X-Google-DKIM-Signature: v=1; a=rsa-sha256; c=relaxed/relaxed;
 d=1e100.net; s=20230601; t=1745739794; x=1746344594;
 h=cc:to:from:subject:message-id:date:x-gm-message-state:from:to:cc
 :subject:date:message-id:reply-to;
 bh=XFxIyJTbjwEImW0R6U/ZN8IiILi8HQGYhXDiiP+sZ5I=;
 b=kjwDmjWmq1q/eNCU2LMvMr7FgHqIqagdPrFKJ1NUsYfaHAiEyYmhZJd3axh+qiLUxc
 CdQpfJq9pdzFRd+ZmdYJ/6ynbrhmEUHI/dd+khPUV6Ye7O+0OXrrUmYGwzXKu5HGRKA5
 XdB7yovGe0EO4QYfKKyvI2ush4WDQcl9tEV8c6fCpX/3hfbtlBygI/jTOfxiu4osQ6Jo
 yzF0Bjiia56TOmR/Pm4QlHS2WLov+77A9hUgrK8RHx973/zlA05zEIoyVAwxFe/Ml/NZ
 0t7X9/Flr914sH0sU3+Ao46VVundnJZFn8H///LUOszV58WwdALkyiPtUwpvFUwxb/5A
 5YGQ==
X-Gm-Message-State: AOJu0YxIli0vGVEqgZM/+q1ehOPGUmMv14V2Q0m7MSOOb4dXO1PzRjMm
 2Qzu0ILV+1X4uxvytP7PTvrrPTUwgQnDYVEnDAMErBvRm/KBM79xsS/mNIjNCwjo2KZLcThyCQz
 SbVna+HQtKm3+iXAFnCy7/0DoH85+4Yz4LeLz8jnUiMbEyOTL
X-Gm-Gg: ASbGncvc5ceh4IjFnVoebif2fBnhimNQfFX1Sn9nc+tJvZamQs8+trJyDhToiiR+UIm
 IY6Ckt8+zHv1suIF4rN8VYkQ0+KJevP6oGxBkZsLr4fjqcGzHd7vNy514ptcpN/FhAmbAJTyE4k
 rRn3UOusxi4oVYTIiNsubpnthmpHkNU8zz4T39tPJJq6Yotq87aww7BBlak6CB0lueALEIpLJfm
 0jI8jab8RWIYLSvZFXdKrJlSRYv09Fk0iqqmG2XF3qcCif9Q5t92CDtjt+cNZ4PRbiHsT2xRUNP
 ii+hwZtkjdbTZAxDMzkn1gsQcfmfmpCX1G/84FEe6Q32mfCS
X-Google-Smtp-Source: AGHT+IGiMHX5QCdcsgGhJEof3naEEfEfcpKyKZJtXPIMjBwwnbj/W/qKk5ltrwuLbr0+LiKQy45d86Rf3YH3
X-Received: by 2002:a17:90b:5644:b0:306:b6f7:58ba with SMTP id
 98e67ed59e1d1-30a012fe2e1mr6890303a91.6.1745739794153; 
 Sun, 27 Apr 2025 00:43:14 -0700 (PDT)
Received: from postal.iol.unh.edu (postal.iol.unh.edu.
 [2606:4100:3880:1234::84]) by smtp-relay.gmail.com with ESMTPS id
 d9443c01a7336-22db4da00d3sm6405365ad.9.2025.04.27.00.43.14
 (version=TLS1_2 cipher=ECDHE-ECDSA-AES128-GCM-SHA256 bits=128/128);
 Sun, 27 Apr 2025 00:43:14 -0700 (PDT)
X-Relaying-Domain: iol.unh.edu
Date: Sun, 27 Apr 2025 00:43:14 -0700 (PDT)
Message-ID: <680de012.170a0220.17e1dd.1173SMTPIN_ADDED_MISSING@mx.google.com>
Received: from [172.21.0.5] (unknown [172.18.0.240])
 by postal.iol.unh.edu (Postfix) with ESMTP id 37AA16052471;
 Sun, 27 Apr 2025 03:43:13 -0400 (EDT)
Subject: |SUCCESS| [GIT MASTER] 4c5634de9f933555bab9c64a533d3dca999071cd
From: dpdklab@iol.unh.edu
To: Test Report <test-report@dpdk.org>
Cc: dpdk-test-reports@iol.unh.edu, Xueming Li <xuemingl@nvidia.com>,
 Christian Ehrhardt <christian.ehrhardt@canonical.com>,
 Kevin Traynor <ktraynor@redhat.com>, Luca Boccassi <bluca@debian.org>
Content-Type: text/plain
X-BeenThere: test-report@dpdk.org
X-Mailman-Version: 2.1.29
Precedence: list
List-Id: automatic DPDK test reports <test-report.dpdk.org>
List-Unsubscribe: <https://mails.dpdk.org/options/test-report>,
 <mailto:test-report-request@dpdk.org?subject=unsubscribe>
List-Archive: <http://mails.dpdk.org/archives/test-report/>
List-Post: <mailto:test-report@dpdk.org>
List-Help: <mailto:test-report-request@dpdk.org?subject=help>
List-Subscribe: <https://mails.dpdk.org/listinfo/test-report>,
 <mailto:test-report-request@dpdk.org?subject=subscribe>
Errors-To: test-report-bounces@dpdk.org

_Testing PASS_

Branch: tags/v24.11

4c5634de9f933555bab9c64a533d3dca999071cd --> testing pass

Upstream job id: Generic-DPDK-Compile-ABI#124527

Test environment and result as below:

+-------------------+----------+
|    Environment    | abi_test |
+===================+==========+
| CentOS Stream 9   | PASS     |
+-------------------+----------+
| CentOS Stream 10  | PASS     |
+-------------------+----------+
| Debian 12         | PASS     |
+-------------------+----------+
| Fedora 40 (Clang) | PASS     |
+-------------------+----------+
| Fedora 40         | PASS     |
+-------------------+----------+
| Fedora 41 (Clang) | PASS     |
+-------------------+----------+
| Fedora 41         | PASS     |
+-------------------+----------+
| RHEL9             | PASS     |
+-------------------+----------+
| openSUSE Leap 15  | PASS     |
+-------------------+----------+
| Ubuntu 24.04      | PASS     |
+-------------------+----------+
| Ubuntu 22.04      | PASS     |
+-------------------+----------+
| RHEL8             | PASS     |
+-------------------+----------+


CentOS Stream 9
	Kernel: Depends on container host
	Compiler: gcc 11.5.0 20240719 (Red Hat 11.5.0-2)

CentOS Stream 10
	Kernel: Depends on container host
	Compiler: gcc 14.2.1 20241104 (Red Hat 14.2.1-6)

Debian 12
	Kernel: Depends on container host
	Compiler: gcc (Debian 12.2.0-14) 12.2.0

Fedora 40 (Clang)
	Kernel: Depends on container host
	Compiler: clang 18.1.8 (Fedora 18.1.8-1.fc40)

Fedora 40
	Kernel: Depends on container host
	Compiler: gcc 14.2.1 20240912 (Red Hat 14.2.1-3)

Fedora 41 (Clang)
	Kernel: Depends on container host
	Compiler: clang 19.1.5 (Fedora 19.1.5-1.fc41)

Fedora 41
	Kernel: Depends on container host
	Compiler: gcc 14.2.1 20240912 (Red Hat 14.2.1-3)

RHEL9
	Kernel: Depends on container host
	Compiler: gcc 11.5.0 20240719 (Red Hat 11.5.0-2)

openSUSE Leap 15
	Kernel: Depends on container host
	Compiler: gcc (SUSE Linux) 7.5.0

Ubuntu 24.04
	Kernel: Depends on container host
	Compiler: gcc (Ubuntu 13.3.0-6ubuntu2~24.04) 13.3.0

Ubuntu 22.04
	Kernel: Depends on container host
	Compiler: gcc (Ubuntu 11.4.0-1ubuntu1~22.04) 11.4.0

RHEL8
	Kernel: Depends on container host
	Compiler: gcc 8.5.0 20210514 (Red Hat 8.5.0-22)

To view detailed results, visit:
https://lab.dpdk.org/results/dashboard/tarballs/33366/

UNH-IOL DPDK Community Lab

To manage your email subscriptions, visit: 
https://lab.dpdk.org/results/dashboard/preferences/subscriptions/