From mboxrd@z Thu Jan  1 00:00:00 1970
Return-Path: <test-report-bounces@dpdk.org>
Received: from mails.dpdk.org (mails.dpdk.org [217.70.189.124])
	by inbox.dpdk.org (Postfix) with ESMTP id 2B1434663E
	for <public@inbox.dpdk.org>; Sun, 27 Apr 2025 16:26:10 +0200 (CEST)
Received: from mails.dpdk.org (localhost [127.0.0.1])
	by mails.dpdk.org (Postfix) with ESMTP id 330E640263;
	Sun, 27 Apr 2025 16:26:09 +0200 (CEST)
Received: from mail-il1-f225.google.com (mail-il1-f225.google.com
 [209.85.166.225])
 by mails.dpdk.org (Postfix) with ESMTP id 00AB74021F
 for <test-report@dpdk.org>; Sun, 27 Apr 2025 16:26:07 +0200 (CEST)
Received: by mail-il1-f225.google.com with SMTP id
 e9e14a558f8ab-3d940c7ea71so8860515ab.0
 for <test-report@dpdk.org>; Sun, 27 Apr 2025 07:26:07 -0700 (PDT)
DKIM-Signature: v=1; a=rsa-sha256; c=relaxed/relaxed;
 d=iol.unh.edu; s=unh-iol; t=1745763967; x=1746368767; darn=dpdk.org;
 h=references:in-reply-to:cc:to:from:subject:message-id:date:from:to
 :cc:subject:date:message-id:reply-to;
 bh=+1K1LV78ZJAu9B/eZXiRM3sQu6+yvK23jIlkZT8gJr8=;
 b=R8VJQJKfYo2A0idAo2yAiQ1h69FXqw8PWFicxdQ6WYRzModtDc8O9uYJOtb2NhEm13
 Tlt/7JSATyoPEpB6SJBYMX4CxzhLgCLo1A5S4+/lbgSikE+qhmxyLEnGpSscWQe88nD0
 nKw4m53puW+wX6hzyR4sRnhQx8sSudv057U+c=
X-Google-DKIM-Signature: v=1; a=rsa-sha256; c=relaxed/relaxed;
 d=1e100.net; s=20230601; t=1745763967; x=1746368767;
 h=references:in-reply-to:cc:to:from:subject:message-id:date
 :x-gm-message-state:from:to:cc:subject:date:message-id:reply-to;
 bh=+1K1LV78ZJAu9B/eZXiRM3sQu6+yvK23jIlkZT8gJr8=;
 b=CQ3AtrwvDdHTYh/dQF/CjsUViD+uMPwqihraU55KvQ2w+rLzyUibRoPf2xq2/wcdxL
 oeK7llQ5FMfx9OwQ7UygeOrZHBMrdLRKjyGqjYfhbEHWUbFjWTDzvmZlW5N5GovRocPQ
 9xKGpk23FzTGmHSIO8p4sAXYKOkNVhTQF+ByOjvYGFNbqRE6odNOjVNoCcbf3ZhhluaC
 1kfPTazVwo39EsBOhfXiYA1kMLNDuSBw5J2ml5/A9xENAouYsYgAf/uhD1mvGPIMXB/5
 lAOfRn2FIknHUQXBS/Omq9OvIpQlwfPlb7DUkL2YMwKRycEfHj1VINb31MBHNbLmw7C2
 BZlg==
X-Gm-Message-State: AOJu0YxZlvbEfWKQM+X+ltC8B6zbVQ2PQTlBxqaX9s8X6E+cvtdgKadu
 NiS3Q7DrbvDMRKRyz+zpXfdlmY5j4i7J1xprB9bGxJbknh0fjRonT0dfdykHX706Ylv0OXPsqlC
 cvWr5zX8KTvytmHWu2OO17kpNr8TAUul/I+1QeSNp
X-Gm-Gg: ASbGncsMcAanlaZfB/jBBF76UdQLi+QMPPZc+Y1ym1dbDzD3GmYdpIfyoiMubLnwG1k
 NysYnWoPXoYqD8C0h0U/bsHWrbHUvmBcaIgXFpt0z/lkUXgVNJ9U07CMgFVmVUFV2XEwMgl1wln
 byA6gyyE573MIFMgaCR9fG8m7pfp0qPYOVUrkziz+szi7ax4uWiYdVO9V1FYIBP+xMxQkOmz9IR
 RAwCjQaFh1cMp2XIczAo7TNX5pMm3mIRKb4k0iOP+WKuco9p7RAumNZoBMGUY92Y/0Ob80pezdq
 uq77kLuLj8BlyFV1NbI1zdsijgvQxhKvft3d
X-Google-Smtp-Source: AGHT+IFyx2zdwJUIhBCeJr+0B7NIbPYVajllz0hVWMphsEoO0pawDf6v8rgUd+Ixxf0kpleqz71Q9WpPseYn
X-Received: by 2002:a05:6e02:1c2d:b0:3a7:820c:180a with SMTP id
 e9e14a558f8ab-3d942e3c40fmr60910035ab.19.1745763967183; 
 Sun, 27 Apr 2025 07:26:07 -0700 (PDT)
Received: from postal.iol.unh.edu (postal.iol.unh.edu. [132.177.123.84])
 by smtp-relay.gmail.com with ESMTPS id
 8926c6da1cb9f-4f8249fa63fsm666959173.15.2025.04.27.07.26.07
 (version=TLS1_2 cipher=ECDHE-ECDSA-AES128-GCM-SHA256 bits=128/128);
 Sun, 27 Apr 2025 07:26:07 -0700 (PDT)
X-Relaying-Domain: iol.unh.edu
Date: Sun, 27 Apr 2025 07:26:07 -0700 (PDT)
Message-ID: <680e3e7f.050a0220.1c12b1.128bSMTPIN_ADDED_MISSING@mx.google.com>
Received: from [172.21.0.7] (unknown [172.18.0.240])
 by postal.iol.unh.edu (Postfix) with ESMTP id 8CA9F6052471;
 Sun, 27 Apr 2025 10:26:06 -0400 (EDT)
Subject: |SUCCESS| pw153165 [PATCH] [v3,1/1] bus/pci: introduce get_iova_mode
From: dpdklab@iol.unh.edu
To: Test Report <test-report@dpdk.org>
Cc: dpdk-test-reports@iol.unh.edu
In-Reply-To: <20250427022734.151043-1-kyo.liu@nebula-matrix.com>
References: <20250427022734.151043-1-kyo.liu@nebula-matrix.com>
Content-Type: text/plain
X-BeenThere: test-report@dpdk.org
X-Mailman-Version: 2.1.29
Precedence: list
List-Id: automatic DPDK test reports <test-report.dpdk.org>
List-Unsubscribe: <https://mails.dpdk.org/options/test-report>,
 <mailto:test-report-request@dpdk.org?subject=unsubscribe>
List-Archive: <http://mails.dpdk.org/archives/test-report/>
List-Post: <mailto:test-report@dpdk.org>
List-Help: <mailto:test-report-request@dpdk.org?subject=help>
List-Subscribe: <https://mails.dpdk.org/listinfo/test-report>,
 <mailto:test-report-request@dpdk.org?subject=subscribe>
Errors-To: test-report-bounces@dpdk.org

Test-Label: iol-abi-testing
Test-Status: SUCCESS
http://dpdk.org/patch/153165

_Testing PASS_

Submitter: Kyo Liu <kyo.liu@nebula-matrix.com>
Date: Sunday, April 27 2025 02:27:34 
DPDK git baseline: Repo:dpdk
  Branch: master
  CommitID:ca1690ebd224f148268285b15b97441ccdbdd07e

153165 --> testing pass

Upstream job id: Generic-DPDK-Compile-ABI#124571

Test environment and result as below:

+-------------------+----------+
|    Environment    | abi_test |
+===================+==========+
| CentOS Stream 9   | PASS     |
+-------------------+----------+
| CentOS Stream 10  | PASS     |
+-------------------+----------+
| Debian 12         | PASS     |
+-------------------+----------+
| Fedora 40 (Clang) | PASS     |
+-------------------+----------+
| Fedora 40         | PASS     |
+-------------------+----------+
| Fedora 41 (Clang) | PASS     |
+-------------------+----------+
| Fedora 41         | PASS     |
+-------------------+----------+
| openSUSE Leap 15  | PASS     |
+-------------------+----------+
| RHEL8             | PASS     |
+-------------------+----------+
| RHEL9             | PASS     |
+-------------------+----------+
| Ubuntu 22.04      | PASS     |
+-------------------+----------+
| Ubuntu 24.04      | PASS     |
+-------------------+----------+


CentOS Stream 9
	Kernel: Depends on container host
	Compiler: gcc 11.5.0 20240719 (Red Hat 11.5.0-2)

CentOS Stream 10
	Kernel: Depends on container host
	Compiler: gcc 14.2.1 20241104 (Red Hat 14.2.1-6)

Debian 12
	Kernel: Depends on container host
	Compiler: gcc (Debian 12.2.0-14) 12.2.0

Fedora 40 (Clang)
	Kernel: Depends on container host
	Compiler: clang 18.1.8 (Fedora 18.1.8-1.fc40)

Fedora 40
	Kernel: Depends on container host
	Compiler: gcc 14.2.1 20240912 (Red Hat 14.2.1-3)

Fedora 41 (Clang)
	Kernel: Depends on container host
	Compiler: clang 19.1.5 (Fedora 19.1.5-1.fc41)

Fedora 41
	Kernel: Depends on container host
	Compiler: gcc 14.2.1 20240912 (Red Hat 14.2.1-3)

openSUSE Leap 15
	Kernel: Depends on container host
	Compiler: gcc (SUSE Linux) 7.5.0

RHEL8
	Kernel: Depends on container host
	Compiler: gcc 8.5.0 20210514 (Red Hat 8.5.0-22)

RHEL9
	Kernel: Depends on container host
	Compiler: gcc 11.5.0 20240719 (Red Hat 11.5.0-2)

Ubuntu 22.04
	Kernel: Depends on container host
	Compiler: gcc (Ubuntu 11.4.0-1ubuntu1~22.04) 11.4.0

Ubuntu 24.04
	Kernel: Depends on container host
	Compiler: gcc (Ubuntu 13.3.0-6ubuntu2~24.04) 13.3.0

To view detailed results, visit:
https://lab.dpdk.org/results/dashboard/patchsets/33072/

UNH-IOL DPDK Community Lab

To manage your email subscriptions, visit: 
https://lab.dpdk.org/results/dashboard/preferences/subscriptions/