From mboxrd@z Thu Jan  1 00:00:00 1970
Return-Path: <test-report-bounces@dpdk.org>
Received: from mails.dpdk.org (mails.dpdk.org [217.70.189.124])
	by inbox.dpdk.org (Postfix) with ESMTP id 8BC954664D
	for <public@inbox.dpdk.org>; Mon, 28 Apr 2025 11:58:47 +0200 (CEST)
Received: from mails.dpdk.org (localhost [127.0.0.1])
	by mails.dpdk.org (Postfix) with ESMTP id 674774021F;
	Mon, 28 Apr 2025 11:58:47 +0200 (CEST)
Received: from mail-yw1-f228.google.com (mail-yw1-f228.google.com
 [209.85.128.228])
 by mails.dpdk.org (Postfix) with ESMTP id B8D5140156
 for <test-report@dpdk.org>; Mon, 28 Apr 2025 11:58:46 +0200 (CEST)
Received: by mail-yw1-f228.google.com with SMTP id
 00721157ae682-7081165a238so35323887b3.1
 for <test-report@dpdk.org>; Mon, 28 Apr 2025 02:58:46 -0700 (PDT)
DKIM-Signature: v=1; a=rsa-sha256; c=relaxed/relaxed;
 d=iol.unh.edu; s=unh-iol; t=1745834326; x=1746439126; darn=dpdk.org;
 h=references:in-reply-to:cc:to:from:subject:message-id:date:from:to
 :cc:subject:date:message-id:reply-to;
 bh=iiiNAWL8fAxTqUcIYC3S6SVaEEPnasYeaWS/kwa5nHI=;
 b=cwMv4BfsH8g6cqMYAhTWlDjNAlbwqoC80h11nQYYk+mTFm68MPbKheZMsKsdQjE29k
 6bBZJuJ6Esjp5/mPottDKyhguA7e9eCrnj6r5gB14PNVMHW7V32Vs/KVTF7ihxhUvTmc
 2kA81G/oW21lt/9NMJkvkSl7nt1VX3Tlwh0l8=
X-Google-DKIM-Signature: v=1; a=rsa-sha256; c=relaxed/relaxed;
 d=1e100.net; s=20230601; t=1745834326; x=1746439126;
 h=references:in-reply-to:cc:to:from:subject:message-id:date
 :x-gm-message-state:from:to:cc:subject:date:message-id:reply-to;
 bh=iiiNAWL8fAxTqUcIYC3S6SVaEEPnasYeaWS/kwa5nHI=;
 b=qMEPOtV2Ugxq3+ecncbxRW/+QM7mWTNQ2OypsS5kX04oFfQRIehBwfXHXFRBlyHOce
 JMf9rGPGxyyA2Niawfdpx0bVSInUIx6S1EtF++N2vWejF5dX+XUGNhGRZfPhHbGAhy0G
 rSqr00bDlLgHOnzdcvhIJ8lySCJAPFlv4+yWdR3DczbBLUwruQdovSkr5bCopJ9fRnsK
 2XodZ0xPlGRMkANrZKOhhTQ9GYcrOapgI6BHfHxo5v7DwYxlAwi1iJOxm0QFRKsao45v
 rvEoVCEBItSYtF7RPzzBe6dVXtzWgXGB3ostoVXP1nsl9DIu19yrVCTcE6PYJhDiZ+yw
 WYVQ==
X-Gm-Message-State: AOJu0Yzii5lbMvzikfEhll1TFfhCYHnk5GCB2qM8mUtpsZsH9SDmc2BL
 blWxUv1SQhUGW9jUbLeqRn9WZJ2QneXlT57h7oEppl+k87GfEMu8BOFEBfzWRG6qYM7MbMgxzE+
 OGtAyDZLKHYHNFMDcUA1Y3h7ADPin/ThVQJcSoUJxv3VmZdlhkipFPUkF
X-Gm-Gg: ASbGncsBS2hKI0WBEP0lPTHJIZnegyrG2iXq6of8ZTpVUC9JNOx7kD0oxKzw1KyRI4G
 X8Dus6aiKBL6MNjkC2C7TatJ/dHmh8efVhBHo6I1ScGqP400BTgf2CYVgfOm500lEaaxv299e6X
 zJSrkIUKX839B2pF765jhb5UiZePFZuW+VA3Xy9VYoNIeGm85EbM6OOadLbxIQ5zeq8YLdU4uJn
 0y5fSnTwC37ORxp89KIT7+drZ9PhivDo5h9ajJD30wDDB7lL9d3RZa84tQInuwIe/URRtS8tao7
 8u05fShBHHx0ttvkJrC2at1BprP0OtcnvuhW2VMJvp0pgPpD
X-Google-Smtp-Source: AGHT+IELISj4ZT8ib0EPCY/d4BKH82Xztnl4Lvl91YYKtYKN9M/RLGj7T/VLPwPuzfU77481zrTEYcVmA1nU
X-Received: by 2002:a05:690c:b99:b0:703:d0b5:7abc with SMTP id
 00721157ae682-708540e66f7mr145260787b3.9.1745834325826; 
 Mon, 28 Apr 2025 02:58:45 -0700 (PDT)
Received: from postal.iol.unh.edu (postal.iol.unh.edu.
 [2606:4100:3880:1234::84]) by smtp-relay.gmail.com with ESMTPS id
 00721157ae682-70841938f3dsm8356527b3.12.2025.04.28.02.58.45
 (version=TLS1_2 cipher=ECDHE-ECDSA-AES128-GCM-SHA256 bits=128/128);
 Mon, 28 Apr 2025 02:58:45 -0700 (PDT)
X-Relaying-Domain: iol.unh.edu
Date: Mon, 28 Apr 2025 02:58:45 -0700 (PDT)
Message-ID: <680f5155.050a0220.2576e8.d26fSMTPIN_ADDED_MISSING@mx.google.com>
Received: from [172.21.0.6] (unknown [172.18.0.240])
 by postal.iol.unh.edu (Postfix) with ESMTP id 5A2A96052471;
 Mon, 28 Apr 2025 05:58:45 -0400 (EDT)
Subject: |SUCCESS| pw153170 [PATCH] net/mlx5: add match on IPv6 fragment exte
From: dpdklab@iol.unh.edu
To: Test Report <test-report@dpdk.org>
Cc: dpdk-test-reports@iol.unh.edu
In-Reply-To: <20250427112537.108725-1-mkashani@nvidia.com>
References: <20250427112537.108725-1-mkashani@nvidia.com>
Content-Type: text/plain
X-BeenThere: test-report@dpdk.org
X-Mailman-Version: 2.1.29
Precedence: list
List-Id: automatic DPDK test reports <test-report.dpdk.org>
List-Unsubscribe: <https://mails.dpdk.org/options/test-report>,
 <mailto:test-report-request@dpdk.org?subject=unsubscribe>
List-Archive: <http://mails.dpdk.org/archives/test-report/>
List-Post: <mailto:test-report@dpdk.org>
List-Help: <mailto:test-report-request@dpdk.org?subject=help>
List-Subscribe: <https://mails.dpdk.org/listinfo/test-report>,
 <mailto:test-report-request@dpdk.org?subject=subscribe>
Errors-To: test-report-bounces@dpdk.org

Test-Label: iol-unit-arm64-testing
Test-Status: SUCCESS
http://dpdk.org/patch/153170

_Testing PASS_

Submitter: Maayan Kashani <mkashani@nvidia.com>
Date: Sunday, April 27 2025 11:25:36 
DPDK git baseline: Repo:dpdk
  Branch: master
  CommitID:edd3f4b1265e6da707c46ca9b6c39d332647baea

153170 --> testing pass

Upstream job id: Generic-Unit-Test-DPDK#334013

Test environment and result as below:

+------------------------+----------------+
|      Environment       | dpdk_unit_test |
+========================+================+
| CentOS Stream 9 (ARM)  | PASS           |
+------------------------+----------------+
| CentOS Stream 10 (ARM) | PASS           |
+------------------------+----------------+
| Debian 12 (arm)        | PASS           |
+------------------------+----------------+
| Fedora 41 (ARM Clang)  | PASS           |
+------------------------+----------------+
| Fedora 41 (ARM)        | PASS           |
+------------------------+----------------+
| Fedora 40 (ARM)        | PASS           |
+------------------------+----------------+
| RHEL9 (ARM)            | PASS           |
+------------------------+----------------+
| Fedora 40 (ARM Clang)  | PASS           |
+------------------------+----------------+
| Ubuntu 24.04 (ARM)     | PASS           |
+------------------------+----------------+
| Ubuntu 22.04 (ARM)     | PASS           |
+------------------------+----------------+
| Ubuntu 20.04 (ARM)     | PASS           |
+------------------------+----------------+


CentOS Stream 9 (ARM)
	Kernel: Depends on container host
	Compiler: gcc 11.5.0 20240719 (Red Hat 11.5.0-2)

CentOS Stream 10 (ARM)
	Kernel: Depends on container host
	Compiler: gcc 14.2.1 20241104 (Red Hat 14.2.1-6)

Debian 12 (arm)
	Kernel: Depends on container host
	Compiler: gcc (Debian 12.2.0-14) 12.2.0

Fedora 41 (ARM Clang)
	Kernel: Depends on container host
	Compiler: clang 19.1.5 (Fedora 19.1.5-1.fc41)

Fedora 41 (ARM)
	Kernel: Depends on container host
	Compiler: gcc 14.2.1 20240912 (Red Hat 14.2.1-3)

Fedora 40 (ARM)
	Kernel: Depends on container host
	Compiler: gcc 14.2.1 20240912 (Red Hat 14.2.1-3)

RHEL9 (ARM)
	Kernel: Depends on container host
	Compiler: gcc 11.5.0 20240719 (Red Hat 11.5.0-2)

Fedora 40 (ARM Clang)
	Kernel: Depends on container host
	Compiler: clang 18.1.8 (Fedora 18.1.8-1.fc40)

Ubuntu 24.04 (ARM)
	Kernel: Depends on container host
	Compiler: gcc (Ubuntu 13.3.0-6ubuntu2~24.04) 13.3.0

Ubuntu 22.04 (ARM)
	Kernel: Depends on container host
	Compiler: gcc (Ubuntu 11.4.0-1ubuntu1~22.04) 11.4.0

Ubuntu 20.04 (ARM)
	Kernel: Depends on container host
	Compiler: gcc (Ubuntu 9.4.0-1ubuntu1~20.04.2) 9.4.0

To view detailed results, visit:
https://lab.dpdk.org/results/dashboard/patchsets/33075/

UNH-IOL DPDK Community Lab

To manage your email subscriptions, visit: 
https://lab.dpdk.org/results/dashboard/preferences/subscriptions/