From mboxrd@z Thu Jan  1 00:00:00 1970
Return-Path: <test-report-bounces@dpdk.org>
Received: from mails.dpdk.org (mails.dpdk.org [217.70.189.124])
	by inbox.dpdk.org (Postfix) with ESMTP id 33C374664F
	for <public@inbox.dpdk.org>; Mon, 28 Apr 2025 12:00:13 +0200 (CEST)
Received: from mails.dpdk.org (localhost [127.0.0.1])
	by mails.dpdk.org (Postfix) with ESMTP id 19A5D4021F;
	Mon, 28 Apr 2025 12:00:13 +0200 (CEST)
Received: from mail-pj1-f97.google.com (mail-pj1-f97.google.com
 [209.85.216.97]) by mails.dpdk.org (Postfix) with ESMTP id 3D53840156
 for <test-report@dpdk.org>; Mon, 28 Apr 2025 12:00:11 +0200 (CEST)
Received: by mail-pj1-f97.google.com with SMTP id
 98e67ed59e1d1-30155bbbed9so3703534a91.1
 for <test-report@dpdk.org>; Mon, 28 Apr 2025 03:00:11 -0700 (PDT)
DKIM-Signature: v=1; a=rsa-sha256; c=relaxed/relaxed;
 d=iol.unh.edu; s=unh-iol; t=1745834410; x=1746439210; darn=dpdk.org;
 h=references:in-reply-to:cc:to:from:subject:message-id:date:from:to
 :cc:subject:date:message-id:reply-to;
 bh=ePCDZDK9fkVCVbzqIk4ZYMBIY+OEgo76dMdUjckbv68=;
 b=QYlQ3htLiO7WGSAi+Vj9fVzcRIff8x7lE9aZGSBYuto+Wg+tU4iqg+1H2wDux3LomJ
 yB5aZhjVIZlgph69iW8UZ9SExRxkqJl8R7MnbTKQ28HD39t/6kMsLVXNw8dFtXemwuYi
 2gRL4LDstC5Syu1+54kxBhe6fyuTGqkeMZJ6o=
X-Google-DKIM-Signature: v=1; a=rsa-sha256; c=relaxed/relaxed;
 d=1e100.net; s=20230601; t=1745834410; x=1746439210;
 h=references:in-reply-to:cc:to:from:subject:message-id:date
 :x-gm-message-state:from:to:cc:subject:date:message-id:reply-to;
 bh=ePCDZDK9fkVCVbzqIk4ZYMBIY+OEgo76dMdUjckbv68=;
 b=qcASoss7E2a1HB5HOs9AcPXSsiFX1IgwItil270rgWBo50Nmv39WoejjDrFhscvjcY
 Kp/sahF9J3sCuTyHILcmxtNAxxgBjDoCKksYQ318ZrkAMxKP2HhAWCe2pFMWMzVcRQbR
 IrQzbr4fQ/fT0TFhRVtcT3SzRJSkoe5SOaJJZNJV3zX/OEUkJef5knVsVEyewo7Rg4yV
 ALW8N7r1UrmwmWb3wkPi/HFhAcrTuF6SWC3K8e3SfSTK4iQw9b7WGn1fZKFSxQCr6Wtv
 R1iElKngzjb1TpuNDBsCpPAzCdTMJ7qsgL4vbevL05d5YtLjI4s2VJwvmpdEWaRCFqfD
 A90w==
X-Gm-Message-State: AOJu0YxIINobV4tmBynveDivB6ZqAG/DNdSVm3GCAxbjIfXxDGO3gi9i
 4TiODSnL7TxSagrm2+W/NPAIyVVAvNRKQaU8o2TX7z22IQ57V8jlAveN4sXSa6IOch/UkJcec1e
 bGPc+9jcYuMyvfHuKwTsbppfddPvs8h2nGFMiv93ijye3Mb0JnENfArSt
X-Gm-Gg: ASbGncvooBWo0LUtq+tSJ4hmL2bfrYidBX43wq9GqU8mxCinS5emBY7XOcGndOfsndi
 EwWV+JvAWcp50ikNIR8tUl3Y8tX0RwgUkKEnD9IfItfAw14I70EEi6Uwa0ojIRjaqA61i4ED9zC
 /OOEzcvaxFxEqAOdpJhEHqM97X9b1NrTXgLazLZxpBEWfM09E6P5qph1qbSOGczqGQkC/zq4foN
 PqIL27/dAYiqt+cXq7KKewl1EdJ19eGI7Tacz6gTyi9fFVfoUtmOJeoRuYEXoFkfF0u80GIYZAb
 6byXjZPJZgGg3yOXPU6oTmcok3bSbPVRyKjA+9fh/1Vq/WsY
X-Google-Smtp-Source: AGHT+IE/XRUyzZ2iFo/LxeaNOPuiYDRoqz1siTaJ4UXM0s3slPr4Htsz7myxM0LoVIgULUbZS/zxBWjM7zWf
X-Received: by 2002:a17:90b:3d88:b0:2fe:9e6c:add9 with SMTP id
 98e67ed59e1d1-309f8db3988mr20257586a91.18.1745834409900; 
 Mon, 28 Apr 2025 03:00:09 -0700 (PDT)
Received: from postal.iol.unh.edu (postal.iol.unh.edu.
 [2606:4100:3880:1234::84]) by smtp-relay.gmail.com with ESMTPS id
 98e67ed59e1d1-309f775177esm1162893a91.3.2025.04.28.03.00.09
 (version=TLS1_2 cipher=ECDHE-ECDSA-AES128-GCM-SHA256 bits=128/128);
 Mon, 28 Apr 2025 03:00:09 -0700 (PDT)
X-Relaying-Domain: iol.unh.edu
Date: Mon, 28 Apr 2025 03:00:09 -0700 (PDT)
Message-ID: <680f51a9.170a0220.24c4f8.49ffSMTPIN_ADDED_MISSING@mx.google.com>
Received: from [172.21.0.5] (unknown [172.18.0.240])
 by postal.iol.unh.edu (Postfix) with ESMTP id 079C06052471;
 Mon, 28 Apr 2025 06:00:09 -0400 (EDT)
Subject: |SUCCESS| pw153171 [PATCH] net/mlx5/hws: fix send queue drain on FW 
From: dpdklab@iol.unh.edu
To: Test Report <test-report@dpdk.org>
Cc: dpdk-test-reports@iol.unh.edu
In-Reply-To: <20250427112821.108929-1-mkashani@nvidia.com>
References: <20250427112821.108929-1-mkashani@nvidia.com>
Content-Type: text/plain
X-BeenThere: test-report@dpdk.org
X-Mailman-Version: 2.1.29
Precedence: list
List-Id: automatic DPDK test reports <test-report.dpdk.org>
List-Unsubscribe: <https://mails.dpdk.org/options/test-report>,
 <mailto:test-report-request@dpdk.org?subject=unsubscribe>
List-Archive: <http://mails.dpdk.org/archives/test-report/>
List-Post: <mailto:test-report@dpdk.org>
List-Help: <mailto:test-report-request@dpdk.org?subject=help>
List-Subscribe: <https://mails.dpdk.org/listinfo/test-report>,
 <mailto:test-report-request@dpdk.org?subject=subscribe>
Errors-To: test-report-bounces@dpdk.org

Test-Label: iol-unit-arm64-testing
Test-Status: SUCCESS
http://dpdk.org/patch/153171

_Testing PASS_

Submitter: Maayan Kashani <mkashani@nvidia.com>
Date: Sunday, April 27 2025 11:28:21 
DPDK git baseline: Repo:dpdk
  Branch: master
  CommitID:edd3f4b1265e6da707c46ca9b6c39d332647baea

153171 --> testing pass

Upstream job id: Generic-Unit-Test-DPDK#333978

Test environment and result as below:

+-----------------------------+--------------+---------------------------+------------------------------+----------------+
|         Environment         | lpm_autotest | cryptodev_sw_zuc_autotest | cryptodev_sw_snow3g_autotest | dpdk_unit_test |
+=============================+==============+===========================+==============================+================+
| Ubuntu 20.04 ARM SVE        | PASS         | SKIPPED                   | SKIPPED                      | SKIPPED        |
+-----------------------------+--------------+---------------------------+------------------------------+----------------+
| Debian 12 (arm)             | SKIPPED      | PASS                      | PASS                         | PASS           |
+-----------------------------+--------------+---------------------------+------------------------------+----------------+
| CentOS Stream 9 (ARM)       | SKIPPED      | SKIPPED                   | SKIPPED                      | PASS           |
+-----------------------------+--------------+---------------------------+------------------------------+----------------+
| CentOS Stream 10 (ARM)      | SKIPPED      | SKIPPED                   | SKIPPED                      | PASS           |
+-----------------------------+--------------+---------------------------+------------------------------+----------------+
| Fedora 41 (ARM Clang)       | SKIPPED      | SKIPPED                   | SKIPPED                      | PASS           |
+-----------------------------+--------------+---------------------------+------------------------------+----------------+
| Fedora 40 (ARM Clang)       | SKIPPED      | SKIPPED                   | SKIPPED                      | PASS           |
+-----------------------------+--------------+---------------------------+------------------------------+----------------+
| Ubuntu 20.04 (ARM)          | SKIPPED      | SKIPPED                   | SKIPPED                      | PASS           |
+-----------------------------+--------------+---------------------------+------------------------------+----------------+
| Fedora 40 (ARM)             | SKIPPED      | SKIPPED                   | SKIPPED                      | PASS           |
+-----------------------------+--------------+---------------------------+------------------------------+----------------+
| Fedora 41 (ARM)             | SKIPPED      | SKIPPED                   | SKIPPED                      | PASS           |
+-----------------------------+--------------+---------------------------+------------------------------+----------------+
| RHEL9 (ARM)                 | SKIPPED      | SKIPPED                   | SKIPPED                      | PASS           |
+-----------------------------+--------------+---------------------------+------------------------------+----------------+
| Ubuntu 22.04 (ARM)          | SKIPPED      | SKIPPED                   | SKIPPED                      | PASS           |
+-----------------------------+--------------+---------------------------+------------------------------+----------------+
| Ubuntu 24.04 (ARM)          | SKIPPED      | SKIPPED                   | SKIPPED                      | PASS           |
+-----------------------------+--------------+---------------------------+------------------------------+----------------+
| 32-bit Ubuntu 22.04.4 (ARM) | SKIPPED      | SKIPPED                   | SKIPPED                      | PASS           |
+-----------------------------+--------------+---------------------------+------------------------------+----------------+


Ubuntu 20.04 ARM SVE
	Kernel: Depends on container host
	Compiler: gcc (Ubuntu 10.5.0-1ubuntu1~20.04) 10.5.0

Debian 12 (arm)
	Kernel: Depends on container host
	Compiler: gcc (Debian 12.2.0-14) 12.2.0

CentOS Stream 9 (ARM)
	Kernel: Depends on container host
	Compiler: gcc 11.5.0 20240719 (Red Hat 11.5.0-2)

CentOS Stream 10 (ARM)
	Kernel: Depends on container host
	Compiler: gcc 14.2.1 20241104 (Red Hat 14.2.1-6)

Fedora 41 (ARM Clang)
	Kernel: Depends on container host
	Compiler: clang 19.1.5 (Fedora 19.1.5-1.fc41)

Fedora 40 (ARM Clang)
	Kernel: Depends on container host
	Compiler: clang 18.1.8 (Fedora 18.1.8-1.fc40)

Ubuntu 20.04 (ARM)
	Kernel: Depends on container host
	Compiler: gcc (Ubuntu 9.4.0-1ubuntu1~20.04.2) 9.4.0

Fedora 40 (ARM)
	Kernel: Depends on container host
	Compiler: gcc 14.2.1 20240912 (Red Hat 14.2.1-3)

Fedora 41 (ARM)
	Kernel: Depends on container host
	Compiler: gcc 14.2.1 20240912 (Red Hat 14.2.1-3)

RHEL9 (ARM)
	Kernel: Depends on container host
	Compiler: gcc 11.5.0 20240719 (Red Hat 11.5.0-2)

Ubuntu 22.04 (ARM)
	Kernel: Depends on container host
	Compiler: gcc (Ubuntu 11.4.0-1ubuntu1~22.04) 11.4.0

Ubuntu 24.04 (ARM)
	Kernel: Depends on container host
	Compiler: gcc (Ubuntu 13.3.0-6ubuntu2~24.04) 13.3.0

32-bit Ubuntu 22.04.4 (ARM)
	Kernel: 5.15.83+ aarch64
	Compiler: gcc (Ubuntu 11.4.0-1ubuntu1~22.04) 11.4.0

To view detailed results, visit:
https://lab.dpdk.org/results/dashboard/patchsets/33076/

UNH-IOL DPDK Community Lab

To manage your email subscriptions, visit: 
https://lab.dpdk.org/results/dashboard/preferences/subscriptions/