From mboxrd@z Thu Jan 1 00:00:00 1970 Return-Path: Received: from mails.dpdk.org (mails.dpdk.org [217.70.189.124]) by inbox.dpdk.org (Postfix) with ESMTP id BCC4E46655 for ; Tue, 29 Apr 2025 00:48:26 +0200 (CEST) Received: from mails.dpdk.org (localhost [127.0.0.1]) by mails.dpdk.org (Postfix) with ESMTP id 96D3B402A3; Tue, 29 Apr 2025 00:48:26 +0200 (CEST) Received: from mail-pl1-f228.google.com (mail-pl1-f228.google.com [209.85.214.228]) by mails.dpdk.org (Postfix) with ESMTP id C2DDA4026C for ; Tue, 29 Apr 2025 00:48:25 +0200 (CEST) Received: by mail-pl1-f228.google.com with SMTP id d9443c01a7336-227cf12df27so51255975ad.0 for ; Mon, 28 Apr 2025 15:48:25 -0700 (PDT) DKIM-Signature: v=1; a=rsa-sha256; c=relaxed/relaxed; d=iol.unh.edu; s=unh-iol; t=1745880505; x=1746485305; darn=dpdk.org; h=references:in-reply-to:cc:to:from:subject:message-id:date:from:to :cc:subject:date:message-id:reply-to; bh=4skTvlRs0ngPfD3OEKAVlwUBvS5sfwDURqRIxhJ4FoY=; b=UfH8IMhr+b16x9NGcmZvWC2exdKwEbC7Dj58Hdb7teLIdAGVRzI69q+ekoTtDGq9ts wZckI+LilWZOf0LtL6kPDT8ywXOuGF9SEsCEddPruXqYAYttIiAM0ZUp14N89Mn2Bmk0 mKdQ7VSnXpZ5u6oy0sr9II45VpHg/LZCCkJz4= X-Google-DKIM-Signature: v=1; a=rsa-sha256; c=relaxed/relaxed; d=1e100.net; s=20230601; t=1745880505; x=1746485305; h=references:in-reply-to:cc:to:from:subject:message-id:date :x-gm-message-state:from:to:cc:subject:date:message-id:reply-to; bh=4skTvlRs0ngPfD3OEKAVlwUBvS5sfwDURqRIxhJ4FoY=; b=OUtdTYEhL0tVG3wxHy4gBc/nTrP2lkgagBNY5Ii/Rbn8fMi4XTcKpiPJwqj3tFdbfL 6Tyj9eXDOU1tT2jQGjO0FaXbyEQ1/A14ky/jZ5+WuDvI56OwRI+2Jtq0YnltvP+gxath YmWBNSArEjPhzvGoXFJW9N9wCbcljt5wZeTmMgIlMpjLzXNXt2F/sVhQjkYpXm6Tdw9j 9NKdNdktdDw9V/x7s7vcO6oyGg4MZWiVQtwFbAI8gYHFXRdKGFcnKcpktEzabVieNG3u B2YXpmN3OlE1I9LujogVhwbH5acCA5hAQymWhqpwo991grZcGb+FH3AWwpNT5dJHYQJt fjsA== X-Gm-Message-State: AOJu0YzVQkyGRgXgZ38AwKS2ApvH02AE+4HEfUb0HI7gTox3r1Cv36vv Un6RfymY1LwgIbf9aPHXwuuT6Ihs9xvMQuqqcfwogM4aCBUXJGJCKK0sTcpAsHN9ooCElwt7mzC r0ACw3uqqf7M6ZcAN59Ie3ODfHcwGMTZjSACwxjPg X-Gm-Gg: ASbGnctfcEdNAyz/i87HssFD1LfFNkO0lPZsTa2tPq7bKip98Je/kzrvkXmVDZkPY+t J8qq+7gHDRj7GoFWvI3vnkV3usuYqWdC1PgfDHliByNAMfIQL/+m/xMoBb8KN8OYDQP5pARl8fC 6J0hq/9IuyTJ/Y2HukUEewf+MwxsPOU+FJ2uPFjAX8huL+I0JI8peV5KQ/BA1vDB4mG5X90BUEB B+E+iCKx4AFAGjsNhbTPxoi+W61BsxSAS7NDk/IFQ72O9Mv9uK1WxJ8am2y4TObixH43pmaSXVY oy0efuan6EQPF5tbscp87EZuU/WxAhTL/tUd X-Google-Smtp-Source: AGHT+IFkQLwK5beAxYprZhJIg3CCIB1QO5jAd1dHgw5Yf9MJxS4jH8NYxakU+bba9I4c01qnofAvsVMy47TC X-Received: by 2002:a17:902:f143:b0:223:607c:1d99 with SMTP id d9443c01a7336-22de6b650e2mr15083975ad.0.1745880504772; Mon, 28 Apr 2025 15:48:24 -0700 (PDT) Received: from postal.iol.unh.edu (postal.iol.unh.edu. [132.177.123.84]) by smtp-relay.gmail.com with ESMTPS id d9443c01a7336-22db4df11b8sm12554095ad.49.2025.04.28.15.48.24 (version=TLS1_2 cipher=ECDHE-ECDSA-AES128-GCM-SHA256 bits=128/128); Mon, 28 Apr 2025 15:48:24 -0700 (PDT) X-Relaying-Domain: iol.unh.edu Date: Mon, 28 Apr 2025 15:48:24 -0700 (PDT) Message-ID: <681005b8.170a0220.d2e4.ac9fSMTPIN_ADDED_MISSING@mx.google.com> Received: from [172.21.0.6] (unknown [172.18.0.240]) by postal.iol.unh.edu (Postfix) with ESMTP id D4E3A6052471; Mon, 28 Apr 2025 18:48:23 -0400 (EDT) Subject: |SUCCESS| pw153179 [PATCH] [v4] net/ixgbe: support Rx/Tx burst mode From: dpdklab@iol.unh.edu To: Test Report Cc: dpdk-test-reports@iol.unh.edu In-Reply-To: <20250428212921.3674799-1-rmelton@cisco.com> References: <20250428212921.3674799-1-rmelton@cisco.com> Content-Type: text/plain X-BeenThere: test-report@dpdk.org X-Mailman-Version: 2.1.29 Precedence: list List-Id: automatic DPDK test reports List-Unsubscribe: , List-Archive: List-Post: List-Help: List-Subscribe: , Errors-To: test-report-bounces@dpdk.org Test-Label: iol-unit-arm64-testing Test-Status: SUCCESS http://dpdk.org/patch/153179 _Testing PASS_ Submitter: Roger Melton Date: Monday, April 28 2025 21:29:22 DPDK git baseline: Repo:dpdk Branch: master CommitID:ecadeeb16e75595c1420f7b77a66013893c399dd 153179 --> testing pass Upstream job id: Generic-Unit-Test-DPDK#334083 Test environment and result as below: +------------------------+--------------+------------------------------+---------------------------+----------------+ | Environment | lpm_autotest | cryptodev_sw_snow3g_autotest | cryptodev_sw_zuc_autotest | dpdk_unit_test | +========================+==============+==============================+===========================+================+ | Ubuntu 20.04 ARM SVE | PASS | SKIPPED | SKIPPED | SKIPPED | +------------------------+--------------+------------------------------+---------------------------+----------------+ | Debian 12 (arm) | SKIPPED | PASS | PASS | PASS | +------------------------+--------------+------------------------------+---------------------------+----------------+ | Ubuntu 24.04 (ARM) | SKIPPED | SKIPPED | SKIPPED | PASS | +------------------------+--------------+------------------------------+---------------------------+----------------+ | Fedora 41 (ARM Clang) | SKIPPED | SKIPPED | SKIPPED | PASS | +------------------------+--------------+------------------------------+---------------------------+----------------+ | Ubuntu 22.04 (ARM) | SKIPPED | SKIPPED | SKIPPED | PASS | +------------------------+--------------+------------------------------+---------------------------+----------------+ | RHEL9 (ARM) | SKIPPED | SKIPPED | SKIPPED | PASS | +------------------------+--------------+------------------------------+---------------------------+----------------+ | Fedora 40 (ARM) | SKIPPED | SKIPPED | SKIPPED | PASS | +------------------------+--------------+------------------------------+---------------------------+----------------+ | Fedora 40 (ARM Clang) | SKIPPED | SKIPPED | SKIPPED | PASS | +------------------------+--------------+------------------------------+---------------------------+----------------+ | CentOS Stream 10 (ARM) | SKIPPED | SKIPPED | SKIPPED | PASS | +------------------------+--------------+------------------------------+---------------------------+----------------+ | CentOS Stream 9 (ARM) | SKIPPED | SKIPPED | SKIPPED | PASS | +------------------------+--------------+------------------------------+---------------------------+----------------+ | Ubuntu 20.04 (ARM) | SKIPPED | SKIPPED | SKIPPED | PASS | +------------------------+--------------+------------------------------+---------------------------+----------------+ | Fedora 41 (ARM) | SKIPPED | SKIPPED | SKIPPED | PASS | +------------------------+--------------+------------------------------+---------------------------+----------------+ Ubuntu 20.04 ARM SVE Kernel: Depends on container host Compiler: gcc (Ubuntu 10.5.0-1ubuntu1~20.04) 10.5.0 Debian 12 (arm) Kernel: Depends on container host Compiler: gcc (Debian 12.2.0-14) 12.2.0 Ubuntu 24.04 (ARM) Kernel: Depends on container host Compiler: gcc (Ubuntu 13.3.0-6ubuntu2~24.04) 13.3.0 Fedora 41 (ARM Clang) Kernel: Depends on container host Compiler: clang 19.1.5 (Fedora 19.1.5-1.fc41) Ubuntu 22.04 (ARM) Kernel: Depends on container host Compiler: gcc (Ubuntu 11.4.0-1ubuntu1~22.04) 11.4.0 RHEL9 (ARM) Kernel: Depends on container host Compiler: gcc 11.5.0 20240719 (Red Hat 11.5.0-2) Fedora 40 (ARM) Kernel: Depends on container host Compiler: gcc 14.2.1 20240912 (Red Hat 14.2.1-3) Fedora 40 (ARM Clang) Kernel: Depends on container host Compiler: clang 18.1.8 (Fedora 18.1.8-1.fc40) CentOS Stream 10 (ARM) Kernel: Depends on container host Compiler: gcc 14.2.1 20241104 (Red Hat 14.2.1-6) CentOS Stream 9 (ARM) Kernel: Depends on container host Compiler: gcc 11.5.0 20240719 (Red Hat 11.5.0-2) Ubuntu 20.04 (ARM) Kernel: Depends on container host Compiler: gcc (Ubuntu 9.4.0-1ubuntu1~20.04.2) 9.4.0 Fedora 41 (ARM) Kernel: Depends on container host Compiler: gcc 14.2.1 20240912 (Red Hat 14.2.1-3) To view detailed results, visit: https://lab.dpdk.org/results/dashboard/patchsets/33080/ UNH-IOL DPDK Community Lab To manage your email subscriptions, visit: https://lab.dpdk.org/results/dashboard/preferences/subscriptions/