From mboxrd@z Thu Jan 1 00:00:00 1970 Return-Path: Received: from mails.dpdk.org (mails.dpdk.org [217.70.189.124]) by inbox.dpdk.org (Postfix) with ESMTP id 94D2746655 for ; Tue, 29 Apr 2025 01:14:19 +0200 (CEST) Received: from mails.dpdk.org (localhost [127.0.0.1]) by mails.dpdk.org (Postfix) with ESMTP id 91305402A3; Tue, 29 Apr 2025 01:14:19 +0200 (CEST) Received: from mail-ot1-f99.google.com (mail-ot1-f99.google.com [209.85.210.99]) by mails.dpdk.org (Postfix) with ESMTP id 0030940653 for ; Tue, 29 Apr 2025 01:14:15 +0200 (CEST) Received: by mail-ot1-f99.google.com with SMTP id 46e09a7af769-72c7336ed99so1325484a34.0 for ; Mon, 28 Apr 2025 16:14:15 -0700 (PDT) DKIM-Signature: v=1; a=rsa-sha256; c=relaxed/relaxed; d=iol.unh.edu; s=unh-iol; t=1745882055; x=1746486855; darn=dpdk.org; h=references:in-reply-to:cc:to:from:subject:message-id:date:from:to :cc:subject:date:message-id:reply-to; bh=Sf6azMN9IUzozAHcdIw63d1ReVHq+fnGKbSJ/4Y9AM4=; b=Lm8DUA8nU3iqed2+UkHXsRCe3OggzvRGawHJUqvdSEsVCuANfUJWf+sEV12IyKo1yd ZBG9XitJzEXQQrA9R1peUf4K0GemaA3i1GwrcGlOrv9B3vv2k+KHsU0hmg7nw6edK45a wj7pF/gI7arNuv7rv9rY+gjre2VI/f7boGows= X-Google-DKIM-Signature: v=1; a=rsa-sha256; c=relaxed/relaxed; d=1e100.net; s=20230601; t=1745882055; x=1746486855; h=references:in-reply-to:cc:to:from:subject:message-id:date :x-gm-message-state:from:to:cc:subject:date:message-id:reply-to; bh=Sf6azMN9IUzozAHcdIw63d1ReVHq+fnGKbSJ/4Y9AM4=; b=lPXMOr89JusqBm/SZDaVeqVoyuzmHt3pXsBV5n6rKdXAk59kq5w71lZTUZ/p5lBV3j wh2ljXKHAKjvS3x4vsWwjxHNhDzBGr3ksXA+Bkf6Hmav5YY5Skq/ss3AhV5HoKmy9gII C2HH7EdktO5iq68HjgWeFNSAdbL8LVwU30b4ocrnRskhWMIGwu0CQU8ruHzTH2OLmPyg coLA8X2UTLoYCvJZHQ41I4Ox4vC2IEs9Idw7z5qwTJfYIXASUbsHqg5MzbnMDNurR3Y4 QKFEZ6cULMOtbrefNle/R8cJ/SqAn4VlNx6CaFSopmvHB/SI17JhimzHRW7gghDhMsGL NxWw== X-Gm-Message-State: AOJu0YzwAu7hLYev6MU/g8dACsSUBx0rbivEaWF9zmqPZQkBVAzQfPCK pTY8Y+EeANEZ/4NLqntWtOgkBxzvi9QF5va00OMirmPkZp9T/KzAcnUCEhkBsm8qLSNP7rivMBP 7kPyrINm7XkTaMdeW5C0WhX7VkfPI7DYnJiGacEbA X-Gm-Gg: ASbGncuhwpe9GbdNILsE33c9Nm/hQ8bck8n2BBHk+3vHzRWUHCe/N1nxnWZmEv8q86O h4sE8Y8CsfYqmstUukO9XXoK9PiBwsnfLPlXIpyx0G/6BfcVOjXRCBVJ4XuB8r6fOvdiJIxAWXR jPcupMN2KN5HrJ5+NfIDzOwsjM3+kIoZZRRiMeASR4kpLukaWpalvWbH3jQspq9x0dbdCczzIj1 RQTbrxrKiLOgiVH5yhVUmvYY7ICFVLVHTYr6C/J8myG3g596nT5zbUqanxLFKvvkcMMvP16tJNI FAEcbmDjCBGs08YtFRysbPf13GdSXntGM/6W X-Google-Smtp-Source: AGHT+IGvUgD/3760caP/rwhlEoVw6he1ELf9Hefkqog75OupbC5lGW8d01oXKnuZ2UrvAE6hVRkBf/jrSvVC X-Received: by 2002:a05:6870:9624:b0:2d5:cb5:2193 with SMTP id 586e51a60fabf-2d9be8f8fc7mr6122368fac.35.1745882054981; Mon, 28 Apr 2025 16:14:14 -0700 (PDT) Received: from postal.iol.unh.edu (postal.iol.unh.edu. [132.177.123.84]) by smtp-relay.gmail.com with ESMTPS id 586e51a60fabf-2d97383258csm970620fac.21.2025.04.28.16.14.14 (version=TLS1_2 cipher=ECDHE-ECDSA-AES128-GCM-SHA256 bits=128/128); Mon, 28 Apr 2025 16:14:14 -0700 (PDT) X-Relaying-Domain: iol.unh.edu Date: Mon, 28 Apr 2025 16:14:14 -0700 (PDT) Message-ID: <68100bc6.050a0220.2b7571.6cccSMTPIN_ADDED_MISSING@mx.google.com> Received: from [172.21.0.6] (unknown [172.18.0.240]) by postal.iol.unh.edu (Postfix) with ESMTP id 60A746052471; Mon, 28 Apr 2025 19:14:14 -0400 (EDT) Subject: |SUCCESS| pw153179 [PATCH] [v4] net/ixgbe: support Rx/Tx burst mode From: dpdklab@iol.unh.edu To: Test Report Cc: dpdk-test-reports@iol.unh.edu In-Reply-To: <20250428212921.3674799-1-rmelton@cisco.com> References: <20250428212921.3674799-1-rmelton@cisco.com> Content-Type: text/plain X-BeenThere: test-report@dpdk.org X-Mailman-Version: 2.1.29 Precedence: list List-Id: automatic DPDK test reports List-Unsubscribe: , List-Archive: List-Post: List-Help: List-Subscribe: , Errors-To: test-report-bounces@dpdk.org Test-Label: iol-abi-testing Test-Status: SUCCESS http://dpdk.org/patch/153179 _Testing PASS_ Submitter: Roger Melton Date: Monday, April 28 2025 21:29:22 DPDK git baseline: Repo:dpdk Branch: master CommitID:ecadeeb16e75595c1420f7b77a66013893c399dd 153179 --> testing pass Upstream job id: Generic-DPDK-Compile-ABI#124689 Test environment and result as below: +-------------------+----------+ | Environment | abi_test | +===================+==========+ | CentOS Stream 10 | PASS | +-------------------+----------+ | CentOS Stream 9 | PASS | +-------------------+----------+ | Fedora 40 (Clang) | PASS | +-------------------+----------+ | Debian 12 | PASS | +-------------------+----------+ | Fedora 40 | PASS | +-------------------+----------+ | Fedora 41 (Clang) | PASS | +-------------------+----------+ | Fedora 41 | PASS | +-------------------+----------+ | RHEL8 | PASS | +-------------------+----------+ | RHEL9 | PASS | +-------------------+----------+ | openSUSE Leap 15 | PASS | +-------------------+----------+ | Ubuntu 24.04 | PASS | +-------------------+----------+ | Ubuntu 22.04 | PASS | +-------------------+----------+ CentOS Stream 10 Kernel: Depends on container host Compiler: gcc 14.2.1 20241104 (Red Hat 14.2.1-6) CentOS Stream 9 Kernel: Depends on container host Compiler: gcc 11.5.0 20240719 (Red Hat 11.5.0-2) Fedora 40 (Clang) Kernel: Depends on container host Compiler: clang 18.1.8 (Fedora 18.1.8-1.fc40) Debian 12 Kernel: Depends on container host Compiler: gcc (Debian 12.2.0-14) 12.2.0 Fedora 40 Kernel: Depends on container host Compiler: gcc 14.2.1 20240912 (Red Hat 14.2.1-3) Fedora 41 (Clang) Kernel: Depends on container host Compiler: clang 19.1.5 (Fedora 19.1.5-1.fc41) Fedora 41 Kernel: Depends on container host Compiler: gcc 14.2.1 20240912 (Red Hat 14.2.1-3) RHEL8 Kernel: Depends on container host Compiler: gcc 8.5.0 20210514 (Red Hat 8.5.0-22) RHEL9 Kernel: Depends on container host Compiler: gcc 11.5.0 20240719 (Red Hat 11.5.0-2) openSUSE Leap 15 Kernel: Depends on container host Compiler: gcc (SUSE Linux) 7.5.0 Ubuntu 24.04 Kernel: Depends on container host Compiler: gcc (Ubuntu 13.3.0-6ubuntu2~24.04) 13.3.0 Ubuntu 22.04 Kernel: Depends on container host Compiler: gcc (Ubuntu 11.4.0-1ubuntu1~22.04) 11.4.0 To view detailed results, visit: https://lab.dpdk.org/results/dashboard/patchsets/33080/ UNH-IOL DPDK Community Lab To manage your email subscriptions, visit: https://lab.dpdk.org/results/dashboard/preferences/subscriptions/