From mboxrd@z Thu Jan 1 00:00:00 1970 Return-Path: Received: from mails.dpdk.org (mails.dpdk.org [217.70.189.124]) by inbox.dpdk.org (Postfix) with ESMTP id 23ED346658 for ; Tue, 29 Apr 2025 02:05:24 +0200 (CEST) Received: from mails.dpdk.org (localhost [127.0.0.1]) by mails.dpdk.org (Postfix) with ESMTP id E582C402A3; Tue, 29 Apr 2025 02:05:23 +0200 (CEST) Received: from mail-io1-f98.google.com (mail-io1-f98.google.com [209.85.166.98]) by mails.dpdk.org (Postfix) with ESMTP id 66D064026C for ; Tue, 29 Apr 2025 02:05:22 +0200 (CEST) Received: by mail-io1-f98.google.com with SMTP id ca18e2360f4ac-8644aa73dfcso163208539f.0 for ; Mon, 28 Apr 2025 17:05:22 -0700 (PDT) DKIM-Signature: v=1; a=rsa-sha256; c=relaxed/relaxed; d=iol.unh.edu; s=unh-iol; t=1745885121; x=1746489921; darn=dpdk.org; h=references:in-reply-to:cc:to:from:subject:message-id:date:from:to :cc:subject:date:message-id:reply-to; bh=GurDkhYHOBP+7sWs0/3Ks8RV/y92BKBSD0n3KbfUx4k=; b=L3QnEMUMfdiZQGNAXsuS8VGSm6o2zCchZnw0P1x7d2SAiczWP4DYTVEMd33bn97Dxu unSLLB+aYD3OBWGi0E/mKEAxNdFKgLbmTxqOXiv29C1ztUFlfg6Fv9laiDQ8q47xQHse JZqx9iJcII1KvXU1SG/kVVc8mjM7KRdNmd5wQ= X-Google-DKIM-Signature: v=1; a=rsa-sha256; c=relaxed/relaxed; d=1e100.net; s=20230601; t=1745885121; x=1746489921; h=references:in-reply-to:cc:to:from:subject:message-id:date :x-gm-message-state:from:to:cc:subject:date:message-id:reply-to; bh=GurDkhYHOBP+7sWs0/3Ks8RV/y92BKBSD0n3KbfUx4k=; b=vpuAvQ9viWb+l1iBm54TvnyQf3r3J5e2sGK+a6vrGWjb17mcUjPLUi7rT+qspnbwXO vpYMxJFat8yK8aExHkRL6P3JZIEStOXN6YbqNClORfjHY7YDL4dPZ06dRiGtPuuwpV1O pIGz/i5i0MZ3PZ5eBpxABOPClBkV8jcWv7Q3nkkxh6u0uHc+NV9slAcC8uPTFyUraa9y kL461h8mymboJRyETwAyI7/l8f52T83eSxdX6IjJ/1a8otuVS9Nc4OFwIVRtuexeuClZ T1Gb8GgzUUQ+r9cGMvwk0o6DUPNk8eFhtVTPHPKNF6cTcDcq68MpuU+RqSFtk5R8jaiO LKxg== X-Gm-Message-State: AOJu0YymuK83Vzqqm4saTzOl0rJLkStVXM2nSJ0KOgEuy62XoxTk2rtQ a18W2wsFbUiSGwVC8/LwPU59BsocnqcPOTIKfPmzw1z29uaI5iOZuix8+lqBa7GN73+ZhhhrBlJ MzOeHKmsExdMOfW/iLSqxAzZFgGxsklDfYigFNeBd X-Gm-Gg: ASbGncsTnoI5Z/R60i/NDMxjbBnPm3JfyT6uxy0cCGTsuqbmpLdm1ZY89RNK+qAiddO b23iiZOCgqYXUO4ko8fh6/DYf055pSq4QCG9vYMgrgCPyxoUnXVEYa5EVWKXwO0x4tHcsqGJ2OY cjIiyApl4SqNEVOIKFoxndxPBG+gjO/CVrTKzvq9KDf+uzLcn7DV13FXuKSpZaiY/pRhlGtn4w3 SLL20ehITiz5NW8PKkriDFCm7tQBV7yWzbuL54BT3SJo1HE+t1gXBlxlrhCwPWYTf7c5e0poz0b pn2gnZ2/bx1ingPMybbgypw5ot58HrbI7w32 X-Google-Smtp-Source: AGHT+IHGdyT01hiUKIUupP/tmMdFxfKW5Z7gBBfNR7lwqhrrMSt6IgdA6g9iW3xrcHy0YF9Mk1HGSOLDECs9 X-Received: by 2002:a05:6e02:349a:b0:3d5:bdac:c927 with SMTP id e9e14a558f8ab-3d95e001e0cmr10731645ab.18.1745885121342; Mon, 28 Apr 2025 17:05:21 -0700 (PDT) Received: from postal.iol.unh.edu (postal.iol.unh.edu. [132.177.123.84]) by smtp-relay.gmail.com with ESMTPS id 8926c6da1cb9f-4f8630cea0bsm12301173.72.2025.04.28.17.05.21 (version=TLS1_2 cipher=ECDHE-ECDSA-AES128-GCM-SHA256 bits=128/128); Mon, 28 Apr 2025 17:05:21 -0700 (PDT) X-Relaying-Domain: iol.unh.edu Date: Mon, 28 Apr 2025 17:05:21 -0700 (PDT) Message-ID: <681017c1.050a0220.aa9fd.0b3fSMTPIN_ADDED_MISSING@mx.google.com> Received: from [172.21.0.6] (unknown [172.18.0.240]) by postal.iol.unh.edu (Postfix) with ESMTP id D78F06052471; Mon, 28 Apr 2025 20:05:20 -0400 (EDT) Subject: |SUCCESS| pw153179 [PATCH] [v4] net/ixgbe: support Rx/Tx burst mode From: dpdklab@iol.unh.edu To: Test Report Cc: dpdk-test-reports@iol.unh.edu In-Reply-To: <20250428212921.3674799-1-rmelton@cisco.com> References: <20250428212921.3674799-1-rmelton@cisco.com> Content-Type: text/plain X-BeenThere: test-report@dpdk.org X-Mailman-Version: 2.1.29 Precedence: list List-Id: automatic DPDK test reports List-Unsubscribe: , List-Archive: List-Post: List-Help: List-Subscribe: , Errors-To: test-report-bounces@dpdk.org Test-Label: iol-compile-amd64-testing Test-Status: SUCCESS http://dpdk.org/patch/153179 _Testing PASS_ Submitter: Roger Melton Date: Monday, April 28 2025 21:29:22 DPDK git baseline: Repo:dpdk Branch: master CommitID:ecadeeb16e75595c1420f7b77a66013893c399dd 153179 --> testing pass Upstream job id: Generic-DPDK-Compile-Meson#383554 Test environment and result as below: +-----------------------------------+--------------------+-------------------+------------------+-------------------------+-------------------+----------------------+ | Environment | dpdk_meson_compile | dpdk_compile_spdk | dpdk_compile_ovs | dpdk_llvm_clang_compile | dpdk_msvc_compile | dpdk_mingw64_compile | +===================================+====================+===================+==================+=========================+===================+======================+ | Debian 12 | PASS | PASS | SKIPPED | SKIPPED | SKIPPED | SKIPPED | +-----------------------------------+--------------------+-------------------+------------------+-------------------------+-------------------+----------------------+ | CentOS Stream 9 | PASS | PASS | SKIPPED | SKIPPED | SKIPPED | SKIPPED | +-----------------------------------+--------------------+-------------------+------------------+-------------------------+-------------------+----------------------+ | CentOS Stream 10 | PASS | SKIPPED | SKIPPED | SKIPPED | SKIPPED | SKIPPED | +-----------------------------------+--------------------+-------------------+------------------+-------------------------+-------------------+----------------------+ | Fedora 40 | PASS | PASS | SKIPPED | SKIPPED | SKIPPED | SKIPPED | +-----------------------------------+--------------------+-------------------+------------------+-------------------------+-------------------+----------------------+ | Fedora 40 (Clang) | PASS | PASS | SKIPPED | SKIPPED | SKIPPED | SKIPPED | +-----------------------------------+--------------------+-------------------+------------------+-------------------------+-------------------+----------------------+ | RHEL9 | PASS | SKIPPED | SKIPPED | SKIPPED | SKIPPED | SKIPPED | +-----------------------------------+--------------------+-------------------+------------------+-------------------------+-------------------+----------------------+ | Ubuntu 20.04 | PASS | SKIPPED | SKIPPED | SKIPPED | SKIPPED | SKIPPED | +-----------------------------------+--------------------+-------------------+------------------+-------------------------+-------------------+----------------------+ | Fedora 41 | PASS | PASS | PASS | SKIPPED | SKIPPED | SKIPPED | +-----------------------------------+--------------------+-------------------+------------------+-------------------------+-------------------+----------------------+ | RHEL8 | PASS | SKIPPED | SKIPPED | SKIPPED | SKIPPED | SKIPPED | +-----------------------------------+--------------------+-------------------+------------------+-------------------------+-------------------+----------------------+ | Fedora 41 (Clang) | PASS | PASS | PASS | SKIPPED | SKIPPED | SKIPPED | +-----------------------------------+--------------------+-------------------+------------------+-------------------------+-------------------+----------------------+ | Ubuntu 24.04 | PASS | PASS | PASS | SKIPPED | SKIPPED | SKIPPED | +-----------------------------------+--------------------+-------------------+------------------+-------------------------+-------------------+----------------------+ | openSUSE Leap 15 | PASS | SKIPPED | SKIPPED | SKIPPED | SKIPPED | SKIPPED | +-----------------------------------+--------------------+-------------------+------------------+-------------------------+-------------------+----------------------+ | Ubuntu 22.04 | PASS | PASS | SKIPPED | SKIPPED | SKIPPED | SKIPPED | +-----------------------------------+--------------------+-------------------+------------------+-------------------------+-------------------+----------------------+ | Alpine | PASS | SKIPPED | SKIPPED | SKIPPED | SKIPPED | SKIPPED | +-----------------------------------+--------------------+-------------------+------------------+-------------------------+-------------------+----------------------+ | Ubuntu 24.04 32 Bit Cross Compile | PASS | SKIPPED | SKIPPED | SKIPPED | SKIPPED | SKIPPED | +-----------------------------------+--------------------+-------------------+------------------+-------------------------+-------------------+----------------------+ | FreeBSD 13.5 | PASS | SKIPPED | SKIPPED | SKIPPED | SKIPPED | SKIPPED | +-----------------------------------+--------------------+-------------------+------------------+-------------------------+-------------------+----------------------+ | FreeBSD 14.2 | PASS | SKIPPED | SKIPPED | SKIPPED | SKIPPED | SKIPPED | +-----------------------------------+--------------------+-------------------+------------------+-------------------------+-------------------+----------------------+ | Windows Server 2022 | SKIPPED | SKIPPED | SKIPPED | PASS | PASS | PASS | +-----------------------------------+--------------------+-------------------+------------------+-------------------------+-------------------+----------------------+ Debian 12 Kernel: Depends on container host Compiler: gcc (Debian 12.2.0-14) 12.2.0 CentOS Stream 9 Kernel: Depends on container host Compiler: gcc 11.5.0 20240719 (Red Hat 11.5.0-2) CentOS Stream 10 Kernel: Depends on container host Compiler: gcc 14.2.1 20241104 (Red Hat 14.2.1-6) Fedora 40 Kernel: Depends on container host Compiler: gcc 14.2.1 20240912 (Red Hat 14.2.1-3) Fedora 40 (Clang) Kernel: Depends on container host Compiler: clang 18.1.8 (Fedora 18.1.8-1.fc40) RHEL9 Kernel: Depends on container host Compiler: gcc 11.5.0 20240719 (Red Hat 11.5.0-2) Ubuntu 20.04 Kernel: Depends on container host Compiler: gcc (Ubuntu 9.4.0-1ubuntu1~20.04.2) 9.4.0 Fedora 41 Kernel: Depends on container host Compiler: gcc 14.2.1 20240912 (Red Hat 14.2.1-3) RHEL8 Kernel: Depends on container host Compiler: gcc 8.5.0 20210514 (Red Hat 8.5.0-22) Fedora 41 (Clang) Kernel: Depends on container host Compiler: clang 19.1.5 (Fedora 19.1.5-1.fc41) Ubuntu 24.04 Kernel: Depends on container host Compiler: gcc (Ubuntu 13.3.0-6ubuntu2~24.04) 13.3.0 openSUSE Leap 15 Kernel: Depends on container host Compiler: gcc (SUSE Linux) 7.5.0 Ubuntu 22.04 Kernel: Depends on container host Compiler: gcc (Ubuntu 11.4.0-1ubuntu1~22.04) 11.4.0 Alpine Kernel: Depends on container host Compiler: gcc (Alpine 14.2.0) 14.2.0 Ubuntu 24.04 32 Bit Cross Compile Kernel: Depends on container host Compiler: gcc (Ubuntu 13.3.0-6ubuntu2~24.04) 13.3.0 FreeBSD 13.5 Kernel: 13.5-RELEASE Compiler: clang 19.1.7 FreeBSD 14.2 Kernel: 14.2-RELEASE Compiler: clang 18.1.6 Windows Server 2022 Kernel: 10.0.20348.2031 Compiler: clang 15.0.7, gcc 14.1.0 (MinGW), and MSVC VS 19.39.33521 To view detailed results, visit: https://lab.dpdk.org/results/dashboard/patchsets/33080/ UNH-IOL DPDK Community Lab To manage your email subscriptions, visit: https://lab.dpdk.org/results/dashboard/preferences/subscriptions/