From mboxrd@z Thu Jan 1 00:00:00 1970 Return-Path: Received: from mails.dpdk.org (mails.dpdk.org [217.70.189.124]) by inbox.dpdk.org (Postfix) with ESMTP id 11C9246658 for ; Tue, 29 Apr 2025 02:05:32 +0200 (CEST) Received: from mails.dpdk.org (localhost [127.0.0.1]) by mails.dpdk.org (Postfix) with ESMTP id 0EE47402A3; Tue, 29 Apr 2025 02:05:32 +0200 (CEST) Received: from mail-pj1-f99.google.com (mail-pj1-f99.google.com [209.85.216.99]) by mails.dpdk.org (Postfix) with ESMTP id 5660B4026C for ; Tue, 29 Apr 2025 02:05:31 +0200 (CEST) Received: by mail-pj1-f99.google.com with SMTP id 98e67ed59e1d1-3085f827538so7402086a91.0 for ; Mon, 28 Apr 2025 17:05:31 -0700 (PDT) DKIM-Signature: v=1; a=rsa-sha256; c=relaxed/relaxed; d=iol.unh.edu; s=unh-iol; t=1745885130; x=1746489930; darn=dpdk.org; h=references:in-reply-to:cc:to:from:subject:message-id:date:from:to :cc:subject:date:message-id:reply-to; bh=ZWdbiteOS089Kt12feaim8c76D1amRNVkLuXKgqlH7A=; b=KVfy9iDDWLP3dkkWULjIvhWCZay1EgbFXsHjx/AgpTAMGdmoKSwoCn6rD8EB3TD7v2 jVw3GXxGmGW+NdaiT3b4vaXjybhJG5c4TUYB3oYFR9vLJpqA4gGl+8x6FBeQGL1xNB+i o9Dkf8MjwfZvZ57MD9+KgPfW40BtDAMoGETJY= X-Google-DKIM-Signature: v=1; a=rsa-sha256; c=relaxed/relaxed; d=1e100.net; s=20230601; t=1745885130; x=1746489930; h=references:in-reply-to:cc:to:from:subject:message-id:date :x-gm-message-state:from:to:cc:subject:date:message-id:reply-to; bh=ZWdbiteOS089Kt12feaim8c76D1amRNVkLuXKgqlH7A=; b=IwX+VItSB/YFDjY241cIx6mst5uoBEgkLAgRB+G72OKBSVOfToC2MvrkZ9s2HiN5eq +yFoJOwNjYR0p5DJKCQcdweM7eNbfbB99E4IgFGWrqCFhyuOAP9wGIua5qOq2why6j16 59ZSLiAebM4XdcQ0yJ54zlXTvTTrPvbgw468GinV2EP2wiXdAm6aLlcGOjirpl9vy8BW MafhXdY7B9EW6ZT9xzEOAnjpHjzKEr2JWCjQ7KDmHWnmZjSc8Fw2+V4cAQfk3xPrdYrD 5u6OeC2DVMK2GA8+XXY3wjyW5CXfBtC3uemTbrefPx7N0hxc/+A3t1uAVwgSjDxdN11T Yh8A== X-Gm-Message-State: AOJu0Yw+VSSkNauwWnBRmA7DbQPVH3YullvLWD7YPnAzufwdF/zpfO1b 7XqEdWwSvORehNoldWX+6ZWkHUxcLw8dDrxop9GXoTSwCt/rfzieZ52h+OuSO5Llx8xUwQor/Ly nVWfhdjotfZXSKVrZm/R3q+C1n9LUc7fnNFqDvTLYMsh9eZ+Vs8yjcW0s X-Gm-Gg: ASbGncvrcGeyMi/c5Gn/ZzMaXaVIRkJet+Va+MJQQ+MOABWn6+/rEUpulO2AogFVlXk 4tLSdTN+WDFTP7EtWvO/K8TnxkA+GhNmPv3c+27EPVTZA7CDeibb17rDWrFZDoB8FPeL/d+VaLi f56Xa4D6K6HEji9hMTBkQ4+eDvdqQQ3QTsEsbx+VgJUB/xlepvgwFITF9ZlnToD94ACgsdguoEA RKTdnNPc48hHYP8xF4mcpMtoNCnIAKTRIf3107No7KrseXe7DSwxoFE52I6PUSO8gzlr3il+Uni o/Iu9WeowGt57v6GHTL59DLrmvRLAO5yKhqwSmq66QGhj/du X-Google-Smtp-Source: AGHT+IFlTBHomqkOGQGCZ/BgWGZ213j88T+kXJHQ8kQU1Q/Uzf0tkdtbceVOguMdqMlQ+oL0Vb7JyjRHJho5 X-Received: by 2002:a17:90b:4f:b0:2ff:72f8:3708 with SMTP id 98e67ed59e1d1-30a0133b154mr18837737a91.17.1745885130419; Mon, 28 Apr 2025 17:05:30 -0700 (PDT) Received: from postal.iol.unh.edu (postal.iol.unh.edu. [2606:4100:3880:1234::84]) by smtp-relay.gmail.com with ESMTPS id d9443c01a7336-22db4da003fsm12596355ad.10.2025.04.28.17.05.30 (version=TLS1_2 cipher=ECDHE-ECDSA-AES128-GCM-SHA256 bits=128/128); Mon, 28 Apr 2025 17:05:30 -0700 (PDT) X-Relaying-Domain: iol.unh.edu Date: Mon, 28 Apr 2025 17:05:30 -0700 (PDT) Message-ID: <681017ca.170a0220.1198f1.b330SMTPIN_ADDED_MISSING@mx.google.com> Received: from [172.21.0.8] (unknown [172.18.0.240]) by postal.iol.unh.edu (Postfix) with ESMTP id 8E4BA6052471; Mon, 28 Apr 2025 20:05:29 -0400 (EDT) Subject: |SUCCESS| pw153179 [PATCH] [v4] net/ixgbe: support Rx/Tx burst mode From: dpdklab@iol.unh.edu To: Test Report Cc: dpdk-test-reports@iol.unh.edu In-Reply-To: <20250428212921.3674799-1-rmelton@cisco.com> References: <20250428212921.3674799-1-rmelton@cisco.com> Content-Type: text/plain X-BeenThere: test-report@dpdk.org X-Mailman-Version: 2.1.29 Precedence: list List-Id: automatic DPDK test reports List-Unsubscribe: , List-Archive: List-Post: List-Help: List-Subscribe: , Errors-To: test-report-bounces@dpdk.org Test-Label: iol-sample-apps-testing Test-Status: SUCCESS http://dpdk.org/patch/153179 _Testing PASS_ Submitter: Roger Melton Date: Monday, April 28 2025 21:29:22 DPDK git baseline: Repo:dpdk Branch: master CommitID:ecadeeb16e75595c1420f7b77a66013893c399dd 153179 --> testing pass Upstream job id: ACVP-FIPS-testing#9662 Test environment and result as below: +--------------------+----------------------+----------------------+ | Environment | compressdev_zlib_pmd | dpdk_fips_validation | +====================+======================+======================+ | Ubuntu 22.04 (ARM) | PASS | SKIPPED | +--------------------+----------------------+----------------------+ | Ubuntu 22.04 | PASS | SKIPPED | +--------------------+----------------------+----------------------+ | Ubuntu 20.04 | SKIPPED | PASS | +--------------------+----------------------+----------------------+ Ubuntu 22.04 (ARM) Kernel: 5.15.0-97-generic Compiler: gcc gcc (Ubuntu 11.4.0-1ubuntu1~22.04) 11.4.0 Ubuntu 22.04 Kernel: 5.15.0-100-generic Compiler: gcc gcc (Ubuntu 11.4.0-1ubuntu1~22.04) 11.4.0 Ubuntu 20.04 Kernel: Depends on container host Compiler: gcc (Ubuntu 9.4.0-1ubuntu1~20.04.2) 9.4.0 To view detailed results, visit: https://lab.dpdk.org/results/dashboard/patchsets/33080/ UNH-IOL DPDK Community Lab To manage your email subscriptions, visit: https://lab.dpdk.org/results/dashboard/preferences/subscriptions/