From mboxrd@z Thu Jan 1 00:00:00 1970 Return-Path: Received: from mails.dpdk.org (mails.dpdk.org [217.70.189.124]) by inbox.dpdk.org (Postfix) with ESMTP id 7CB5546658 for ; Tue, 29 Apr 2025 02:19:18 +0200 (CEST) Received: from mails.dpdk.org (localhost [127.0.0.1]) by mails.dpdk.org (Postfix) with ESMTP id 54501402A3; Tue, 29 Apr 2025 02:19:18 +0200 (CEST) Received: from mail-pl1-f228.google.com (mail-pl1-f228.google.com [209.85.214.228]) by mails.dpdk.org (Postfix) with ESMTP id 629A44026C for ; Tue, 29 Apr 2025 02:19:17 +0200 (CEST) Received: by mail-pl1-f228.google.com with SMTP id d9443c01a7336-22c33e5013aso64838575ad.0 for ; Mon, 28 Apr 2025 17:19:17 -0700 (PDT) DKIM-Signature: v=1; a=rsa-sha256; c=relaxed/relaxed; d=iol.unh.edu; s=unh-iol; t=1745885956; x=1746490756; darn=dpdk.org; h=references:in-reply-to:cc:to:from:subject:message-id:date:from:to :cc:subject:date:message-id:reply-to; bh=fbksB0ePeT8N4ziCJCxB17Sc44RutPlDTDBZ8gTSKSo=; b=T0O9roAa4mD+fzlbX7rke0TTOS2ciUqRVa7C35BaTqd2G+udpRLuat6G/YLpN+PDSS ayxjvvgBtsIHM2rWp6slunKLwUisfeuIXlR4FX+N0N8M/8XG8lLlKoqY02UpWMeryfsd hgRdIGAmcuc1Z/z6nPIk3YZnX2fTj61PclyCw= X-Google-DKIM-Signature: v=1; a=rsa-sha256; c=relaxed/relaxed; d=1e100.net; s=20230601; t=1745885956; x=1746490756; h=references:in-reply-to:cc:to:from:subject:message-id:date :x-gm-message-state:from:to:cc:subject:date:message-id:reply-to; bh=fbksB0ePeT8N4ziCJCxB17Sc44RutPlDTDBZ8gTSKSo=; b=X39uPIrTcyhc7QaJ6zy1WqGdgC3/YG1u5nghBu0YR5ZHDBJhc4LiPOMPMaIv5MQwfW IMyuOQGw1DEW0lqUvyJP8BSfMP2VUZNrY18uThKcKjg3j5mM3nROKfeO2Yxib3jlcDal Cv1HVn4NFYfK1NsTlL2a/vv6PJV+Mjv4bz1XzVP/wjWQFE5qxRDYFDXS3MvDRc+34UNS /WJoD2aL8gsz8V/bj2HlXS6Qhp8Q7NWZ4Wfa3Vo2sI4aPPa32nakX4AarW9j90AKC0w1 kGsMbcEwCPfOiyqjOdu1lMIMCCnDDn0T8q/n7o0hH39sTzL+ffhEW/Dkc8Jsu1tYngjY yfCA== X-Gm-Message-State: AOJu0YxiiIrcSG2V3io1F0p9S/OcDg41CU1hgVxCSUR6rlV/VZQTasHV SHQcTyM/GunYiS51LGADhNfTPw7Ue4DJYBHgn46/3zsChaFOzsikbprERly16M5VGskd6JOqa0N 5ZISq4eRmeGbgkTZf0sSonolSYy6U5gsBuck426yN X-Gm-Gg: ASbGncsRxUFCT8Fi+TLcfjXPWA0rFXrnCJLpY5axlotTK+CHBjPRCJH9TY5DGuJx7kJ lXhBzG3QyeBP0vLTDNBc2LFy35fn9ItTSbGBea55u/l83w9QOaI7T9+bk1qNUSuCTEcc3smA0g1 QMHcxz7gl2NMYXWTblXKp45oU3nPV8tonIySPU+frctJ1+A7AsAv6gi+cOFZtLT7rh6CdGVWn+n xHpCwVgYvx0O9gcvmX6bCCr9efW8uLZfycrUzY1+gHzIqJMSvzAllHAFA3cILATCr1Ii1JQ24p0 9DWdTpznq0FhvARaQKT3MhNPB9gcRmI5SxjZ X-Google-Smtp-Source: AGHT+IGJIZxrlGQS3akIwcqg2s2k4G0x7ZNjl+8yERIvb0ECcZ1/gc4mlP+XblS3pcmmHb2LMbCfN2Gfzo2Y X-Received: by 2002:a17:903:22cc:b0:21f:5cd8:c67 with SMTP id d9443c01a7336-22dc6a0f443mr156294435ad.31.1745885956472; Mon, 28 Apr 2025 17:19:16 -0700 (PDT) Received: from postal.iol.unh.edu (postal.iol.unh.edu. [132.177.123.84]) by smtp-relay.gmail.com with ESMTPS id d9443c01a7336-22db52369a2sm12790285ad.126.2025.04.28.17.19.16 (version=TLS1_2 cipher=ECDHE-ECDSA-AES128-GCM-SHA256 bits=128/128); Mon, 28 Apr 2025 17:19:16 -0700 (PDT) X-Relaying-Domain: iol.unh.edu Date: Mon, 28 Apr 2025 17:19:16 -0700 (PDT) Message-ID: <68101b04.170a0220.2b7973.c09dSMTPIN_ADDED_MISSING@mx.google.com> Received: from [172.21.0.5] (unknown [172.18.0.240]) by postal.iol.unh.edu (Postfix) with ESMTP id 8AD486052471; Mon, 28 Apr 2025 20:19:15 -0400 (EDT) Subject: |SUCCESS| pw153179 [PATCH] [v4] net/ixgbe: support Rx/Tx burst mode From: dpdklab@iol.unh.edu To: Test Report Cc: dpdk-test-reports@iol.unh.edu In-Reply-To: <20250428212921.3674799-1-rmelton@cisco.com> References: <20250428212921.3674799-1-rmelton@cisco.com> Content-Type: text/plain X-BeenThere: test-report@dpdk.org X-Mailman-Version: 2.1.29 Precedence: list List-Id: automatic DPDK test reports List-Unsubscribe: , List-Archive: List-Post: List-Help: List-Subscribe: , Errors-To: test-report-bounces@dpdk.org Test-Label: iol-compile-arm64-testing Test-Status: SUCCESS http://dpdk.org/patch/153179 _Testing PASS_ Submitter: Roger Melton Date: Monday, April 28 2025 21:29:22 DPDK git baseline: Repo:dpdk Branch: master CommitID:ecadeeb16e75595c1420f7b77a66013893c399dd 153179 --> testing pass Upstream job id: Generic-DPDK-Compile-Meson#383570 Test environment and result as below: +----------------------------------------+--------------------+ | Environment | dpdk_meson_compile | +========================================+====================+ | Ubuntu 20.04 ARM GCC Cross Compile | PASS | +----------------------------------------+--------------------+ | Ubuntu 20.04 ARM SVE | PASS | +----------------------------------------+--------------------+ | Fedora 40 (ARM) | PASS | +----------------------------------------+--------------------+ | Debian 12 with MUSDK | PASS | +----------------------------------------+--------------------+ | Ubuntu 24.04 (ARM) | PASS | +----------------------------------------+--------------------+ | Fedora 40 (ARM Clang) | PASS | +----------------------------------------+--------------------+ | Fedora 41 (ARM) | PASS | +----------------------------------------+--------------------+ | Fedora 41 (ARM Clang) | PASS | +----------------------------------------+--------------------+ | Ubuntu 22.04 (ARM) | PASS | +----------------------------------------+--------------------+ | Ubuntu 20.04 (ARM) | PASS | +----------------------------------------+--------------------+ | CentOS Stream 10 (ARM) | PASS | +----------------------------------------+--------------------+ | Ubuntu 20.04 aarch32 GCC Cross Compile | PASS | +----------------------------------------+--------------------+ | CentOS Stream 9 (ARM) | PASS | +----------------------------------------+--------------------+ | Ubuntu 20.04 ARM Clang Cross Compile | PASS | +----------------------------------------+--------------------+ | RHEL9 (ARM) | PASS | +----------------------------------------+--------------------+ | Debian 12 (arm) | PASS | +----------------------------------------+--------------------+ Ubuntu 20.04 ARM GCC Cross Compile Kernel: Depends on container host Compiler: aarch64-linux-gnu-gcc (Ubuntu 9.4.0-1ubuntu1~20.04.2) 9.4.0 Ubuntu 20.04 ARM SVE Kernel: Depends on container host Compiler: gcc (Ubuntu 10.5.0-1ubuntu1~20.04) 10.5.0 Fedora 40 (ARM) Kernel: Depends on container host Compiler: gcc 14.2.1 20240912 (Red Hat 14.2.1-3) Debian 12 with MUSDK Kernel: Depends on container host Compiler: gcc (Debian 12.2.0-14) 12.2.0 Ubuntu 24.04 (ARM) Kernel: Depends on container host Compiler: gcc (Ubuntu 13.3.0-6ubuntu2~24.04) 13.3.0 Fedora 40 (ARM Clang) Kernel: Depends on container host Compiler: clang 18.1.8 (Fedora 18.1.8-1.fc40) Fedora 41 (ARM) Kernel: Depends on container host Compiler: gcc 14.2.1 20240912 (Red Hat 14.2.1-3) Fedora 41 (ARM Clang) Kernel: Depends on container host Compiler: clang 19.1.5 (Fedora 19.1.5-1.fc41) Ubuntu 22.04 (ARM) Kernel: Depends on container host Compiler: gcc (Ubuntu 11.4.0-1ubuntu1~22.04) 11.4.0 Ubuntu 20.04 (ARM) Kernel: Depends on container host Compiler: gcc (Ubuntu 9.4.0-1ubuntu1~20.04.2) 9.4.0 CentOS Stream 10 (ARM) Kernel: Depends on container host Compiler: gcc 14.2.1 20241104 (Red Hat 14.2.1-6) Ubuntu 20.04 aarch32 GCC Cross Compile Kernel: Depends on container host Compiler: gcc 9.4.0 CentOS Stream 9 (ARM) Kernel: Depends on container host Compiler: gcc 11.5.0 20240719 (Red Hat 11.5.0-2) Ubuntu 20.04 ARM Clang Cross Compile Kernel: Depends on container host Compiler: clang 10.0.0-4ubuntu1 RHEL9 (ARM) Kernel: Depends on container host Compiler: gcc 11.5.0 20240719 (Red Hat 11.5.0-2) Debian 12 (arm) Kernel: Depends on container host Compiler: gcc (Debian 12.2.0-14) 12.2.0 To view detailed results, visit: https://lab.dpdk.org/results/dashboard/patchsets/33080/ UNH-IOL DPDK Community Lab To manage your email subscriptions, visit: https://lab.dpdk.org/results/dashboard/preferences/subscriptions/