From mboxrd@z Thu Jan 1 00:00:00 1970 Return-Path: Received: from mails.dpdk.org (mails.dpdk.org [217.70.189.124]) by inbox.dpdk.org (Postfix) with ESMTP id D0DF2465FE for ; Tue, 29 Apr 2025 02:21:41 +0200 (CEST) Received: from mails.dpdk.org (localhost [127.0.0.1]) by mails.dpdk.org (Postfix) with ESMTP id CD154402A3; Tue, 29 Apr 2025 02:21:41 +0200 (CEST) Received: from mail-pl1-f225.google.com (mail-pl1-f225.google.com [209.85.214.225]) by mails.dpdk.org (Postfix) with ESMTP id 2B2F94026C for ; Tue, 29 Apr 2025 02:21:31 +0200 (CEST) Received: by mail-pl1-f225.google.com with SMTP id d9443c01a7336-22c33677183so56799275ad.2 for ; Mon, 28 Apr 2025 17:21:31 -0700 (PDT) DKIM-Signature: v=1; a=rsa-sha256; c=relaxed/relaxed; d=iol.unh.edu; s=unh-iol; t=1745886090; x=1746490890; darn=dpdk.org; h=references:in-reply-to:cc:to:from:subject:message-id:date:from:to :cc:subject:date:message-id:reply-to; bh=qSCA8OFiAxnRvj51lYLmwvV/Nqat1OyisOK2i5Cgh1s=; b=aDPi5EvdMtjNIyr/EE58lqeVPrI3I85RPafvjTZjFvvfiMdOuVK+IV1wJY3LKb4OYo Z1YQjax3yjD0PAsT+srsbPcL626CcENqrHnWaJK7TcnAxas6XczDTmM0CvXWmUnMDeC6 hQyRx/+qBpTmoGAPJACTf2YvGh8Ke9aFV2dcU= X-Google-DKIM-Signature: v=1; a=rsa-sha256; c=relaxed/relaxed; d=1e100.net; s=20230601; t=1745886090; x=1746490890; h=references:in-reply-to:cc:to:from:subject:message-id:date :x-gm-message-state:from:to:cc:subject:date:message-id:reply-to; bh=qSCA8OFiAxnRvj51lYLmwvV/Nqat1OyisOK2i5Cgh1s=; b=gzkw5kAXNVgR8Ft7BGg4Wu3F8BhVVIWD+MFuB6NdFduZEnnbzYWKqAk57yBkTbTbn3 ARSRSWcOUBGAIEoxlnc8N5XjLhR5FssIy5FH876ModVZ8CKX1uLa9fNdPWQrkx/Bo6Sl z6zyz7bVycaPM5rVqA8i7rVrWrZl3LW664XUlmmHhVJB1OARrw/0/CD/n5V3x5lIwRHc PkkVuE1ev3lGfF2eRkjkul8QV7Pghamr/r3FASIZOZtWWLHXlQMkh36abZQXSueEzqu/ PvuEpth113dsaQDwyIpiezJ17SzXsNhSw5ZjK7vEhzf0Oi7TR/TtV1glx1MkGVGXMr7h QXbA== X-Gm-Message-State: AOJu0YxblV6pTiw68pTXnpU4JtVBfGkxXDu6HkxU/+0b9U+qnm8hSRE7 /eKYgxVqa0Flkn7sqeyxOmjO/8LcGI6NgKgi06JCr4PCza94iDvYxL47NUrH6TDBkGxmpb6dGJR RKabEUpVJdLAuwGIZTyGs8KzREuAqbzv/y8b+8eo+ X-Gm-Gg: ASbGnctpMTNPn8oRIiNdxSkMPyzPB8WhTfJyyaIQqDLtuRRUfQIA9PWXpipLP9ZK8wr aylh3O7L1/n7e+Bkdx7gfrrhMEZK+l4hfYMW6LrmNS9Ok1xs8EcLFHv+Hp63YWtcMq+GKwsYmNq XSI4XutU6akCBO5l+Mdrn1IDExe/eYEMf2dmiSesFGh/H6PDdqqqn8GMkeuy2JTG04yVUYD/wcY JCIgu4ryGPj5LzYxUHmJXyLesuccvGvjEwBkugUbB/Mbs3tVMtdb9wMMvGySPUMSz/1rJm7fRxc RwmeNHcbYejqjLayLqd5IlXru2dxrRNSxV11 X-Google-Smtp-Source: AGHT+IEqQds52gqgA8ROpZHNMf43x1eTFiL+EOBZAfmiohh/GQJz7n3g1DPV+9WT489eFFG5PPOP0uIAT1du X-Received: by 2002:a17:903:1a68:b0:224:6ee:ad with SMTP id d9443c01a7336-22dc6a89478mr178684615ad.44.1745886090044; Mon, 28 Apr 2025 17:21:30 -0700 (PDT) Received: from postal.iol.unh.edu (postal.iol.unh.edu. [132.177.123.84]) by smtp-relay.gmail.com with ESMTPS id 41be03b00d2f7-b15f8a89a58sm707709a12.17.2025.04.28.17.21.29 (version=TLS1_2 cipher=ECDHE-ECDSA-AES128-GCM-SHA256 bits=128/128); Mon, 28 Apr 2025 17:21:30 -0700 (PDT) X-Relaying-Domain: iol.unh.edu Date: Mon, 28 Apr 2025 17:21:30 -0700 (PDT) Message-ID: <68101b8a.050a0220.fc7f6.e570SMTPIN_ADDED_MISSING@mx.google.com> Received: from [172.21.0.5] (unknown [172.18.0.240]) by postal.iol.unh.edu (Postfix) with ESMTP id 2332C6052471; Mon, 28 Apr 2025 20:21:29 -0400 (EDT) Subject: |SUCCESS| pw153177-153178 [PATCH] [v6,2/2] node: use node mbuf dynfi From: dpdklab@iol.unh.edu To: Test Report Cc: dpdk-test-reports@iol.unh.edu In-Reply-To: <20250428103711.3317231-3-nsaxena@marvell.com> References: <20250428103711.3317231-3-nsaxena@marvell.com> Content-Type: text/plain X-BeenThere: test-report@dpdk.org X-Mailman-Version: 2.1.29 Precedence: list List-Id: automatic DPDK test reports List-Unsubscribe: , List-Archive: List-Post: List-Help: List-Subscribe: , Errors-To: test-report-bounces@dpdk.org Test-Label: iol-abi-testing Test-Status: SUCCESS http://dpdk.org/patch/153178 _Testing PASS_ Submitter: Nitin Saxena Date: Monday, April 28 2025 10:37:07 DPDK git baseline: Repo:dpdk Branch: master CommitID:ca1690ebd224f148268285b15b97441ccdbdd07e 153177-153178 --> testing pass Upstream job id: Generic-DPDK-Compile-ABI#124706 Test environment and result as below: +-------------------+----------+ | Environment | abi_test | +===================+==========+ | CentOS Stream 10 | PASS | +-------------------+----------+ | CentOS Stream 9 | PASS | +-------------------+----------+ | Debian 12 | PASS | +-------------------+----------+ | openSUSE Leap 15 | PASS | +-------------------+----------+ | Fedora 40 (Clang) | PASS | +-------------------+----------+ | Fedora 41 (Clang) | PASS | +-------------------+----------+ | Fedora 40 | PASS | +-------------------+----------+ | Fedora 41 | PASS | +-------------------+----------+ | Ubuntu 24.04 | PASS | +-------------------+----------+ | RHEL8 | PASS | +-------------------+----------+ | RHEL9 | PASS | +-------------------+----------+ | Ubuntu 22.04 | PASS | +-------------------+----------+ CentOS Stream 10 Kernel: Depends on container host Compiler: gcc 14.2.1 20241104 (Red Hat 14.2.1-6) CentOS Stream 9 Kernel: Depends on container host Compiler: gcc 11.5.0 20240719 (Red Hat 11.5.0-2) Debian 12 Kernel: Depends on container host Compiler: gcc (Debian 12.2.0-14) 12.2.0 openSUSE Leap 15 Kernel: Depends on container host Compiler: gcc (SUSE Linux) 7.5.0 Fedora 40 (Clang) Kernel: Depends on container host Compiler: clang 18.1.8 (Fedora 18.1.8-1.fc40) Fedora 41 (Clang) Kernel: Depends on container host Compiler: clang 19.1.5 (Fedora 19.1.5-1.fc41) Fedora 40 Kernel: Depends on container host Compiler: gcc 14.2.1 20240912 (Red Hat 14.2.1-3) Fedora 41 Kernel: Depends on container host Compiler: gcc 14.2.1 20240912 (Red Hat 14.2.1-3) Ubuntu 24.04 Kernel: Depends on container host Compiler: gcc (Ubuntu 13.3.0-6ubuntu2~24.04) 13.3.0 RHEL8 Kernel: Depends on container host Compiler: gcc 8.5.0 20210514 (Red Hat 8.5.0-22) RHEL9 Kernel: Depends on container host Compiler: gcc 11.5.0 20240719 (Red Hat 11.5.0-2) Ubuntu 22.04 Kernel: Depends on container host Compiler: gcc (Ubuntu 11.4.0-1ubuntu1~22.04) 11.4.0 To view detailed results, visit: https://lab.dpdk.org/results/dashboard/patchsets/33079/ UNH-IOL DPDK Community Lab To manage your email subscriptions, visit: https://lab.dpdk.org/results/dashboard/preferences/subscriptions/