From mboxrd@z Thu Jan 1 00:00:00 1970 Return-Path: Received: from mails.dpdk.org (mails.dpdk.org [217.70.189.124]) by inbox.dpdk.org (Postfix) with ESMTP id E90A6465FE for ; Tue, 29 Apr 2025 02:21:41 +0200 (CEST) Received: from mails.dpdk.org (localhost [127.0.0.1]) by mails.dpdk.org (Postfix) with ESMTP id DC4C34068E; Tue, 29 Apr 2025 02:21:41 +0200 (CEST) Received: from mail-pl1-f225.google.com (mail-pl1-f225.google.com [209.85.214.225]) by mails.dpdk.org (Postfix) with ESMTP id 0ABAB4026C for ; Tue, 29 Apr 2025 02:21:36 +0200 (CEST) Received: by mail-pl1-f225.google.com with SMTP id d9443c01a7336-22c336fcdaaso64139935ad.3 for ; Mon, 28 Apr 2025 17:21:35 -0700 (PDT) DKIM-Signature: v=1; a=rsa-sha256; c=relaxed/relaxed; d=iol.unh.edu; s=unh-iol; t=1745886095; x=1746490895; darn=dpdk.org; h=references:in-reply-to:cc:to:from:subject:message-id:date:from:to :cc:subject:date:message-id:reply-to; bh=Cqb9S0wYK+6Y1+3dd3VIxRBloFruLBYNhkPoFKEI5JY=; b=hShsI/5KiLLnkH9ONBIoN/PTXQEqvVRBPlqbUh3g4zwlS7QKm+8e/orkZofr0hfEH9 qfZQtgowVLvHrGvIcWnKVt5pv7f4LTsAOAE8yluJWmRpkaI0GcZIiWu0iOfM3lFeH/Ft fFhc1hL/X/w8tO0/vzFijAP52LOIda31Hru/g= X-Google-DKIM-Signature: v=1; a=rsa-sha256; c=relaxed/relaxed; d=1e100.net; s=20230601; t=1745886095; x=1746490895; h=references:in-reply-to:cc:to:from:subject:message-id:date :x-gm-message-state:from:to:cc:subject:date:message-id:reply-to; bh=Cqb9S0wYK+6Y1+3dd3VIxRBloFruLBYNhkPoFKEI5JY=; b=OXI727Sl1omxjBAvyjZq8KASH+82bSjzOKQl7IGy1r9RvkFgZG+6tOT35qj74oCFqk T+4JHNr3QW4gTqCg6k5fhaVpnTE63mJiwlVpfcfpWRSQi5BtqD2KeaIULvz6qH48om9l /ca9Lxiaj3A6HuEXA4PyeqTUxVq18SrHqV0Ck0+othrPuzYzhOy7iTyzWWJfBYBVzX4e 1Is2GlqzlmRbnYFpl8EmebpILMLc3DG0xKEkkw5bKgMQocqxXqBI4sVvfAsT5D5FwXI5 kBhJS17DFw09Lk9T0TJa8nBY+HWWGuEZp7Ur65EBBPJ9UzHtiFeLTAwWgmdFDxRAm7Ue 2ytg== X-Gm-Message-State: AOJu0Yz0ghvPIWxOEo7Ql28gNS3b2GPTYztm9NYgzXQtwJH8AFHtMA/D US91x5sXo8JxSHx9Gbt3OldQzE7ynitje08TsrxruIYbVqtwXSwJIpWQ5qqV+OdxUv+69C6nnZb kT86vhqR7FfO/gWGM6Ckp1wQRF81wKjIxYu6esoxkRDmedq6Jg1wCg9vb X-Gm-Gg: ASbGncs8Iwgk9q8fAWrW6Mb6aGBfSBS0zs6+PhFbDk0RPUjao5yaK/6jnnT0tMnEaGI RTeRVLAQHGVdckdozW2KuAS4EzsNbItfbY5Kw3sMYxJx1Mnmk8O7hpONpOIP0B3T+hbZ5wjgh2a CL3vnaE89tf7G7tCmawnZyTc5n4HO7dtu9kMByGObyWM3GyDU62QZRhkKnbO6OKkqj775e40UIl aI4JKuOvxQITUOk4LppV43CYv6I7wI6BhGnXgjZdPjb6FAbqZoJRaZVhbahvaOhengZg5/qGdY9 yBYwR0XQEFElEVfeiddAtjRJu8Gfzn11yCSOQ7IygZg/j/96 X-Google-Smtp-Source: AGHT+IH/HRruFFB/VnyA0hD7Pn7tEslwwrd1jKK6KFB3CH3t8rZehf88dIuPbTrCxg9WNV6hwtZPKlx0PUy2 X-Received: by 2002:a17:903:2a90:b0:220:d79f:60f1 with SMTP id d9443c01a7336-22de6066d53mr20395615ad.42.1745886095351; Mon, 28 Apr 2025 17:21:35 -0700 (PDT) Received: from postal.iol.unh.edu (postal.iol.unh.edu. [2606:4100:3880:1234::84]) by smtp-relay.gmail.com with ESMTPS id d9443c01a7336-22db4de90a1sm12745195ad.46.2025.04.28.17.21.35 (version=TLS1_2 cipher=ECDHE-ECDSA-AES128-GCM-SHA256 bits=128/128); Mon, 28 Apr 2025 17:21:35 -0700 (PDT) X-Relaying-Domain: iol.unh.edu Date: Mon, 28 Apr 2025 17:21:35 -0700 (PDT) Message-ID: <68101b8f.170a0220.14a7e8.c290SMTPIN_ADDED_MISSING@mx.google.com> Received: from [172.17.0.2] (unknown [172.18.0.76]) by postal.iol.unh.edu (Postfix) with ESMTP id BD16C6052471; Mon, 28 Apr 2025 20:21:34 -0400 (EDT) Subject: |SUCCESS| pw153177-153178 [PATCH] [v6,2/2] node: use node mbuf dynfi From: dpdklab@iol.unh.edu To: Test Report Cc: dpdk-test-reports@iol.unh.edu In-Reply-To: <20250428103711.3317231-3-nsaxena@marvell.com> References: <20250428103711.3317231-3-nsaxena@marvell.com> Content-Type: text/plain X-BeenThere: test-report@dpdk.org X-Mailman-Version: 2.1.29 Precedence: list List-Id: automatic DPDK test reports List-Unsubscribe: , List-Archive: List-Post: List-Help: List-Subscribe: , Errors-To: test-report-bounces@dpdk.org Test-Label: iol-abi-testing Test-Status: SUCCESS http://dpdk.org/patch/153178 _Testing PASS_ Submitter: Nitin Saxena Date: Monday, April 28 2025 10:37:07 DPDK git baseline: Repo:dpdk Branch: master CommitID:ca1690ebd224f148268285b15b97441ccdbdd07e 153177-153178 --> testing pass Upstream job id: Generic-DPDK-Compile-ABI#124704 Test environment and result as below: +-------------------+----------+ | Environment | abi_test | +===================+==========+ | CentOS Stream 10 | PASS | +-------------------+----------+ | CentOS Stream 9 | PASS | +-------------------+----------+ | Debian 12 | PASS | +-------------------+----------+ | openSUSE Leap 15 | PASS | +-------------------+----------+ | Fedora 40 (Clang) | PASS | +-------------------+----------+ | Fedora 41 (Clang) | PASS | +-------------------+----------+ | Fedora 40 | PASS | +-------------------+----------+ | Fedora 41 | PASS | +-------------------+----------+ | Ubuntu 24.04 | PASS | +-------------------+----------+ | RHEL8 | PASS | +-------------------+----------+ | RHEL9 | PASS | +-------------------+----------+ | Ubuntu 22.04 | PASS | +-------------------+----------+ CentOS Stream 10 Kernel: Depends on container host Compiler: gcc 14.2.1 20241104 (Red Hat 14.2.1-6) CentOS Stream 9 Kernel: Depends on container host Compiler: gcc 11.5.0 20240719 (Red Hat 11.5.0-2) Debian 12 Kernel: Depends on container host Compiler: gcc (Debian 12.2.0-14) 12.2.0 openSUSE Leap 15 Kernel: Depends on container host Compiler: gcc (SUSE Linux) 7.5.0 Fedora 40 (Clang) Kernel: Depends on container host Compiler: clang 18.1.8 (Fedora 18.1.8-1.fc40) Fedora 41 (Clang) Kernel: Depends on container host Compiler: clang 19.1.5 (Fedora 19.1.5-1.fc41) Fedora 40 Kernel: Depends on container host Compiler: gcc 14.2.1 20240912 (Red Hat 14.2.1-3) Fedora 41 Kernel: Depends on container host Compiler: gcc 14.2.1 20240912 (Red Hat 14.2.1-3) Ubuntu 24.04 Kernel: Depends on container host Compiler: gcc (Ubuntu 13.3.0-6ubuntu2~24.04) 13.3.0 RHEL8 Kernel: Depends on container host Compiler: gcc 8.5.0 20210514 (Red Hat 8.5.0-22) RHEL9 Kernel: Depends on container host Compiler: gcc 11.5.0 20240719 (Red Hat 11.5.0-2) Ubuntu 22.04 Kernel: Depends on container host Compiler: gcc (Ubuntu 11.4.0-1ubuntu1~22.04) 11.4.0 To view detailed results, visit: https://lab.dpdk.org/results/dashboard/patchsets/33079/ UNH-IOL DPDK Community Lab To manage your email subscriptions, visit: https://lab.dpdk.org/results/dashboard/preferences/subscriptions/