From mboxrd@z Thu Jan 1 00:00:00 1970 Return-Path: Received: from mails.dpdk.org (mails.dpdk.org [217.70.189.124]) by inbox.dpdk.org (Postfix) with ESMTP id 5CE4946658 for ; Tue, 29 Apr 2025 02:24:42 +0200 (CEST) Received: from mails.dpdk.org (localhost [127.0.0.1]) by mails.dpdk.org (Postfix) with ESMTP id 2FF72402A3; Tue, 29 Apr 2025 02:24:42 +0200 (CEST) Received: from mail-ot1-f100.google.com (mail-ot1-f100.google.com [209.85.210.100]) by mails.dpdk.org (Postfix) with ESMTP id 7DF5C4026C for ; Tue, 29 Apr 2025 02:24:40 +0200 (CEST) Received: by mail-ot1-f100.google.com with SMTP id 46e09a7af769-72c7336ed99so1336405a34.0 for ; Mon, 28 Apr 2025 17:24:40 -0700 (PDT) DKIM-Signature: v=1; a=rsa-sha256; c=relaxed/relaxed; d=iol.unh.edu; s=unh-iol; t=1745886279; x=1746491079; darn=dpdk.org; h=references:in-reply-to:cc:to:from:subject:message-id:date:from:to :cc:subject:date:message-id:reply-to; bh=8Y4MOsTVHdg4SoQE2qgzhx1d4q6rwiMZOc+1Kbwu+io=; b=Ax11J3v4hI19R7cP4N7OqILSoNJOIvLK9B8BPp0rogsQ8iGL9DeO4q1loSg8Fppb47 eJILw4lzL+heCQuJn4ngNALAdO16tAaLNPuE2bBm/YSvLd/NMcOrvHWBwUIfmM5oPuTv NeUMjcy52dy4qlIY+I/h4I7DQSQXGoyymAO+g= X-Google-DKIM-Signature: v=1; a=rsa-sha256; c=relaxed/relaxed; d=1e100.net; s=20230601; t=1745886279; x=1746491079; h=references:in-reply-to:cc:to:from:subject:message-id:date :x-gm-message-state:from:to:cc:subject:date:message-id:reply-to; bh=8Y4MOsTVHdg4SoQE2qgzhx1d4q6rwiMZOc+1Kbwu+io=; b=RhNec+ocipU1LNr7+L59C8ZnvHeK115KMyQWM8eEkwr2ipFRlulHZ6rki52iH+u/uZ IkeQwFIX4JRlesFZM7YeZzupfFdscP5hQ8CVquUfPvZnJYVBqwZ46E/qaFAV1cB4lOcK ztX5iUtSXViGm20LBDi2SpQ9B9kbU0RQ1dAL9zTyOndGGwoZ4Us1vz7//FCj8p606PNp DYZIVFi5UkG6uzjKUyyNaEJHWy3mib8omD3G+FGXdu/nTcNxOWlEP84oTynEQhFh6vnV h1qxqMqmgn0nX6HzR2Jrdd4q4Tdw0lqomEz/1A8h5y5kOFtDAjnmwVpumRCLMtvs8KhE MGSw== X-Gm-Message-State: AOJu0YyOmeyaBViZBQbF7xW8NoDaF9qQq6rLo2tKDVZAfPWcI5u9G300 vGP3d9gjKd2nb+AHhX0AMmMB45Zs1EF2Yn63QmEWWuGp4k5lKgu12H1FsxmzA5fPR7b4bvvBcsa uF6QtnjMVZDm+Dt4y5Iyz0WKqEJx7FO+6BLcvSJyj X-Gm-Gg: ASbGncsMazOM3+aYkVkrWV9gJWhJxGGfpvxwXrWLrHnhqz98tw0VC5WcDmM93fQZDk9 Z/eBuTm/NITDkj3XrfP+3Vu1Y3p/1+qARt3aiDS/Znj8nBmchJxUEjo7JjvEtsSJAOr5TUwRPqT r4Xf13TkN1PkwO+x3wOxfXLuvb0Ab+BCzJJdr3yKTBS/DKt9DpDIDryffsyq0DmWcHkQvxS33OB jFrlli7xWyjdSLNNnM0tmNarlfgsHWECK460jraVEchT74IriLwLCOdp5yJrLV4bXHcr/eUyhN5 Q+znLk2TuQrF6uTTIo2d4Gg0o+sUo1Q36wES X-Google-Smtp-Source: AGHT+IF7tp9ssxuuk9++kxocwi6CB4UqHNDq2jIq2oupbGCGBmvYvcg2vPNge/d3NfnlpsWNfQdAr3Nkul0O X-Received: by 2002:a05:6808:3604:b0:3f9:2fdc:eeac with SMTP id 5614622812f47-401fd7be0cfmr5218896b6e.33.1745886279534; Mon, 28 Apr 2025 17:24:39 -0700 (PDT) Received: from postal.iol.unh.edu (postal.iol.unh.edu. [132.177.123.84]) by smtp-relay.gmail.com with ESMTPS id 006d021491bc7-60686fddbaasm7194eaf.16.2025.04.28.17.24.39 (version=TLS1_2 cipher=ECDHE-ECDSA-AES128-GCM-SHA256 bits=128/128); Mon, 28 Apr 2025 17:24:39 -0700 (PDT) X-Relaying-Domain: iol.unh.edu Date: Mon, 28 Apr 2025 17:24:39 -0700 (PDT) Message-ID: <68101c47.050a0220.1ae89d.06baSMTPIN_ADDED_MISSING@mx.google.com> Received: from [172.17.0.2] (unknown [172.18.0.76]) by postal.iol.unh.edu (Postfix) with ESMTP id 936266052471; Mon, 28 Apr 2025 20:24:38 -0400 (EDT) Subject: |SUCCESS| pw153177-153178 [PATCH] [v6,2/2] node: use node mbuf dynfi From: dpdklab@iol.unh.edu To: Test Report Cc: dpdk-test-reports@iol.unh.edu In-Reply-To: <20250428103711.3317231-3-nsaxena@marvell.com> References: <20250428103711.3317231-3-nsaxena@marvell.com> Content-Type: text/plain X-BeenThere: test-report@dpdk.org X-Mailman-Version: 2.1.29 Precedence: list List-Id: automatic DPDK test reports List-Unsubscribe: , List-Archive: List-Post: List-Help: List-Subscribe: , Errors-To: test-report-bounces@dpdk.org Test-Label: iol-unit-amd64-testing Test-Status: SUCCESS http://dpdk.org/patch/153178 _Testing PASS_ Submitter: Nitin Saxena Date: Monday, April 28 2025 10:37:07 DPDK git baseline: Repo:dpdk Branch: master CommitID:ca1690ebd224f148268285b15b97441ccdbdd07e 153177-153178 --> testing pass Upstream job id: Generic-Unit-Test-DPDK#334120 Test environment and result as below: +---------------------+----------------+ | Environment | dpdk_unit_test | +=====================+================+ | CentOS Stream 10 | PASS | +---------------------+----------------+ | CentOS Stream 9 | PASS | +---------------------+----------------+ | Debian 12 | PASS | +---------------------+----------------+ | Fedora 40 (Clang) | PASS | +---------------------+----------------+ | Fedora 41 | PASS | +---------------------+----------------+ | Fedora 40 | PASS | +---------------------+----------------+ | Fedora 41 (Clang) | PASS | +---------------------+----------------+ | RHEL8 | PASS | +---------------------+----------------+ | RHEL9 | PASS | +---------------------+----------------+ | Ubuntu 24.04 | PASS | +---------------------+----------------+ | Ubuntu 22.04 | PASS | +---------------------+----------------+ | Ubuntu 20.04 | PASS | +---------------------+----------------+ | Windows Server 2022 | PASS | +---------------------+----------------+ CentOS Stream 10 Kernel: Depends on container host Compiler: gcc 14.2.1 20241104 (Red Hat 14.2.1-6) CentOS Stream 9 Kernel: Depends on container host Compiler: gcc 11.5.0 20240719 (Red Hat 11.5.0-2) Debian 12 Kernel: Depends on container host Compiler: gcc (Debian 12.2.0-14) 12.2.0 Fedora 40 (Clang) Kernel: Depends on container host Compiler: clang 18.1.8 (Fedora 18.1.8-1.fc40) Fedora 41 Kernel: Depends on container host Compiler: gcc 14.2.1 20240912 (Red Hat 14.2.1-3) Fedora 40 Kernel: Depends on container host Compiler: gcc 14.2.1 20240912 (Red Hat 14.2.1-3) Fedora 41 (Clang) Kernel: Depends on container host Compiler: clang 19.1.5 (Fedora 19.1.5-1.fc41) RHEL8 Kernel: Depends on container host Compiler: gcc 8.5.0 20210514 (Red Hat 8.5.0-22) RHEL9 Kernel: Depends on container host Compiler: gcc 11.5.0 20240719 (Red Hat 11.5.0-2) Ubuntu 24.04 Kernel: Depends on container host Compiler: gcc (Ubuntu 13.3.0-6ubuntu2~24.04) 13.3.0 Ubuntu 22.04 Kernel: Depends on container host Compiler: gcc (Ubuntu 11.4.0-1ubuntu1~22.04) 11.4.0 Ubuntu 20.04 Kernel: Depends on container host Compiler: gcc (Ubuntu 9.4.0-1ubuntu1~20.04.2) 9.4.0 Windows Server 2022 Kernel: 10.0.20348.2031 Compiler: clang 15.0.7, gcc 14.1.0 (MinGW), and MSVC VS 19.39.33521 To view detailed results, visit: https://lab.dpdk.org/results/dashboard/patchsets/33079/ UNH-IOL DPDK Community Lab To manage your email subscriptions, visit: https://lab.dpdk.org/results/dashboard/preferences/subscriptions/