From mboxrd@z Thu Jan 1 00:00:00 1970 Return-Path: Received: from mails.dpdk.org (mails.dpdk.org [217.70.189.124]) by inbox.dpdk.org (Postfix) with ESMTP id 25ABE4662B for ; Tue, 29 Apr 2025 02:49:29 +0200 (CEST) Received: from mails.dpdk.org (localhost [127.0.0.1]) by mails.dpdk.org (Postfix) with ESMTP id 00BEA402A3; Tue, 29 Apr 2025 02:49:29 +0200 (CEST) Received: from mail-io1-f99.google.com (mail-io1-f99.google.com [209.85.166.99]) by mails.dpdk.org (Postfix) with ESMTP id 69C4B4026C for ; Tue, 29 Apr 2025 02:49:28 +0200 (CEST) Received: by mail-io1-f99.google.com with SMTP id ca18e2360f4ac-861b1f04b99so177276339f.0 for ; Mon, 28 Apr 2025 17:49:28 -0700 (PDT) DKIM-Signature: v=1; a=rsa-sha256; c=relaxed/relaxed; d=iol.unh.edu; s=unh-iol; t=1745887767; x=1746492567; darn=dpdk.org; h=references:in-reply-to:cc:to:from:subject:message-id:date:from:to :cc:subject:date:message-id:reply-to; bh=lm2vyFkWzIvPHYcEd+YFRj1QtbMP60lkjEaApOVGVzo=; b=jtcDknhOF7ha65hh6kK/uNqHcbtN4Ca36smXj1zXGOO48KXn+7mdNquKPCsYIvbrO7 UR/FcVJsCwj+iyyNEv3IXW5VK6kes+lWz4Y0NZTGhjBQ9qVZ5OyMqoG9BqpVwzHqLxjE ez4oIFeKwEYy7kxO2L/4bW382fteyGRfDuxFk= X-Google-DKIM-Signature: v=1; a=rsa-sha256; c=relaxed/relaxed; d=1e100.net; s=20230601; t=1745887767; x=1746492567; h=references:in-reply-to:cc:to:from:subject:message-id:date :x-gm-message-state:from:to:cc:subject:date:message-id:reply-to; bh=lm2vyFkWzIvPHYcEd+YFRj1QtbMP60lkjEaApOVGVzo=; b=USX2kl9+LLsNEoO/ApgWHtoz+eWLxONtATUH4KEKEtf10XSd5fE5so6R33MRH2IHLa +dGK1qng7Da8A+JX1WAHP6g2uTMqimkLIITX76PMvrau30uzVPL9VntT9EZdoM1Oy/cn cFME9z4+BSDjPz9tt4kp0lCZF1nh8faMR2+msYBAEtCn55BvHzZzb75eHO8Cs5GM0oU+ hqvkawHHMp9sSgtSMDGYy/LvtxW67+8/bWRFwgO4ozPNlEFOfxWx/w+3iNT7NPqxt1or 5Zs16kUamlMB2idXStdOgaEH1QPRr6irMXpMPpjouT0/dml10aGwIo0v2p4gO4FzEfeg DV0g== X-Gm-Message-State: AOJu0Yy8HcDSvjaM1n59uDXdmBlhdt4jgfbbcP/HCxGGOqXclEEFt3J+ 5LGCQ8Z6OQy4bUDYRRjGzlufUB/kEiWrVYDoYiUYqaJFKOt5CMlNd88vEpdhG0OlLSDvV0mrrIJ pU2aGVqY/+mEcPMPy/EFzw50j/XiQEVnytbmuBXao X-Gm-Gg: ASbGnctxVF9lbaCYShcX6OIkeB/7wntyAaZ8/NOOU/PtGXMtq6GVqofKGMqjn6jLLGp sY0Ugq61xLccRKBjabf6YdgT3fCkinBf+6lBdk3VZ41WKVYchCIKcXWEXlU9Fi8+TZeMlsBhrQG 7soXY8oj+MnSZS/YlAwkZ2OhCQ57qZTW5mCchfYk1VPnc/Hr+efUhhbXwVowcJyRmXmeaA5DqXX dTWM0rN7WgIXKAFZ8QK/+wN1j1aIoK9IkxYPAwgakSwIoMq/x6kW30WEwr9gmXPl8c6pbxztQM5 fZRcYLvuYNqLMpEkxBFQLhtGYDHSVvlEAebi X-Google-Smtp-Source: AGHT+IEkWMU/m/TDXJGyqoqhEmK5YX4/aT3xmeblq2AUVoHq78wnatHbNsCTKJJw0Y/kMm4sriMaMph2me/Y X-Received: by 2002:a05:6e02:b28:b0:3d5:dec0:7c03 with SMTP id e9e14a558f8ab-3d95d273958mr18899855ab.12.1745887767619; Mon, 28 Apr 2025 17:49:27 -0700 (PDT) Received: from postal.iol.unh.edu (postal.iol.unh.edu. [132.177.123.84]) by smtp-relay.gmail.com with ESMTPS id 8926c6da1cb9f-4f8630ccfbasm15336173.68.2025.04.28.17.49.27 (version=TLS1_2 cipher=ECDHE-ECDSA-AES128-GCM-SHA256 bits=128/128); Mon, 28 Apr 2025 17:49:27 -0700 (PDT) X-Relaying-Domain: iol.unh.edu Date: Mon, 28 Apr 2025 17:49:27 -0700 (PDT) Message-ID: <68102217.050a0220.390f22.0f2dSMTPIN_ADDED_MISSING@mx.google.com> Received: from [172.17.0.2] (unknown [172.18.0.76]) by postal.iol.unh.edu (Postfix) with ESMTP id 0602F6052471; Mon, 28 Apr 2025 20:49:27 -0400 (EDT) Subject: |SUCCESS| pw153177-153178 [PATCH] [v6,2/2] node: use node mbuf dynfi From: dpdklab@iol.unh.edu To: Test Report Cc: dpdk-test-reports@iol.unh.edu In-Reply-To: <20250428103711.3317231-3-nsaxena@marvell.com> References: <20250428103711.3317231-3-nsaxena@marvell.com> Content-Type: text/plain X-BeenThere: test-report@dpdk.org X-Mailman-Version: 2.1.29 Precedence: list List-Id: automatic DPDK test reports List-Unsubscribe: , List-Archive: List-Post: List-Help: List-Subscribe: , Errors-To: test-report-bounces@dpdk.org Test-Label: iol-compile-amd64-testing Test-Status: SUCCESS http://dpdk.org/patch/153178 _Testing PASS_ Submitter: Nitin Saxena Date: Monday, April 28 2025 10:37:07 DPDK git baseline: Repo:dpdk Branch: master CommitID:ca1690ebd224f148268285b15b97441ccdbdd07e 153177-153178 --> testing pass Upstream job id: Generic-DPDK-Compile-Meson#383585 Test environment and result as below: +-----------------------------------+--------------------+------------------+-------------------+-------------------------+-------------------+----------------------+ | Environment | dpdk_meson_compile | dpdk_compile_ovs | dpdk_compile_spdk | dpdk_llvm_clang_compile | dpdk_msvc_compile | dpdk_mingw64_compile | +===================================+====================+==================+===================+=========================+===================+======================+ | openSUSE Leap 15 | PASS | SKIPPED | SKIPPED | SKIPPED | SKIPPED | SKIPPED | +-----------------------------------+--------------------+------------------+-------------------+-------------------------+-------------------+----------------------+ | CentOS Stream 10 | PASS | SKIPPED | SKIPPED | SKIPPED | SKIPPED | SKIPPED | +-----------------------------------+--------------------+------------------+-------------------+-------------------------+-------------------+----------------------+ | Fedora 41 | PASS | PASS | PASS | SKIPPED | SKIPPED | SKIPPED | +-----------------------------------+--------------------+------------------+-------------------+-------------------------+-------------------+----------------------+ | Debian 12 | PASS | SKIPPED | PASS | SKIPPED | SKIPPED | SKIPPED | +-----------------------------------+--------------------+------------------+-------------------+-------------------------+-------------------+----------------------+ | CentOS Stream 9 | PASS | SKIPPED | PASS | SKIPPED | SKIPPED | SKIPPED | +-----------------------------------+--------------------+------------------+-------------------+-------------------------+-------------------+----------------------+ | Fedora 40 | PASS | SKIPPED | PASS | SKIPPED | SKIPPED | SKIPPED | +-----------------------------------+--------------------+------------------+-------------------+-------------------------+-------------------+----------------------+ | Fedora 40 (Clang) | PASS | SKIPPED | PASS | SKIPPED | SKIPPED | SKIPPED | +-----------------------------------+--------------------+------------------+-------------------+-------------------------+-------------------+----------------------+ | Fedora 41 (Clang) | PASS | PASS | PASS | SKIPPED | SKIPPED | SKIPPED | +-----------------------------------+--------------------+------------------+-------------------+-------------------------+-------------------+----------------------+ | Ubuntu 22.04 | PASS | SKIPPED | PASS | SKIPPED | SKIPPED | SKIPPED | +-----------------------------------+--------------------+------------------+-------------------+-------------------------+-------------------+----------------------+ | RHEL8 | PASS | SKIPPED | SKIPPED | SKIPPED | SKIPPED | SKIPPED | +-----------------------------------+--------------------+------------------+-------------------+-------------------------+-------------------+----------------------+ | Ubuntu 24.04 32 Bit Cross Compile | PASS | SKIPPED | SKIPPED | SKIPPED | SKIPPED | SKIPPED | +-----------------------------------+--------------------+------------------+-------------------+-------------------------+-------------------+----------------------+ | Ubuntu 24.04 | PASS | PASS | PASS | SKIPPED | SKIPPED | SKIPPED | +-----------------------------------+--------------------+------------------+-------------------+-------------------------+-------------------+----------------------+ | RHEL9 | PASS | SKIPPED | SKIPPED | SKIPPED | SKIPPED | SKIPPED | +-----------------------------------+--------------------+------------------+-------------------+-------------------------+-------------------+----------------------+ | Ubuntu 20.04 | PASS | SKIPPED | SKIPPED | SKIPPED | SKIPPED | SKIPPED | +-----------------------------------+--------------------+------------------+-------------------+-------------------------+-------------------+----------------------+ | FreeBSD 13.5 | PASS | SKIPPED | SKIPPED | SKIPPED | SKIPPED | SKIPPED | +-----------------------------------+--------------------+------------------+-------------------+-------------------------+-------------------+----------------------+ | Alpine | PASS | SKIPPED | SKIPPED | SKIPPED | SKIPPED | SKIPPED | +-----------------------------------+--------------------+------------------+-------------------+-------------------------+-------------------+----------------------+ | FreeBSD 14.2 | PASS | SKIPPED | SKIPPED | SKIPPED | SKIPPED | SKIPPED | +-----------------------------------+--------------------+------------------+-------------------+-------------------------+-------------------+----------------------+ | Windows Server 2022 | SKIPPED | SKIPPED | SKIPPED | PASS | PASS | PASS | +-----------------------------------+--------------------+------------------+-------------------+-------------------------+-------------------+----------------------+ openSUSE Leap 15 Kernel: Depends on container host Compiler: gcc (SUSE Linux) 7.5.0 CentOS Stream 10 Kernel: Depends on container host Compiler: gcc 14.2.1 20241104 (Red Hat 14.2.1-6) Fedora 41 Kernel: Depends on container host Compiler: gcc 14.2.1 20240912 (Red Hat 14.2.1-3) Debian 12 Kernel: Depends on container host Compiler: gcc (Debian 12.2.0-14) 12.2.0 CentOS Stream 9 Kernel: Depends on container host Compiler: gcc 11.5.0 20240719 (Red Hat 11.5.0-2) Fedora 40 Kernel: Depends on container host Compiler: gcc 14.2.1 20240912 (Red Hat 14.2.1-3) Fedora 40 (Clang) Kernel: Depends on container host Compiler: clang 18.1.8 (Fedora 18.1.8-1.fc40) Fedora 41 (Clang) Kernel: Depends on container host Compiler: clang 19.1.5 (Fedora 19.1.5-1.fc41) Ubuntu 22.04 Kernel: Depends on container host Compiler: gcc (Ubuntu 11.4.0-1ubuntu1~22.04) 11.4.0 RHEL8 Kernel: Depends on container host Compiler: gcc 8.5.0 20210514 (Red Hat 8.5.0-22) Ubuntu 24.04 32 Bit Cross Compile Kernel: Depends on container host Compiler: gcc (Ubuntu 13.3.0-6ubuntu2~24.04) 13.3.0 Ubuntu 24.04 Kernel: Depends on container host Compiler: gcc (Ubuntu 13.3.0-6ubuntu2~24.04) 13.3.0 RHEL9 Kernel: Depends on container host Compiler: gcc 11.5.0 20240719 (Red Hat 11.5.0-2) Ubuntu 20.04 Kernel: Depends on container host Compiler: gcc (Ubuntu 9.4.0-1ubuntu1~20.04.2) 9.4.0 FreeBSD 13.5 Kernel: 13.5-RELEASE Compiler: clang 19.1.7 Alpine Kernel: Depends on container host Compiler: gcc (Alpine 14.2.0) 14.2.0 FreeBSD 14.2 Kernel: 14.2-RELEASE Compiler: clang 18.1.6 Windows Server 2022 Kernel: 10.0.20348.2031 Compiler: clang 15.0.7, gcc 14.1.0 (MinGW), and MSVC VS 19.39.33521 To view detailed results, visit: https://lab.dpdk.org/results/dashboard/patchsets/33079/ UNH-IOL DPDK Community Lab To manage your email subscriptions, visit: https://lab.dpdk.org/results/dashboard/preferences/subscriptions/