From mboxrd@z Thu Jan 1 00:00:00 1970 Return-Path: Received: from mails.dpdk.org (mails.dpdk.org [217.70.189.124]) by inbox.dpdk.org (Postfix) with ESMTP id 5C3D14662B for ; Tue, 29 Apr 2025 02:51:44 +0200 (CEST) Received: from mails.dpdk.org (localhost [127.0.0.1]) by mails.dpdk.org (Postfix) with ESMTP id 49D17402A3; Tue, 29 Apr 2025 02:51:44 +0200 (CEST) Received: from mail-pl1-f227.google.com (mail-pl1-f227.google.com [209.85.214.227]) by mails.dpdk.org (Postfix) with ESMTP id 3D93A4026C for ; Tue, 29 Apr 2025 02:51:43 +0200 (CEST) Received: by mail-pl1-f227.google.com with SMTP id d9443c01a7336-227b828de00so54624905ad.1 for ; Mon, 28 Apr 2025 17:51:43 -0700 (PDT) DKIM-Signature: v=1; a=rsa-sha256; c=relaxed/relaxed; d=iol.unh.edu; s=unh-iol; t=1745887902; x=1746492702; darn=dpdk.org; h=references:in-reply-to:cc:to:from:subject:message-id:date:from:to :cc:subject:date:message-id:reply-to; bh=mwKIWsABWPs03XqixocVu0wRcXsd61kdXH7j5gu8Jo0=; b=cpWERLNwtECnjzkaf8pFIs1+XPN+7ybONxzy+EoAgm+laGfOg3Hh0P3TI258nbFj0q J6FWx4Hr0OK0+BdXlyTOlrW9+HTmXLoX6qpLjo8d+S6fPA8PbXzcENqfFcLZYkkHiElL 7aRz//g+QnZV27cVp1wrrpi3mtS70HEWYN+sQ= X-Google-DKIM-Signature: v=1; a=rsa-sha256; c=relaxed/relaxed; d=1e100.net; s=20230601; t=1745887902; x=1746492702; h=references:in-reply-to:cc:to:from:subject:message-id:date :x-gm-message-state:from:to:cc:subject:date:message-id:reply-to; bh=mwKIWsABWPs03XqixocVu0wRcXsd61kdXH7j5gu8Jo0=; b=ipuFl6hk9p8r/CorzDw/2t/m4/TiBk/25f+i4JUzVOOOFAnFCKqRr3cTUBZtnnKFuP sUalzdzkWmZ/ZaDtLus0rDq+EIdmDq5CdOaI8g5RsPD/vBcpGZDGdIGl1HhXWRHjuUhZ dCTWeQcChAP0Qv85Ia34r/iftvbeZqYFOc2QRzzZfbHDCfL3CW9MogDGqXimrih3iMRr WfkCkalLeCJw4Oip2+563Xwl3HoWpRyJF6SWywyWfNAkQnKRuPATYHtKIIcbhT4E21tV 2J5EWaBj75QGmvTnM956cJFBIqfPv6vZyIv6Oblk9LpvoX2w0LuxuUEhcnmRJULOu6f8 rgPw== X-Gm-Message-State: AOJu0YyINHWwIgFujOkcB+gS5qCgAIr9h7KLeypM0jFUfcG5WgFrqhXy X9dju1lg7Zhp5o4FPrtjNNUcEBIVNMjOUPxriPuS0QvlBELFbS0Lpk7M6Es/oJPpLmPhP/FZ/3s zeykTQ0qpOq9o40l6e7Mb9lnkM3SghsNfhxfKUzhrjJn73hvJ68cZUVts X-Gm-Gg: ASbGncuE8HBDgmVkTAxinjKeM3LPKBI9WPXENDGtC4dyndUJBcBP6pAOigRax5n+4vB iz6pwnVXb4Q5jITtouTA8fu1MxvtFMTYCcQTcI3viLpXnHn9su331389/2Fr0/vs4XAer5rUEg/ 2u4i/QAz89CmDP6Q/uXCY4rA6WNFBXFOy7IEgLgVvcoU3bvzdI6zcNcfHgK9FdQOAV5oCxCHV8A kF4i6Ugnv6wLW9n30C9NL682e2vb4BZvvqurF0PZGWs934ycJXk9qnDUpr/FvukJcRk6y54e+py PvWYiVknSBCo5BLQBshzG1pvVuV69+US3kccFgALX7YmeMY9 X-Google-Smtp-Source: AGHT+IGjhGoq3CQQhvLu+kFkSCqU10Dwaph7jcUNR//KhBpVOyPLVH/JoNyR3T/cAarNg9U24N+JC9Ax+2Lz X-Received: by 2002:a17:903:1b2e:b0:215:bc30:c952 with SMTP id d9443c01a7336-22de70072f4mr13556155ad.6.1745887901889; Mon, 28 Apr 2025 17:51:41 -0700 (PDT) Received: from postal.iol.unh.edu (postal.iol.unh.edu. [2606:4100:3880:1234::84]) by smtp-relay.gmail.com with ESMTPS id d9443c01a7336-22db5216c41sm12753475ad.112.2025.04.28.17.51.41 (version=TLS1_2 cipher=ECDHE-ECDSA-AES128-GCM-SHA256 bits=128/128); Mon, 28 Apr 2025 17:51:41 -0700 (PDT) X-Relaying-Domain: iol.unh.edu Date: Mon, 28 Apr 2025 17:51:41 -0700 (PDT) Message-ID: <6810229d.170a0220.39485.c089SMTPIN_ADDED_MISSING@mx.google.com> Received: from [172.17.0.2] (unknown [172.18.0.76]) by postal.iol.unh.edu (Postfix) with ESMTP id 959ED6052471; Mon, 28 Apr 2025 20:51:40 -0400 (EDT) Subject: |SUCCESS| pw153177-153178 [PATCH] [v6,2/2] node: use node mbuf dynfi From: dpdklab@iol.unh.edu To: Test Report Cc: dpdk-test-reports@iol.unh.edu In-Reply-To: <20250428103711.3317231-3-nsaxena@marvell.com> References: <20250428103711.3317231-3-nsaxena@marvell.com> Content-Type: text/plain X-BeenThere: test-report@dpdk.org X-Mailman-Version: 2.1.29 Precedence: list List-Id: automatic DPDK test reports List-Unsubscribe: , List-Archive: List-Post: List-Help: List-Subscribe: , Errors-To: test-report-bounces@dpdk.org Test-Label: iol-sample-apps-testing Test-Status: SUCCESS http://dpdk.org/patch/153178 _Testing PASS_ Submitter: Nitin Saxena Date: Monday, April 28 2025 10:37:07 DPDK git baseline: Repo:dpdk Branch: master CommitID:ca1690ebd224f148268285b15b97441ccdbdd07e 153177-153178 --> testing pass Upstream job id: ACVP-FIPS-testing#9663 Test environment and result as below: +--------------------+----------------------+----------------------+ | Environment | compressdev_zlib_pmd | dpdk_fips_validation | +====================+======================+======================+ | Ubuntu 22.04 (ARM) | PASS | SKIPPED | +--------------------+----------------------+----------------------+ | Ubuntu 22.04 | PASS | SKIPPED | +--------------------+----------------------+----------------------+ | Ubuntu 20.04 | SKIPPED | PASS | +--------------------+----------------------+----------------------+ Ubuntu 22.04 (ARM) Kernel: 5.15.0-97-generic Compiler: gcc gcc (Ubuntu 11.4.0-1ubuntu1~22.04) 11.4.0 Ubuntu 22.04 Kernel: 5.15.0-100-generic Compiler: gcc gcc (Ubuntu 11.4.0-1ubuntu1~22.04) 11.4.0 Ubuntu 20.04 Kernel: Depends on container host Compiler: gcc (Ubuntu 9.4.0-1ubuntu1~20.04.2) 9.4.0 To view detailed results, visit: https://lab.dpdk.org/results/dashboard/patchsets/33079/ UNH-IOL DPDK Community Lab To manage your email subscriptions, visit: https://lab.dpdk.org/results/dashboard/preferences/subscriptions/