From mboxrd@z Thu Jan 1 00:00:00 1970 Return-Path: Received: from mails.dpdk.org (mails.dpdk.org [217.70.189.124]) by inbox.dpdk.org (Postfix) with ESMTP id 3EA4E4662B for ; Tue, 29 Apr 2025 02:59:56 +0200 (CEST) Received: from mails.dpdk.org (localhost [127.0.0.1]) by mails.dpdk.org (Postfix) with ESMTP id 16A0C402A3; Tue, 29 Apr 2025 02:59:56 +0200 (CEST) Received: from mail-io1-f100.google.com (mail-io1-f100.google.com [209.85.166.100]) by mails.dpdk.org (Postfix) with ESMTP id A5C9D4026C for ; Tue, 29 Apr 2025 02:59:54 +0200 (CEST) Received: by mail-io1-f100.google.com with SMTP id ca18e2360f4ac-861b1f04b99so177455139f.0 for ; Mon, 28 Apr 2025 17:59:54 -0700 (PDT) DKIM-Signature: v=1; a=rsa-sha256; c=relaxed/relaxed; d=iol.unh.edu; s=unh-iol; t=1745888393; x=1746493193; darn=dpdk.org; h=references:in-reply-to:cc:to:from:subject:message-id:date:from:to :cc:subject:date:message-id:reply-to; bh=Tdnn2jWcM5caO3w2dluwHJy6CjYcZ890zctqiCDw6Oc=; b=bwnsFdvNALSrbZ4vOnn0vzzsx2d/Tt0Mx787fzBAIL0i2cNr2ZFnErgYN+6guQM15y QEjZtwCmnTLphNosIcu2zPx4aXD1D+hWsWGohxY/6EJ62J83gWn1a9hxeW1t4gXsx4A2 /ZKm+e+Cej/aKG1/PsWPl2pJh0fVjDw8Q1hzc= X-Google-DKIM-Signature: v=1; a=rsa-sha256; c=relaxed/relaxed; d=1e100.net; s=20230601; t=1745888393; x=1746493193; h=references:in-reply-to:cc:to:from:subject:message-id:date :x-gm-message-state:from:to:cc:subject:date:message-id:reply-to; bh=Tdnn2jWcM5caO3w2dluwHJy6CjYcZ890zctqiCDw6Oc=; b=qzK55xitJN7E8aW9MTZQoDNlx7jJfyErUg3Sk2vFwEBXQQmcAYdZ/hx+MzHDOeXEsv grGg89CNdZLCurQUb16Fq2RzOGmRNzu/45DNkcCgfY8A+4fdiIW2uNAjZubtHqSyklvF CIf4IOmKXLvPI4/RtCJGuDZq63ZT89WeOWdC1+0/avSUcGtBl9cfvlQSWwGe+ncdV8GT yRcej21MjU5/k2mKER/KTtaF98v+lt8VO2nJKEESJ+dlpW7iZFQUxXlS89TjZDMEG4CH h8ZJqgqcZ6KalCOBkL3f2laeP2qAeODEDcTM+mT3RqCO////f0B5Ijz+X4Gap8aKElDS Pdag== X-Gm-Message-State: AOJu0YzzUyE7PqEiwACNTb9tvWjo+lw6RbCRA0Zf1j94lAygPGBdlj3K iwdibpgQsywsgxV37EhnzTB9ocE0oDr5qbTwnVL0Qwgqp4f7aocGqSCHU1r4N9/zYpIncpX1msQ bibYBFsLmUWO6RPAgcLh9SPhIZITMm4uqz6LCKGJP8n1z84NOVXggvjqw X-Gm-Gg: ASbGncuu9BgBeesyy3Fgo/qdntrV2a01f9PV6E8PJEOryh9Pyzxgl7qF1xIBv65Cj11 lR8KX1XSbk/kozmsPcMroPRjHatBud0BfGQYpoSF9WXlmN9FZdeTNL+3SiZ4S6Am7HsmxdlHq74 7tFKEw/bQ6dSe6hSDEAn7wIYQxT3j9IOSOCWxnJYEjXR2Vxy784jci5UNkzWH/s4Z2snIm0RrEf nYsLbWqcOyFlAJZIDsz8Vb+RVBp0PrCLFEZkqjl3Z087ze7w4axbBkOAz+9CXQNifyOF3D2vCTI Z+nvgEqYtiPVTRQiCazvl27aaJ6BId2zeLFkfdzXjdrfk0PC X-Google-Smtp-Source: AGHT+IHgehYwBKb6pOG+L2oa+isQ0+pBk3F6ck1Ls4oVKfjPGFtJ0qmEpqeuGNrFAy/jbDyFk9zpf7wlP3WZ X-Received: by 2002:a05:6e02:3313:b0:3d8:1d2d:60b0 with SMTP id e9e14a558f8ab-3d95d243721mr17108095ab.5.1745888393683; Mon, 28 Apr 2025 17:59:53 -0700 (PDT) Received: from postal.iol.unh.edu (postal.iol.unh.edu. [2606:4100:3880:1234::84]) by smtp-relay.gmail.com with ESMTPS id 8926c6da1cb9f-4f8630ceb4csm16860173.71.2025.04.28.17.59.53 (version=TLS1_2 cipher=ECDHE-ECDSA-AES128-GCM-SHA256 bits=128/128); Mon, 28 Apr 2025 17:59:53 -0700 (PDT) X-Relaying-Domain: iol.unh.edu Date: Mon, 28 Apr 2025 17:59:53 -0700 (PDT) Message-ID: <68102489.050a0220.2bbfb4.0ed2SMTPIN_ADDED_MISSING@mx.google.com> Received: from [172.17.0.2] (unknown [172.18.0.76]) by postal.iol.unh.edu (Postfix) with ESMTP id 0E46B6052471; Mon, 28 Apr 2025 20:59:53 -0400 (EDT) Subject: |SUCCESS| pw153171 [PATCH] net/mlx5/hws: fix send queue drain on FW From: dpdklab@iol.unh.edu To: Test Report Cc: dpdk-test-reports@iol.unh.edu In-Reply-To: <20250427112821.108929-1-mkashani@nvidia.com> References: <20250427112821.108929-1-mkashani@nvidia.com> Content-Type: text/plain X-BeenThere: test-report@dpdk.org X-Mailman-Version: 2.1.29 Precedence: list List-Id: automatic DPDK test reports List-Unsubscribe: , List-Archive: List-Post: List-Help: List-Subscribe: , Errors-To: test-report-bounces@dpdk.org Test-Label: iol-sample-apps-testing Test-Status: SUCCESS http://dpdk.org/patch/153171 _Testing PASS RETEST #1_ Submitter: Maayan Kashani Date: Sunday, April 27 2025 11:28:21 DPDK git baseline: Repo:dpdk Branch: master CommitID:edd3f4b1265e6da707c46ca9b6c39d332647baea 153171 --> testing pass Upstream job id: Template-DTS-Pipeline#223400 Test environment and result as below: +--------------------+----------------------+----------------------+ | Environment | compressdev_zlib_pmd | dpdk_fips_validation | +====================+======================+======================+ | Ubuntu 22.04 (ARM) | PASS | SKIPPED | +--------------------+----------------------+----------------------+ | Ubuntu 22.04 | PASS | SKIPPED | +--------------------+----------------------+----------------------+ | Ubuntu 20.04 | SKIPPED | PASS | +--------------------+----------------------+----------------------+ Ubuntu 22.04 (ARM) Kernel: 5.15.0-97-generic Compiler: gcc gcc (Ubuntu 11.4.0-1ubuntu1~22.04) 11.4.0 Ubuntu 22.04 Kernel: 5.15.0-100-generic Compiler: gcc gcc (Ubuntu 11.4.0-1ubuntu1~22.04) 11.4.0 Ubuntu 20.04 Kernel: Depends on container host Compiler: gcc (Ubuntu 9.4.0-1ubuntu1~20.04.2) 9.4.0 To view detailed results, visit: https://lab.dpdk.org/results/dashboard/patchsets/33076/ UNH-IOL DPDK Community Lab To manage your email subscriptions, visit: https://lab.dpdk.org/results/dashboard/preferences/subscriptions/